BEGIN:VCALENDAR
VERSION:2.0
PRODID:-//Dhammapala - ECPv6.15.12.2//NONSGML v1.0//EN
CALSCALE:GREGORIAN
METHOD:PUBLISH
X-ORIGINAL-URL:https://backup.dhammapala.ch
X-WR-CALDESC:Events for Dhammapala
REFRESH-INTERVAL;VALUE=DURATION:PT1H
X-Robots-Tag:noindex
X-PUBLISHED-TTL:PT1H
BEGIN:VTIMEZONE
TZID:Europe/Zurich
BEGIN:DAYLIGHT
TZOFFSETFROM:+0100
TZOFFSETTO:+0200
TZNAME:CEST
DTSTART:20230326T010000
END:DAYLIGHT
BEGIN:STANDARD
TZOFFSETFROM:+0200
TZOFFSETTO:+0100
TZNAME:CET
DTSTART:20231029T010000
END:STANDARD
BEGIN:DAYLIGHT
TZOFFSETFROM:+0100
TZOFFSETTO:+0200
TZNAME:CEST
DTSTART:20240331T010000
END:DAYLIGHT
BEGIN:STANDARD
TZOFFSETFROM:+0200
TZOFFSETTO:+0100
TZNAME:CET
DTSTART:20241027T010000
END:STANDARD
BEGIN:DAYLIGHT
TZOFFSETFROM:+0100
TZOFFSETTO:+0200
TZNAME:CEST
DTSTART:20250330T010000
END:DAYLIGHT
BEGIN:STANDARD
TZOFFSETFROM:+0200
TZOFFSETTO:+0100
TZNAME:CET
DTSTART:20251026T010000
END:STANDARD
BEGIN:DAYLIGHT
TZOFFSETFROM:+0100
TZOFFSETTO:+0200
TZNAME:CEST
DTSTART:20260329T010000
END:DAYLIGHT
BEGIN:STANDARD
TZOFFSETFROM:+0200
TZOFFSETTO:+0100
TZNAME:CET
DTSTART:20261025T010000
END:STANDARD
END:VTIMEZONE
BEGIN:VEVENT
DTSTART;TZID=Europe/Zurich:20250727T090000
DTEND;TZID=Europe/Zurich:20250727T170000
DTSTAMP:20260421T120752
CREATED:20241110T075328Z
LAST-MODIFIED:20241110T075328Z
UID:7311-1753606800-1753635600@backup.dhammapala.ch
SUMMARY:Ajahn Khemasiri besucht Association Mudita in Lausanne
DESCRIPTION:27. Juli\, 09:00 – 17:00\n\n\n\nMeditationstag (engl. mit Übersetzung in franz.)
URL:https://backup.dhammapala.ch/veranstaltungen/ajahn-khemasiri-besucht-association-mudita-in-lausanne-4/
LOCATION:Salle du Tilleul\, 1081 Montpreveyres
CATEGORIES:All events,English courses,Vorträge und andere Veranstaltungen
ORGANIZER;CN="Association Mudita c/o Adriana Orellana%2C adriana@mudita.ch (Anmeldung)%2C Anne Michel (Informationen)":MAILTO:info@mudita.ch
END:VEVENT
BEGIN:VEVENT
DTSTART;TZID=Europe/Zurich:20250726T183000
DTEND;TZID=Europe/Zurich:20250726T210000
DTSTAMP:20260421T120752
CREATED:20241110T075143Z
LAST-MODIFIED:20241110T075143Z
UID:7309-1753554600-1753563600@backup.dhammapala.ch
SUMMARY:Ajahn Khemasiri besucht Association Mudita in Lausanne
DESCRIPTION:Abendvortrag und Meditationstag (engl. mit Übersetzung in franz.)
URL:https://backup.dhammapala.ch/veranstaltungen/ajahn-khemasiri-besucht-association-mudita-in-lausanne-3/
LOCATION:Salle du Tilleul\, 1081 Montpreveyres
CATEGORIES:All events,English courses,Vorträge und andere Veranstaltungen
ORGANIZER;CN="Association Mudita c/o Adriana Orellana%2C adriana@mudita.ch (Anmeldung)%2C Anne Michel (Informationen)":MAILTO:info@mudita.ch
END:VEVENT
BEGIN:VEVENT
DTSTART;TZID=Europe/Zurich:20250718T183000
DTEND;TZID=Europe/Zurich:20250720T130000
DTSTAMP:20260421T120752
CREATED:20241109T091535Z
LAST-MODIFIED:20250626T170347Z
UID:7296-1752863400-1753016400@backup.dhammapala.ch
SUMMARY:Einführungswochenende Deutsch (abgesagt)
DESCRIPTION:Kurssprache: Deutsch \n  \nDie Einführungswochenende vom 18. bis  20. Juli  2025  muss leider abgesagt werden. Anmeldungen werden für die später im Jahr geplanten Wochenenden gerne entgegengenommen. \nBitte beachten Sie den jeweiligen Buchungsbeginn. \n 
URL:https://backup.dhammapala.ch/veranstaltungen/einfuhrungswochenende-deutsch-2/
LOCATION:Kloster Dhammapala\, Bütschelsstrasse 74\, Kandersteg\, 3718\, Schweiz
CATEGORIES:All events,Wochenendkurse
END:VEVENT
BEGIN:VEVENT
DTSTART;VALUE=DATE:20250622
DTEND;VALUE=DATE:20250630
DTSTAMP:20260421T120752
CREATED:20241124T080820Z
LAST-MODIFIED:20241124T081245Z
UID:7353-1750550400-1751241599@backup.dhammapala.ch
SUMMARY:Retreat mit Ajahn Khemasiri im Lokuttara Vihara in Norwegen
DESCRIPTION:Skiptvet BuddhistklosterLundsveien 1961816 SkiptvetNorway \n\n\n\nContact \nFor general enquiries\, contact web@skogskloster.no \n\n\n  \n\n\n\n(+47) 909 66 462 \n7:30–10:30 AM on most days
URL:https://backup.dhammapala.ch/veranstaltungen/retreat-with-ajahn-khemasiri-at-skipvet-monastery-in-norway/
CATEGORIES:All events,English courses,Längere & auswärtige Kurse
END:VEVENT
BEGIN:VEVENT
DTSTART;TZID=Europe/Zurich:20250618T193000
DTEND;TZID=Europe/Zurich:20250618T210000
DTSTAMP:20260421T120752
CREATED:20241123T080258Z
LAST-MODIFIED:20241123T080258Z
UID:7349-1750275000-1750280400@backup.dhammapala.ch
SUMMARY:Tan Manuñño besucht die Meditationsgruppe in Genf
DESCRIPTION:French/English
URL:https://backup.dhammapala.ch/veranstaltungen/tan-manunno-besucht-die-meditationsgruppe-in-genf/
LOCATION:tba\, Genève\, 1227\, Switzerland
CATEGORIES:All events,English courses,Vorträge und andere Veranstaltungen
END:VEVENT
BEGIN:VEVENT
DTSTART;TZID=Europe/Zurich:20250606T183000
DTEND;TZID=Europe/Zurich:20250608T130000
DTSTAMP:20260421T120752
CREATED:20241109T091139Z
LAST-MODIFIED:20250521T072529Z
UID:7292-1749234600-1749387600@backup.dhammapala.ch
SUMMARY:Einführungswochenende Englisch (abgesagt)
DESCRIPTION:Kurssprache: Englisch \n  \nDas Einführungswochenende vom 6. bis 8. Juni  2025  muss leider abgesagt werden. Anmeldungen  für die später im Jahr geplanten Wochenenden und Kurse werden gerne entgegengenommen. \nBitte beachten Sie den jeweiligen Buchungsbeginn.
URL:https://backup.dhammapala.ch/veranstaltungen/einfuhrungswochenende-englisch/
LOCATION:Kloster Dhammapala\, Bütschelsstrasse 74\, Kandersteg\, 3718\, Schweiz
CATEGORIES:All events,English courses,Wochenendkurse
END:VEVENT
BEGIN:VEVENT
DTSTART;VALUE=DATE:20250521
DTEND;VALUE=DATE:20250526
DTSTAMP:20260421T120752
CREATED:20241220T173029Z
LAST-MODIFIED:20241220T184933Z
UID:7388-1747785600-1748217599@backup.dhammapala.ch
SUMMARY:Ajahn Khemasiri lehrt auf Sardinien (Eng/Ita) 21. bis 25. Mai 2025
DESCRIPTION:Kursspachen: Englisch/Italienisch \nWeitere Informationen zum Kursort und zur Registrierung folgen.
URL:https://backup.dhammapala.ch/veranstaltungen/ajahn-khemasiri-lehrt-auf-sardinien-eng-ita-21-bis-25-mai-2025/
END:VEVENT
BEGIN:VEVENT
DTSTART;TZID=Europe/Zurich:20250518T100000
DTEND;TZID=Europe/Zurich:20250518T150000
DTSTAMP:20260421T120752
CREATED:20241109T082826Z
LAST-MODIFIED:20250331T115719Z
UID:7284-1747562400-1747580400@backup.dhammapala.ch
SUMMARY:Vesak-Feier im Gemeindesaal Kandersteg
DESCRIPTION:Diese Feier setzt sich aus vier verschiedenen Teilen zusammen. Sie beginnt mit der Möglichkeit der formellen Zufluchtnahme zu Buddha\, Dhamma und Sangha und der damit einhergehenden Bekennung zu einer ethisch integren Lebensweise (fünf ethische Grundsätze). Danach folgt eine Segensrezitation (Chanting) der Mönche in der Pali-Sprache\, bestehend aus kurzen inspirierenden Lehrreden des Buddha als auch später hinzugefügten Segens- und Schutzversen der Theravada-Tradition. \nDie darauf folgende Mittagspause und die gemeinsame Mahlzeit stellen den geselligen zweiten Teil dar. \nIm dritten und kontemplativen Teil der Feier\, wird einer der Mönche einen Dhamma-Vortrag halten. \nDer abschließende und zeremonielle Teil der Feier besteht aus einer gemeinsamen Umgehung eines Buddha-Altars mit Blumen\, Kerzen und Räucherwerk – draussen\, wenn es die Witterung zulässt\, ansonsten im Saal.
URL:https://backup.dhammapala.ch/veranstaltungen/vesakh-feier-im-gemeindesaal-kandersteg/
LOCATION:Gemeindesaal Kandersteg\, Äussere Dorfstr. 26\, Kandersteg
CATEGORIES:All events,Vorträge und andere Veranstaltungen
END:VEVENT
BEGIN:VEVENT
DTSTART;TZID=Europe/Zurich:20250508T193000
DTEND;TZID=Europe/Zurich:20250508T213000
DTSTAMP:20260421T120752
CREATED:20241109T092207Z
LAST-MODIFIED:20241109T092207Z
UID:7300-1746732600-1746739800@backup.dhammapala.ch
SUMMARY:Ajahn Khemasiri besucht Kalyana-Mitta-Gruppe in Basel
DESCRIPTION:
URL:https://backup.dhammapala.ch/veranstaltungen/ajahn-khemasiri-besucht-kalyana-mitta-gruppe-in-basel/
LOCATION:Kalyana-Mitta-Gruppe\, Ramsteinerstrasse 16\, Basel\, Basel\, 4052\, Deutschland
CATEGORIES:All events,Vorträge und andere Veranstaltungen
END:VEVENT
BEGIN:VEVENT
DTSTART;TZID=Europe/Zurich:20250505T193000
DTEND;TZID=Europe/Zurich:20250505T213000
DTSTAMP:20260421T120752
CREATED:20241109T090339Z
LAST-MODIFIED:20241109T090339Z
UID:7286-1746473400-1746480600@backup.dhammapala.ch
SUMMARY:Ajahn Viranando besucht die Dhamma-Gruppe in Zürich
DESCRIPTION:
URL:https://backup.dhammapala.ch/veranstaltungen/ajahn-viranando-besucht-die-dhamma-gruppe-in-zurich/
LOCATION:Quartierhaus Kreis 6\, Langmauerstr. 7 \, Zürich\, 8006\, Switzerland
CATEGORIES:All events,Vorträge und andere Veranstaltungen
END:VEVENT
BEGIN:VEVENT
DTSTART;TZID=Europe/Zurich:20250430T193000
DTEND;TZID=Europe/Zurich:20250430T210000
DTSTAMP:20260421T120752
CREATED:20241123T080433Z
LAST-MODIFIED:20241123T080433Z
UID:7351-1746041400-1746046800@backup.dhammapala.ch
SUMMARY:Tan Manuñño besucht die Meditationsgruppe in Genf
DESCRIPTION:French/English
URL:https://backup.dhammapala.ch/veranstaltungen/tan-manunno-besucht-die-meditationsgruppe-in-genf-2/
LOCATION:tba\, Genève\, 1227\, Switzerland
CATEGORIES:All events,English courses,Vorträge und andere Veranstaltungen
END:VEVENT
BEGIN:VEVENT
DTSTART;TZID=Europe/Zurich:20250427T080000
DTEND;TZID=Europe/Zurich:20250427T170000
DTSTAMP:20260421T120752
CREATED:20241110T080141Z
LAST-MODIFIED:20241110T080248Z
UID:7302-1745740800-1745773200@backup.dhammapala.ch
SUMMARY:Ajahn Khemasiri besucht Zürich Insight in Baden
DESCRIPTION:
URL:https://backup.dhammapala.ch/veranstaltungen/ajahn-khemasiri-besucht-zurich-insight-in-baden/
LOCATION:Namaste Yoga\, Baden\, Kronengasse 20F\, Baden\, 5400
CATEGORIES:All events,Vorträge und andere Veranstaltungen
ORGANIZER;CN="Insight Z%C3%BCrich":MAILTO:events@insight-zuerich.ch
END:VEVENT
BEGIN:VEVENT
DTSTART;TZID=Europe/Zurich:20250417T190000
DTEND;TZID=Europe/Zurich:20250421T130000
DTSTAMP:20260421T120752
CREATED:20241109T093233Z
LAST-MODIFIED:20250408T202340Z
UID:7306-1744916400-1745240400@backup.dhammapala.ch
SUMMARY:Osterkurs mit Ajahn Khemasiri (abgesagt)
DESCRIPTION:Der Osterkurs  vom 17. bis 21. April 2025  muss leider abgesagt werden. Anmeldungen  für die später im Jahr geplanten Wochenenden und Kurse werden gerne entgegengenommen. \nBitte beachten Sie den jeweiligen Buchungsbeginn.
URL:https://backup.dhammapala.ch/veranstaltungen/osterkurs-mit-ajahn-khemasiri-4/
LOCATION:Kloster Dhammapala\, Bütschelsstrasse 74\, Kandersteg\, 3718\, Schweiz
CATEGORIES:All events,Längere & auswärtige Kurse
END:VEVENT
BEGIN:VEVENT
DTSTART;TZID=Europe/Zurich:20250416T191500
DTEND;TZID=Europe/Zurich:20250416T210000
DTSTAMP:20260421T120752
CREATED:20241123T075706Z
LAST-MODIFIED:20241123T075706Z
UID:7343-1744830900-1744837200@backup.dhammapala.ch
SUMMARY:Ajahn Viranando besucht das Zentrum für Buddhismus in Bern
DESCRIPTION:
URL:https://backup.dhammapala.ch/veranstaltungen/ajahn-viranando-besucht-das-zentrum-fur-buddhismus-in-bern/
LOCATION:Zentrum für Buddhismus\, Reiterstrasse 2\, Bern\, 3013\, Switzerland
CATEGORIES:All events,Vorträge und andere Veranstaltungen
ORGANIZER;CN="Vipassana Meditationsgruppe%2C Zentrum f%C3%BCr Buddhismus in Bern":MAILTO:kontakt@zentrumfuerbuddhismus.ch
END:VEVENT
BEGIN:VEVENT
DTSTART;TZID=Europe/Zurich:20250404T183000
DTEND;TZID=Europe/Zurich:20250406T130000
DTSTAMP:20260421T120752
CREATED:20241109T090921Z
LAST-MODIFIED:20250324T084040Z
UID:7290-1743791400-1743944400@backup.dhammapala.ch
SUMMARY:Einführungswochenende Deutsch  - abgesagt
DESCRIPTION:Die Einführungswochenende vom 4. bis 6. April 2025  muss leider abgesagt werden. Anmeldungen werden für die später im Jahr geplanten Wochenenden gerne entgegengenommen. \nBitte beachten Sie den jeweiligen Buchungsbeginn. \n 
URL:https://backup.dhammapala.ch/veranstaltungen/einfuhrungswochenende-deutsch/
LOCATION:Kloster Dhammapala\, Bütschelsstrasse 74\, Kandersteg\, 3718\, Schweiz
CATEGORIES:All events,Wochenendkurse
END:VEVENT
BEGIN:VEVENT
DTSTART;TZID=Europe/Zurich:20241226T190000
DTEND;TZID=Europe/Zurich:20250102T130000
DTSTAMP:20260421T120752
CREATED:20231116T200102Z
LAST-MODIFIED:20241215T135832Z
UID:6817-1735239600-1735822800@backup.dhammapala.ch
SUMMARY:Neujahrskurs mit Ajahn Abhinando (abgesagt)
DESCRIPTION:Kurssprache: Deutsch \nNur für erfahrene Meditierende\, die bereits mit dem Kloster Dhammapala vertraut sind. \nAnmeldung ab 26.06.2024 Gastanmeldeformular \nWenn Sie an dem Kurs teilnehmen möchten\, schicken Sie uns  bitte das  Formular  (siehe Link oben) und unterschrieben  per Mail oder per Post zu. Sie werden von uns im Anschluss weitere Informationen bzw. eine Bestätigung  erhalten. \nDas Kloster wird ausschliesslich durch Spenden unterstützt und erhebt daher keine festen Kurskosten. Eine Geldspende am Ende des Kurses wird dankbar entgegengenommen. \nStatt einer Lebensmittelgabe zu Beginn wird aus organisatorischen Gründen eine Spende für Lebensmittel (Empfehlung: CHF 90.- oder EUR 90.- ) erbeten. Bitte überweisen Sie den Beitrag erst nach Erhalt einer Teilnahmebestätigung.
URL:https://backup.dhammapala.ch/veranstaltungen/neujahrskurs-mit-ajahn-abhinando-6/
LOCATION:Kloster Dhammapala\, Bütschelsstrasse 74\, Kandersteg\, 3718\, Schweiz
CATEGORIES:All events,Längere & auswärtige Kurse
END:VEVENT
BEGIN:VEVENT
DTSTART;TZID=Europe/Zurich:20241201T180000
DTEND;TZID=Europe/Zurich:20241201T200000
DTSTAMP:20260421T120752
CREATED:20241113T204202Z
LAST-MODIFIED:20241113T204202Z
UID:7329-1733076000-1733083200@backup.dhammapala.ch
SUMMARY:Weihnachts-Dhammatalk mit Ajahn Khemasiri
DESCRIPTION:Ort: Online via Zoom \n“Emulate\, don’t imitate”* – in den Fußstapfen eines Meisters \nEin Leben als Mönch in der thailändischen Waldtradition \n\n\nTeilnahme auf Dāna-Basis \nZoom Link zur Veranstaltungszeit: \n\n\noder \nMeeting-ID: 955 5579 2004 \nKenncode: Dhamma
URL:https://backup.dhammapala.ch/veranstaltungen/weihnachts-dhammatalk-mit-ajahn-khemasiri/
LOCATION:Buddha-Talk Zoom
END:VEVENT
BEGIN:VEVENT
DTSTART;TZID=Europe/Zurich:20241120T190000
DTEND;TZID=Europe/Zurich:20241124T163000
DTSTAMP:20260421T120752
CREATED:20240513T145334Z
LAST-MODIFIED:20241016T141407Z
UID:6896-1732129200-1732465800@backup.dhammapala.ch
SUMMARY:Vipassana-Einsichtsdialog-Kurs mit Bhante Sukhacitto - abgesagt- Alternativangebot vorhanden
DESCRIPTION:Kurssprache: Deutsch \nFür mehr Informationen über den Einsichtsdialog\, besuchen Sie bitte Bhante Sukhacittos Webseite\, oder schauen Sie sich Bhantes Einführung im Video zum Einsichtsdialog an. \nBhante Sukhacitto bietet eine Alternative zu dem abgesagten Kurs  in Bern anAlternativangebot Einsichtsdialog \n  \n 
URL:https://backup.dhammapala.ch/veranstaltungen/vipassana-einsichtsdialog-kurs-mit-bhante-sukhacitto-4/
LOCATION:Kloster Dhammapala\, Bütschelsstrasse 74\, Kandersteg\, 3718\, Schweiz
CATEGORIES:All events,Längere & auswärtige Kurse
END:VEVENT
BEGIN:VEVENT
DTSTART;TZID=Europe/Zurich:20241117T140000
DTEND;TZID=Europe/Zurich:20241117T170000
DTSTAMP:20260421T120752
CREATED:20240910T195137Z
LAST-MODIFIED:20240910T195137Z
UID:7224-1731852000-1731862800@backup.dhammapala.ch
SUMMARY:Meditationsnachmittag mit A. Khemasiri in Baden
DESCRIPTION:Programm: \n\nDhamma Talk (Vortrag)\nGeleitete Meditation\nGehmeditation\nFragen und Antworten\nLiebende Güte Meditation\n\nDie Teilnahme ist kostenlos\, eine freiwillige Spende ist jedoch möglich \nAnmeldung bitte bei: Regina Ongetta\, Tel. 077 432 23 58\, E-mail: r.ongetta@gmx.ch \nOrt: Namaste Yoga Baden\, Kronengasse 20F\, 5400 Baden
URL:https://backup.dhammapala.ch/veranstaltungen/meditationsnachmittag-mit-a-khemasiri-in-baden/
END:VEVENT
BEGIN:VEVENT
DTSTART;TZID=Europe/Zurich:20241108T183000
DTEND;TZID=Europe/Zurich:20241110T130000
DTSTAMP:20260421T120752
CREATED:20231116T093340Z
LAST-MODIFIED:20241016T140714Z
UID:6802-1731090600-1731243600@backup.dhammapala.ch
SUMMARY:Einführungswochenende  - abgesagt -
DESCRIPTION:Info: Das Einführungswochenende wird eines Bauvorhabens abgesagt. \nInhalt: Die Einführungswochenenden sind für Personen gedacht\, die noch nicht mit unserer Tradition vertraut sind. Die Teilnehmenden erhalten Einführungen sowohl in die Meditation und die Lehren des Buddha als auch in die Geschichte und Eigenheiten der Thailändischen Waldtradition sowie auch in alle praktischen Aspekte eines Aufenthaltes im Kloster Dhammapala. \nDas Kloster wird ausschliesslich von Spenden unterstützt und erhebt deswegen keine festen Kurskosten. Eine Lebensmittelgabe zu Beginn als auch eine Geldspende am Ende des Kurses werden dankbar entgegengenommen. \nEinführungswochenende Tagesablauf
URL:https://backup.dhammapala.ch/veranstaltungen/einfuhrungswochenende-6/
LOCATION:Kloster Dhammapala\, Bütschelsstrasse 74\, Kandersteg\, 3718\, Schweiz
CATEGORIES:All events,Wochenendkurse
END:VEVENT
BEGIN:VEVENT
DTSTART;TZID=Europe/Zurich:20241020T100000
DTEND;TZID=Europe/Zurich:20241020T150000
DTSTAMP:20260421T120752
CREATED:20231116T195622Z
LAST-MODIFIED:20231116T195622Z
UID:6813-1729418400-1729436400@backup.dhammapala.ch
SUMMARY:Kathina Feier im Gemeindesaal Kandersteg
DESCRIPTION:Diese von der Laien-Gemeinschaft des Klosters initiierte Feier dient vorwiegend dazu\, den Mönchen nach Vollendung der ‚Regenzeit‘- Klausur Bedarfsartikel zukommen zu lassen. Da in unseren Breiten bereits der Winter vor der Tür steht\, eignen sich besonders die Dinge\, die der Gemeinschaft während des langen alpinen Winters nützlich sein könnten.\nTraditionell wird im Rahmen eines Zeremoniells vor allem auch ein Stück Robenstoff überreicht\, welches die Mönche selbst noch am selben Tag zu einer fertigen Robe nähen sollten. Nach deren Fertigstellung wird einem von ihnen gewähltem Mönch diese Robe feierlich überreicht.
URL:https://backup.dhammapala.ch/veranstaltungen/kathina-feier-im-gemeindesaal-kandersteg-4/
LOCATION:Gemeindesaal Kandersteg\, Äussere Dorfstr. 26\, Kandersteg
CATEGORIES:All events,Vorträge und andere Veranstaltungen
END:VEVENT
BEGIN:VEVENT
DTSTART;TZID=Europe/Zurich:20241016T191500
DTEND;TZID=Europe/Zurich:20241016T191500
DTSTAMP:20260421T120752
CREATED:20231116T075919Z
LAST-MODIFIED:20231116T075919Z
UID:6782-1729106100-1729106100@backup.dhammapala.ch
SUMMARY:Ajahn Abhinando besucht das Zentrum für Buddhismus in Bern
DESCRIPTION:
URL:https://backup.dhammapala.ch/veranstaltungen/ajahn-abhinando-besucht-das-zentrum-fur-buddhismus-in-bern-9/
LOCATION:Zentrum für Buddhismus\, Reiterstrasse 2\, Bern\, 3013\, Switzerland
CATEGORIES:All events,Vorträge und andere Veranstaltungen
ORGANIZER;CN="Vipassana Meditationsgruppe%2C Zentrum f%C3%BCr Buddhismus in Bern":MAILTO:kontakt@zentrumfuerbuddhismus.ch
END:VEVENT
BEGIN:VEVENT
DTSTART;VALUE=DATE:20241010
DTEND;VALUE=DATE:20241014
DTSTAMP:20260421T120752
CREATED:20231116T195759Z
LAST-MODIFIED:20240722T090507Z
UID:6815-1728518400-1728863999@backup.dhammapala.ch
SUMMARY:Ajahn Khemasiri leitet einen Kurs in Gdynia (Eng)
DESCRIPTION:Location: Green Hill\, ul. Inżynierska\, Gdynia-Orłowo\, Poland Instagram: @greenhillgdynia \nStarting on Thursday the 10th October at 18:00 with a Dhamma talk and guided meditation open to the public and then continuing as a retreat for pre-registrated participants only\, finishing on Sunday afternoon. \nThe course will be a silent retreat only suited for people with prior meditation experience who decide to participate for the whole three days. \nCost: According to Buddhist tradition the teachings are priceless and are offered freely. But a freewill donation towards the monastery of the teacher will be gratefully appreciated. However prior to the retreat a monetary contribution to the cost of accommodation and food will be collected by the hosts of the venue. \nFor detailed information and registration please send an e-mail to: GdyniaRetreat@gmail.com
URL:https://backup.dhammapala.ch/veranstaltungen/ajahn-khemasiri-leitet-einen-kurs-in-gdynia-eng-pol/
CATEGORIES:All events,English courses,Längere & auswärtige Kurse
END:VEVENT
BEGIN:VEVENT
DTSTART;TZID=Europe/Zurich:20240930T193000
DTEND;TZID=Europe/Zurich:20240930T210000
DTSTAMP:20260421T120752
CREATED:20231116T091805Z
LAST-MODIFIED:20231116T091805Z
UID:6791-1727724600-1727730000@backup.dhammapala.ch
SUMMARY:Ajahn Abhinando besucht die Dhamma-Gruppe in Zürich
DESCRIPTION:
URL:https://backup.dhammapala.ch/veranstaltungen/ajahn-abhinando-besucht-die-dhamma-gruppe-in-zurich-9/
LOCATION:Quartierhaus Kreis 6\, Langmauerstr. 7 \, Zürich\, 8006\, Switzerland
CATEGORIES:All events,Vorträge und andere Veranstaltungen
END:VEVENT
BEGIN:VEVENT
DTSTART;TZID=Europe/Zurich:20240927T183000
DTEND;TZID=Europe/Zurich:20240929T130000
DTSTAMP:20260421T120752
CREATED:20231116T093105Z
LAST-MODIFIED:20240902T103747Z
UID:6800-1727461800-1727614800@backup.dhammapala.ch
SUMMARY:Einführungswochenende (English) ausgebucht für Männer- Warteliste
DESCRIPTION:Kurssprache: Englisch \n  \nDie Einführungswochenenden sind für Personen gedacht\, die noch nicht mit unserer Tradition vertraut sind. Die Teilnehmenden erhalten Einführungen sowohl in die Meditation und die Lehren des Buddha als auch in die Geschichte und Eigenheiten der Thailändischen Waldtradition sowie auch in alle praktischen Aspekte eines Aufenthaltes im Kloster Dhammapala. \nDas Kloster wird ausschliesslich durch Spenden unterstützt und erhebt daher keine festen Kurskosten. Eine Lebensmittelgabe zu Beginn als auch eine Geldspende am Ende des Kurses werden dankbar entgegengenommen. \nAnmeldung ab 27.06.24 Guestregistration_eng \nBitte das Formular ausgefüllt per E-mail oder Post an das Kloster schicken (Teilnahmebedingung). \nEN_Introductory Weekend_schedule
URL:https://backup.dhammapala.ch/veranstaltungen/einfuhrungswochenende-english-2/
LOCATION:Kloster Dhammapala\, Bütschelsstrasse 74\, Kandersteg\, 3718\, Schweiz
CATEGORIES:All events,English courses,Wochenendkurse
END:VEVENT
BEGIN:VEVENT
DTSTART;TZID=Europe/Zurich:20240925T193000
DTEND;TZID=Europe/Zurich:20240925T210000
DTSTAMP:20260421T120752
CREATED:20231116T091007Z
LAST-MODIFIED:20231116T091007Z
UID:6784-1727292600-1727298000@backup.dhammapala.ch
SUMMARY:Ajahn Abhinando besucht die Meditationsgruppe in Genf (Engl.)
DESCRIPTION:
URL:https://backup.dhammapala.ch/veranstaltungen/ajahn-abhinando-besucht-die-meditationsgruppe-in-genf-engl/
LOCATION:tba\, Genève\, 1227\, Switzerland
CATEGORIES:All events,Vorträge und andere Veranstaltungen
END:VEVENT
BEGIN:VEVENT
DTSTART;TZID=Europe/Zurich:20240831T190000
DTEND;TZID=Europe/Zurich:20240907T110000
DTSTAMP:20260421T120752
CREATED:20231116T195352Z
LAST-MODIFIED:20240725T095053Z
UID:6811-1725130800-1725706800@backup.dhammapala.ch
SUMMARY:Septemberkurs mit Ajahn Khemasiri
DESCRIPTION:Thema des Kurses: Das grenzenlose\, erwachte Herz \nLiebe und Mitgefühl sind integrale Aspekte unserer wahren Natur und daher nicht davon zu trennen. \nIn der buddh. Lehre wird das Erwachen meist umschrieben mit ‘erwachter Geist’ statt ‘erwachtes Herz’\, vielleicht weil ‘Geist’ uns zugänglicher erscheint als das Herz. Aber die tieferen und bereichernden Dimensionen des Erwachens umschließen sowohl Herz als auch Geist (Pali: citta). Denn es geht nicht nur um die Befreiung von der Identifikation mit dem Gedanken und Bilder produzierenden Geist\, sondern vor allem auch um das Erwecken der empathischen und liebevollen Verbundenheit\, die ganz natürlich aus dem erwachenden Herzen fließt. \nUnseren persönlichen und zwischenmenschlichen Konflikten unterliegt oft ein fundamentaler Mangel an tiefempfundener Fürsorge und Liebe. Wir sind so sehr abhängig von unseren gedanklichen Identitäten und unseren persönlichen und kollektiven Ideologien\, dass wir völlig vergessen zu haben scheinen\, dass sich inmitten all der Unterschiede in Bezug auf Hintergrund und Lebensauffassung ein gemeinsames Band der Herzensverbindung und der gegenseitigen Fürsorge befindet. Wir haben zwar heutzutage zahllose Möglichkeiten\, unsere unterschiedichen Auffassungen via moderner Technologie zu äußern\, aber unser kollektives Herz verkümmert dabei oft mit verheerenden Konsequenzen. \nDie Belehrungen und geführten Meditationen während dieses Retreats sind daher direkt auf das Erwachen fokussiert. Wir werden versuchen\, uns mit dem grenzenlosen Herz und der liebevollen Zuwendung zu verbinden\, die völlig natürliche Aspekte unserer wahren Natur darstellen. Diese tiefere Verbindung mit unserer Fähigkeit zu Güte und Wohlwollen stellt sowohl einen individuellen Segen dar als auch eine bewusste Anerkennung der unermesslichen Verbundenheit allen Lebens. \nDer Kurs ist nur für Menschen geeignet\, die bereits Kurserfahrung haben.\nMinimale Voraussetzung ist die Teilnahme an einem Wochenend-Retreat. \nAnmeldung ab 01.03.2024 Gastanmeldeformular \nWenn Sie an dem Kurs teilnehmen möchten\, schicken Sie uns  bitte das  Formular  (siehe Link oben) ausgefüllt und unterschrieben  per Mail oder per Post zu. Sie werden von uns im Anschluss  eine Bestätigung  und weitere Informationen  erhalten. \nDas Kloster wird ausschliesslich durch Spenden unterstützt und erhebt daher keine festen Kurskosten. Eine Geldspende am Ende des Kurses wird dankbar entgegengenommen. \nStatt einer Lebensmittelgabe zu Beginn wird aus organisatorischen Gründen eine Spende für Lebensmittel (CHF 90.- oder EUR 90.- ) erbeten. Bitte überweisen Sie den Beitrag erst nach Erhalt einer Teilnahmebestätigung. \n 
URL:https://backup.dhammapala.ch/veranstaltungen/septemberkurs-mit-ajahn-khemasiri-4/
LOCATION:Kloster Dhammapala\, Bütschelsstrasse 74\, Kandersteg\, 3718\, Schweiz
CATEGORIES:All events,Längere & auswärtige Kurse
END:VEVENT
BEGIN:VEVENT
DTSTART;TZID=Europe/Zurich:20240814T191500
DTEND;TZID=Europe/Zurich:20240814T191500
DTSTAMP:20260421T120752
CREATED:20240725T103001Z
LAST-MODIFIED:20240725T103008Z
UID:7176-1723662900-1723662900@backup.dhammapala.ch
SUMMARY:Ajahn Khemasiri besucht das Zentrum für Buddhismus in Bern
DESCRIPTION:
URL:https://backup.dhammapala.ch/veranstaltungen/ajahn-khemasiri-besucht-das-zentrum-fur-buddhismus-in-bern-2/
LOCATION:Zentrum für Buddhismus\, Reiterstrasse 2\, Bern\, 3013\, Switzerland
END:VEVENT
BEGIN:VEVENT
DTSTART;TZID=Europe/Zurich:20240804T090000
DTEND;TZID=Europe/Zurich:20240804T170000
DTSTAMP:20260421T120752
CREATED:20240213T075927Z
LAST-MODIFIED:20240213T080050Z
UID:6963-1722762000-1722790800@backup.dhammapala.ch
SUMMARY:Ajahn Khemasiri besucht Association Mudita in Lausanne
DESCRIPTION:Meditationstag (engl. mit Übersetzung in franz.)
URL:https://backup.dhammapala.ch/veranstaltungen/ajahn-khemasiri-besucht-association-mudita-in-lausanne-2/
LOCATION:Salle du Tilleul\, 1081 Montpreveyres
CATEGORIES:All events,Vorträge und andere Veranstaltungen
ORGANIZER;CN="Association Mudita c/o Adriana Orellana%2C adriana@mudita.ch (Anmeldung)%2C Anne Michel (Informationen)":MAILTO:info@mudita.ch
END:VEVENT
BEGIN:VEVENT
DTSTART;TZID=Europe/Zurich:20240803T183000
DTEND;TZID=Europe/Zurich:20240803T210000
DTSTAMP:20260421T120752
CREATED:20240213T075249Z
LAST-MODIFIED:20240213T080132Z
UID:6954-1722709800-1722718800@backup.dhammapala.ch
SUMMARY:Ajahn Khemasiri besucht Association Mudita in Lausanne
DESCRIPTION:Abendvortrag und Meditationstag (engl. mit Übersetzung in franz.) \n 
URL:https://backup.dhammapala.ch/veranstaltungen/ajahn-khemasiri-besucht-association-mudita-in-lausanne/
LOCATION:Salle du Tilleul\, 1081 Montpreveyres
CATEGORIES:All events,Vorträge und andere Veranstaltungen
ORGANIZER;CN="Association Mudita c/o Adriana Orellana%2C adriana@mudita.ch (Anmeldung)%2C Anne Michel (Informationen)":MAILTO:info@mudita.ch
END:VEVENT
END:VCALENDAR