BEGIN:VCALENDAR
VERSION:2.0
PRODID:-//Dhammapala - ECPv6.15.12.2//NONSGML v1.0//EN
CALSCALE:GREGORIAN
METHOD:PUBLISH
X-WR-CALNAME:Dhammapala
X-ORIGINAL-URL:https://backup.dhammapala.ch
X-WR-CALDESC:Events for Dhammapala
REFRESH-INTERVAL;VALUE=DURATION:PT1H
X-Robots-Tag:noindex
X-PUBLISHED-TTL:PT1H
BEGIN:VTIMEZONE
TZID:Europe/Zurich
BEGIN:DAYLIGHT
TZOFFSETFROM:+0100
TZOFFSETTO:+0200
TZNAME:CEST
DTSTART:20160327T010000
END:DAYLIGHT
BEGIN:STANDARD
TZOFFSETFROM:+0200
TZOFFSETTO:+0100
TZNAME:CET
DTSTART:20161030T010000
END:STANDARD
BEGIN:DAYLIGHT
TZOFFSETFROM:+0100
TZOFFSETTO:+0200
TZNAME:CEST
DTSTART:20170326T010000
END:DAYLIGHT
BEGIN:STANDARD
TZOFFSETFROM:+0200
TZOFFSETTO:+0100
TZNAME:CET
DTSTART:20171029T010000
END:STANDARD
BEGIN:DAYLIGHT
TZOFFSETFROM:+0100
TZOFFSETTO:+0200
TZNAME:CEST
DTSTART:20180325T010000
END:DAYLIGHT
BEGIN:STANDARD
TZOFFSETFROM:+0200
TZOFFSETTO:+0100
TZNAME:CET
DTSTART:20181028T010000
END:STANDARD
BEGIN:DAYLIGHT
TZOFFSETFROM:+0100
TZOFFSETTO:+0200
TZNAME:CEST
DTSTART:20190331T010000
END:DAYLIGHT
BEGIN:STANDARD
TZOFFSETFROM:+0200
TZOFFSETTO:+0100
TZNAME:CET
DTSTART:20191027T010000
END:STANDARD
BEGIN:DAYLIGHT
TZOFFSETFROM:+0100
TZOFFSETTO:+0200
TZNAME:CEST
DTSTART:20200329T010000
END:DAYLIGHT
BEGIN:STANDARD
TZOFFSETFROM:+0200
TZOFFSETTO:+0100
TZNAME:CET
DTSTART:20201025T010000
END:STANDARD
END:VTIMEZONE
BEGIN:VEVENT
DTSTART;TZID=Europe/Zurich:20190829T193000
DTEND;TZID=Europe/Zurich:20190829T193000
DTSTAMP:20260421T221631
CREATED:20181212T095234Z
LAST-MODIFIED:20181212T095234Z
UID:3272-1567107000-1567107000@backup.dhammapala.ch
SUMMARY:Ajahn Abhinando besucht das Kalyanamitta Zentrum in Basel
DESCRIPTION:
URL:https://backup.dhammapala.ch/veranstaltungen/ajahn-abhinando-besucht-das-kalyanamitta-zentrum-in-basel-4/
LOCATION:Kalyana-Mitta\, Ramsteinerstrasse 16\, Basel\, 4052\, Schweiz
CATEGORIES:All events,Vorträge und andere Veranstaltungen
END:VEVENT
BEGIN:VEVENT
DTSTART;TZID=Europe/Zurich:20190619T193000
DTEND;TZID=Europe/Zurich:20190619T213000
DTSTAMP:20260421T221631
CREATED:20181216T091822Z
LAST-MODIFIED:20190405T081709Z
UID:3292-1560972600-1560979800@backup.dhammapala.ch
SUMMARY:Ajahn Abhinando besucht die Meditationsgruppe in Genf
DESCRIPTION:Diese Gruppe trifft sich regelmäßig – etwa einmal im Monat – Mittwoch abends um 19:30h. \nNeben Mönchen und Nonnen aus dem Forest Sangha werden auch andere Lehrer und Lehrerinnen von der Gruppe eingeladen\, um dort Vorträge zu halten. Die Vorträge werden generell in englischer Sprache gehalten (ohne Übersetzung).
URL:https://backup.dhammapala.ch/veranstaltungen/bhikkhu-bodhinando-besucht-die-meditationsgruppe-in-genf/
LOCATION:tba\, Genève\, 1227\, Switzerland
CATEGORIES:All events,Vorträge und andere Veranstaltungen
END:VEVENT
BEGIN:VEVENT
DTSTART;TZID=Europe/Zurich:20190603T193000
DTEND;TZID=Europe/Zurich:20190603T213000
DTSTAMP:20260421T221631
CREATED:20181122T181132Z
LAST-MODIFIED:20181122T181132Z
UID:3234-1559590200-1559597400@backup.dhammapala.ch
SUMMARY:Ajahn Abhinando besucht die Dhamma-Gruppe in Zürich
DESCRIPTION:Diese Gruppe trifft sich wöchentlich jeweils am Montag Abend um 19:30 Uhr zur Meditation und zu Belehrungen durch Gastlehrer und -lehrerinnen.
URL:https://backup.dhammapala.ch/veranstaltungen/ajahn-abhinando-besucht-die-dhamma-gruppe-in-zuerich-3/
LOCATION:Quartierhaus Kreis 6\, Langmauerstr. 7 \, Zürich\, 8006\, Switzerland
CATEGORIES:Vorträge und andere Veranstaltungen
ORGANIZER;CN="Maya K%C3%BCchler Tel%3A 044 %E2%80%93 391 68 72 und Rolf Hafner Tel%3A 079 %E2%80%93 358 90 77":MAILTO:maya-kuechler@bluewin.ch
END:VEVENT
BEGIN:VEVENT
DTSTART;TZID=Europe/Zurich:20190529T191500
DTEND;TZID=Europe/Zurich:20190529T210000
DTSTAMP:20260421T221631
CREATED:20181122T180512Z
LAST-MODIFIED:20181122T181803Z
UID:3230-1559157300-1559163600@backup.dhammapala.ch
SUMMARY:Ajahn Abhinando besucht das Zentrum für Buddhismus in Bern
DESCRIPTION:
URL:https://backup.dhammapala.ch/veranstaltungen/ajahn-abhinando-besucht-das-zentrum-fuer-buddhismus-in-bern-3/
LOCATION:Zentrum für Buddhismus\, Reiterstrasse 2\, Bern\, 3013\, Switzerland
CATEGORIES:Vorträge und andere Veranstaltungen
ORGANIZER;CN="Vipassana Meditationsgruppe%2C Zentrum f%C3%BCr Buddhismus in Bern":MAILTO:kontakt@zentrumfuerbuddhismus.ch
END:VEVENT
BEGIN:VEVENT
DTSTART;TZID=Europe/Zurich:20190526T150000
DTEND;TZID=Europe/Zurich:20190526T163000
DTSTAMP:20260421T221631
CREATED:20190401T083339Z
LAST-MODIFIED:20190411T070413Z
UID:3501-1558882800-1558888200@backup.dhammapala.ch
SUMMARY:Öffentlicher Vortrag von Luang Por Sumedho
DESCRIPTION:Öffentlicher Vortrag (in Englisch) von Luang Por Sumedho im Kloster Dhammapala.  \nBitte beachten Sie: Wir können leider keine Übernachtungsmöglichkeiten im Kloster anbieten.
URL:https://backup.dhammapala.ch/veranstaltungen/offentlicher-vortrag-von-luang-por-sumedho/
LOCATION:Kloster Dhammapala\, Bütschelsstrasse 74\, Kandersteg\, 3718\, Schweiz
CATEGORIES:All events,Vorträge und andere Veranstaltungen
END:VEVENT
BEGIN:VEVENT
DTSTART;TZID=Europe/Zurich:20190519T100000
DTEND;TZID=Europe/Zurich:20190519T143000
DTSTAMP:20260421T221631
CREATED:20181122T181700Z
LAST-MODIFIED:20190502T133752Z
UID:3238-1558260000-1558276200@backup.dhammapala.ch
SUMMARY:Vesakh-Feier in Hinterkappelen bei Bern
DESCRIPTION:Diese Feier setzt sich aus vier verschiedenen Teilen zusammen. Sie beginnt mit der Möglichkeit der formellen Zufluchtnahme zu Buddha\, Dhamma und Sangha und der damit einhergehenden Bekennung zu einer ethisch integren Lebensweise (fünf ethische Grundsätze). Danach folgt eine Segensrezitation (Chanting) der Mönche in der Pali-Sprache\, bestehend aus kurzen inspirierenden Lehrreden des Buddha als auch später hinzugefügten Segens- und Schutzversen der Theravada-Tradition. \nDie darauf folgende Mittagspause und die gemeinsame Mahlzeit stellen den geselligen zweiten Teil dar. \nIm dritten und kontemplativen Teil der Feier\, wird einer der Mönche einen Dhamma-Vortrag halten. \nDer abschließende und zeremonielle Teil der Feier besteht aus einer gemeinsamen Umgehung eines Buddha-Altars mit Blumen\, Kerzen und Räucherwerk – im Garten des Kipferhauses\, wenn es die Witterung zulässt\, ansonsten in der großen Halle. \n\nVesakh 2019 Flyer
URL:https://backup.dhammapala.ch/veranstaltungen/vesakh-feier-in-hinterkappelen-bei-bern-3/
LOCATION:Kipferhaus in Hinterkappelen\, Dorfstrasse 9\, Hinterkappelen\, 3032\, Switzerland
CATEGORIES:Vorträge und andere Veranstaltungen
END:VEVENT
BEGIN:VEVENT
DTSTART;TZID=Europe/Zurich:20190508T193000
DTEND;TZID=Europe/Zurich:20190508T223000
DTSTAMP:20260421T221631
CREATED:20181122T180837Z
LAST-MODIFIED:20190405T082127Z
UID:3232-1557343800-1557354600@backup.dhammapala.ch
SUMMARY:Bhikkhu Bodhinando besucht die Mediationsgruppe in Genf
DESCRIPTION:Diese Gruppe trifft sich regelmäßig – etwa einmal im Monat – Mittwoch abends um 19:30h. \nNeben Mönchen und Nonnen aus dem Forest Sangha werden auch andere Lehrer und Lehrerinnen von der Gruppe eingeladen\, um dort Vorträge zu halten. Die Vorträge werden generell in englischer Sprache gehalten (ohne Übersetzung).
URL:https://backup.dhammapala.ch/veranstaltungen/ajahn-abhinando-besucht-die-mediationsgruppe-in-genf-2/
LOCATION:tba\, Genève\, 1227\, Switzerland
CATEGORIES:Vorträge und andere Veranstaltungen
END:VEVENT
BEGIN:VEVENT
DTSTART;TZID=Europe/Zurich:20190415T193000
DTEND;TZID=Europe/Zurich:20190415T193000
DTSTAMP:20260421T221631
CREATED:20181122T180006Z
LAST-MODIFIED:20181122T181829Z
UID:3226-1555356600-1555356600@backup.dhammapala.ch
SUMMARY:Ajahn Abhinando besucht das Kalyanamitta Zentrum in Basel
DESCRIPTION:
URL:https://backup.dhammapala.ch/veranstaltungen/ajahn-abhinando-besucht-das-kalyanamitta-zentrum-in-basel-3/
LOCATION:Kalyana-Mitta\, Ramsteinerstrasse 16\, Basel\, 4052\, Schweiz
CATEGORIES:Vorträge und andere Veranstaltungen
END:VEVENT
BEGIN:VEVENT
DTSTART;TZID=Europe/Zurich:20181212T193000
DTEND;TZID=Europe/Zurich:20181212T213000
DTSTAMP:20260421T221631
CREATED:20171128T070026Z
LAST-MODIFIED:20171117T110222Z
UID:2861-1544643000-1544650200@backup.dhammapala.ch
SUMMARY:Ajahn Abhinando besucht die Mediationsgruppe in Genf
DESCRIPTION:Diese Gruppe trifft sich regelmäßig – etwa einmal im Monat – Mittwoch abends um 19:30h. \nNeben Mönchen und Nonnen aus dem Forest Sangha werden auch andere Lehrer und Lehrerinnen von der Gruppe eingeladen\, um dort Vorträge zu halten. Die Vorträge werden generell in englischer Sprache gehalten (ohne Übersetzung).
URL:https://backup.dhammapala.ch/veranstaltungen/ajahn-abhinando-besucht-die-mediationsgruppe-in-genf/
CATEGORIES:All events,Vorträge und andere Veranstaltungen
END:VEVENT
BEGIN:VEVENT
DTSTART;TZID=Europe/Zurich:20181126T193000
DTEND;TZID=Europe/Zurich:20181126T213000
DTSTAMP:20260421T221631
CREATED:20180615T064329Z
LAST-MODIFIED:20181122T181838Z
UID:3091-1543260600-1543267800@backup.dhammapala.ch
SUMMARY:Ajahn Abhinando besucht die Dhamma-Gruppe in Zürich
DESCRIPTION:Diese Gruppe trifft sich wöchentlich jeweils am Montag Abend um 19:30 Uhr zur Meditation und zu Belehrungen durch Gastlehrer und -lehrerinnen.
URL:https://backup.dhammapala.ch/veranstaltungen/ajahn-abhinando-besucht-die-dhamma-gruppe-in-zuerich-2/
LOCATION:Quartierhaus Kreis 6\, Langmauerstr. 7 \, Zürich\, 8006\, Switzerland
CATEGORIES:Vorträge und andere Veranstaltungen
ORGANIZER;CN="Maya K%C3%BCchler Tel%3A 044 %E2%80%93 391 68 72 und Rolf Hafner Tel%3A 079 %E2%80%93 358 90 77":MAILTO:maya-kuechler@bluewin.ch
END:VEVENT
BEGIN:VEVENT
DTSTART;TZID=Europe/Zurich:20181028T100000
DTEND;TZID=Europe/Zurich:20181028T140000
DTSTAMP:20260421T221631
CREATED:20171117T110440Z
LAST-MODIFIED:20171117T110440Z
UID:2883-1540720800-1540735200@backup.dhammapala.ch
SUMMARY:Kathina-Feier in Hinterkappelen b. Bern
DESCRIPTION:Diese von der Laien-Gemeinschaft des Klosters initiierte Feier dient vorwiegend dazu\, den Mönchen nach Vollendung der ‚Regenzeit‘- Klausur Bedarfsartikel zukommen zu lassen. Da in unseren Breiten bereits der Winter vor der Tür steht\, eignen sich besonders die Dinge\, die der Gemeinschaft während des langen alpinen Winters nützlich sein könnten. \nTraditionell wird im Rahmen eines Zeremoniells vor allem auch ein Stück Robenstoff überreicht\, welches die Mönche selbst noch am selben Tag zu einer fertigen Robe nähen sollten. Nach deren Fertigstellung wird einem von ihnen gewähltem Mönch diese Robe feierlich überreicht. \nDer zu diesem Anlass gegebene Festvortrag eines Mönchs findet meist in thailändischer Sprache statt. \nNähere Informationen dazu\, was das Kloster an Bedarfsartikeln für den Winter gebrauchen könnte\, erhalten Sie im Kloster-Büro.
URL:https://backup.dhammapala.ch/veranstaltungen/kathina-feier-in-hinterkappelen-b-bern/
LOCATION:Kipferhaus in Hinterkappelen\, Dorfstrasse 9\, Hinterkappelen\, 3032\, Switzerland
CATEGORIES:All events,Vorträge und andere Veranstaltungen
END:VEVENT
BEGIN:VEVENT
DTSTART;TZID=Europe/Zurich:20181018T193000
DTEND;TZID=Europe/Zurich:20181018T193000
DTSTAMP:20260421T221631
CREATED:20171128T070027Z
LAST-MODIFIED:20171117T110707Z
UID:2864-1539891000-1539891000@backup.dhammapala.ch
SUMMARY:Ajahn Abhinando besucht das Kalyanamitta Zentrum in Basel
DESCRIPTION:
URL:https://backup.dhammapala.ch/veranstaltungen/ajahn-abhinando-besucht-das-kalyanamitta-zentrum-in-basel/
LOCATION:Kalyana-Mitta\, Ramsteinerstrasse 16\, Basel\, 4052\, Schweiz
CATEGORIES:All events,Vorträge und andere Veranstaltungen
END:VEVENT
BEGIN:VEVENT
DTSTART;TZID=Europe/Zurich:20181017T191500
DTEND;TZID=Europe/Zurich:20181017T211500
DTSTAMP:20260421T221631
CREATED:20171128T070028Z
LAST-MODIFIED:20171117T110737Z
UID:2879-1539803700-1539810900@backup.dhammapala.ch
SUMMARY:Ajahn Khemasiri besucht das Zentrum für Buddhismus in Bern
DESCRIPTION:Die Vipassana-Meditationsgruppe in Bern ist eine in der Theravada-Tradition verankerte Gruppe\, die sich einmal wöchentlich zur gemeinsamen Meditation und zum Dhammastudium trifft. Auf eine stille Meditation folgt entweder jeweils eine Dreiviertelstunde Dhamma-Austausch oder ein Gastbeitrag einer Lehrperson. \nBeginn: jeweils Mittwoch abends um 19:15.
URL:https://backup.dhammapala.ch/veranstaltungen/ajahn-khemasiri-besucht-das-zentrum-fuer-buddhismus-in-bern/
LOCATION:Zentrum für Buddhismus\, Reiterstrasse 2\, Bern\, 3013\, Switzerland
CATEGORIES:All events,Vorträge und andere Veranstaltungen
ORGANIZER;CN="Vipassana Meditationsgruppe%2C Zentrum f%C3%BCr Buddhismus in Bern":MAILTO:kontakt@zentrumfuerbuddhismus.ch
END:VEVENT
BEGIN:VEVENT
DTSTART;TZID=Europe/Zurich:20181012T183000
DTEND;TZID=Europe/Zurich:20181012T203000
DTSTAMP:20260421T221631
CREATED:20180721T055029Z
LAST-MODIFIED:20180721T055929Z
UID:3127-1539369000-1539376200@backup.dhammapala.ch
SUMMARY:Dhamma-Vortrag und Meditation mit Ajahn Khemasiri in Frutigen
DESCRIPTION:Dieser Abend steht offen für alle\, die sich für die buddhistische Lehre und Meditation interessieren. Es sind keine Vorkenntnisse nötig.
URL:https://backup.dhammapala.ch/veranstaltungen/dhamma-vortrag-und-meditation-mit-ajahn-khemasiri-in-frutigen/
LOCATION:Flow\, Postgasse 8\, Frutigen\, 3714\, Schweiz
CATEGORIES:All events,Vorträge und andere Veranstaltungen
ORGANIZER;CN="Esther Bachmann-Frei":MAILTO:esther.bachmann@flow-frutigen.ch
END:VEVENT
BEGIN:VEVENT
DTSTART;TZID=Europe/Zurich:20180926T193000
DTEND;TZID=Europe/Zurich:20180926T213000
DTSTAMP:20260421T221631
CREATED:20171128T070013Z
LAST-MODIFIED:20171117T120115Z
UID:2859-1537990200-1537997400@backup.dhammapala.ch
SUMMARY:Ajahn Khemasiri besucht die Meditationsgruppe in Genf
DESCRIPTION:Diese Gruppe trifft sich regelmäßig – etwa einmal im Monat – Mittwoch abends um 19:30h. \nNeben Mönchen und Nonnen aus dem Forest Sangha werden auch andere Lehrer und Lehrerinnen von der Gruppe eingeladen\, um dort Vorträge zu halten. Die Vorträge werden generell in englischer Sprache gehalten (ohne Übersetzung).
URL:https://backup.dhammapala.ch/veranstaltungen/ajahn-khemasiri-besucht-die-meditationsgruppe-in-genf-5/
LOCATION:tba\, Genève\, 1227\, Switzerland
CATEGORIES:All events,Vorträge und andere Veranstaltungen
END:VEVENT
BEGIN:VEVENT
DTSTART;TZID=Europe/Zurich:20180827T193000
DTEND;TZID=Europe/Zurich:20180827T213000
DTSTAMP:20260421T221631
CREATED:20171128T161803Z
LAST-MODIFIED:20171128T165643Z
UID:2885-1535398200-1535405400@backup.dhammapala.ch
SUMMARY:Ajahn Khemasiri besucht die Dhamma-Gruppe in Zürich
DESCRIPTION:Diese Gruppe trifft sich wöchentlich jeweils am Montag Abend um 19:30 Uhr zur Meditation und zu Belehrungen durch Gastlehrer und -lehrerinnen.
URL:https://backup.dhammapala.ch/veranstaltungen/ajahn-khemasiri-besucht-die-dhamma-gruppe-in-zuerich-2/
LOCATION:Quartierhaus Kreis 6\, Langmauerstr. 7 \, Zürich\, 8006\, Switzerland
CATEGORIES:All events,Vorträge und andere Veranstaltungen
ORGANIZER;CN="Maya K%C3%BCchler Tel%3A 044 %E2%80%93 391 68 72 und Rolf Hafner Tel%3A 079 %E2%80%93 358 90 77":MAILTO:maya-kuechler@bluewin.ch
END:VEVENT
BEGIN:VEVENT
DTSTART;TZID=Europe/Zurich:20180809T190000
DTEND;TZID=Europe/Zurich:20180809T210000
DTSTAMP:20260421T221631
CREATED:20171128T070026Z
LAST-MODIFIED:20171128T165311Z
UID:2869-1533841200-1533848400@backup.dhammapala.ch
SUMMARY:Öffentlicher Vortrag von Ajahn Abhinando im Zentrum für Buddhismus in Bern
DESCRIPTION:Das Zentrum für Buddhismus bietet Gruppen aus unterschiedlichen buddhistischen Traditionen Raum für Praxis und Studien. Einmal monatlich findet an einem Donnerstag ein alltagsbezogener Vortrag aus buddhistischer Sicht statt. Dazu werden Lehrerinnen und Lehrer aus verschiedenen buddhistischen Traditionen eingeladen.
URL:https://backup.dhammapala.ch/veranstaltungen/ajahn-abhinando-besucht-das-zentrum-fuer-buddhismus-in-bern/
LOCATION:Zentrum für Buddhismus\, Reiterstrasse 2\, Bern\, 3013\, Switzerland
CATEGORIES:All events,Vorträge und andere Veranstaltungen
ORGANIZER;CN="Vipassana Meditationsgruppe%2C Zentrum f%C3%BCr Buddhismus in Bern":MAILTO:kontakt@zentrumfuerbuddhismus.ch
END:VEVENT
BEGIN:VEVENT
DTSTART;TZID=Europe/Zurich:20180804T190000
DTEND;TZID=Europe/Zurich:20180805T170000
DTSTAMP:20260421T221631
CREATED:20180424T085018Z
LAST-MODIFIED:20180424T085433Z
UID:3022-1533409200-1533488400@backup.dhammapala.ch
SUMMARY:Vortrag und Tagesworkshop mit Ajahn Khemasiri in Lausanne
DESCRIPTION:“The law of Karma – Reflections and meditations on causality” \nIn englischer Sprache mit französischer Übersetzung.
URL:https://backup.dhammapala.ch/veranstaltungen/vortrag-und-tagesworkshop-mit-ajahn-khemasiri/
LOCATION:Association Mudita. L’Arzillier\, Maison du Dialogue\, av. de Rumine 62\, Lausanne\, Switzerland
CATEGORIES:Vorträge und andere Veranstaltungen
ORGANIZER;CN="Claire & Jean Chevalley%2C Tel. 026%E2%80%939247543 und Laurence Mc Kenzie%2C Tel%3A 021%E2%80%937112692":MAILTO:info@mudita.ch
END:VEVENT
BEGIN:VEVENT
DTSTART;TZID=Europe/Zurich:20180627T193000
DTEND;TZID=Europe/Zurich:20180627T213000
DTSTAMP:20260421T221631
CREATED:20171128T070000Z
LAST-MODIFIED:20171117T111150Z
UID:2860-1530127800-1530135000@backup.dhammapala.ch
SUMMARY:Ajahn Abhinando besucht die Meditationsgruppe in Genf
DESCRIPTION:Diese Gruppe trifft sich regelmäßig – etwa einmal im Monat – Mittwoch abends um 19:30h. \nNeben Mönchen und Nonnen aus dem Forest Sangha werden auch andere Lehrer und Lehrerinnen von der Gruppe eingeladen\, um dort Vorträge zu halten. Die Vorträge werden generell in englischer Sprache gehalten (ohne Übersetzung).
URL:https://backup.dhammapala.ch/veranstaltungen/ajahn-abhinando-besucht-die-meditationsgruppe-in-genf/
LOCATION:tba\, Genève\, 1227\, Switzerland
CATEGORIES:All events,Vorträge und andere Veranstaltungen
END:VEVENT
BEGIN:VEVENT
DTSTART;TZID=Europe/Zurich:20180621T193000
DTEND;TZID=Europe/Zurich:20180621T213000
DTSTAMP:20260421T221631
CREATED:20171128T070006Z
LAST-MODIFIED:20171117T111233Z
UID:2862-1529609400-1529616600@backup.dhammapala.ch
SUMMARY:Ajahn Khemasiri besucht das Kalyanamitta Zentrum in Basel
DESCRIPTION:
URL:https://backup.dhammapala.ch/veranstaltungen/ajahn-khemasiri-besucht-das-kalyanamitta-zentrum-in-basel/
LOCATION:Kalyana-Mitta\, Ramsteinerstrasse 16\, Basel\, 4052\, Schweiz
CATEGORIES:All events,Vorträge und andere Veranstaltungen
END:VEVENT
BEGIN:VEVENT
DTSTART;TZID=Europe/Zurich:20180620T191500
DTEND;TZID=Europe/Zurich:20180620T211500
DTSTAMP:20260421T221631
CREATED:20171128T070047Z
LAST-MODIFIED:20171117T111308Z
UID:2868-1529522100-1529529300@backup.dhammapala.ch
SUMMARY:Ajahn Abhinando besucht das Zentrum für Buddhismus in Bern
DESCRIPTION:Die Vipassana-Meditationsgruppe in Bern ist eine in der Theravada-Tradition verankerte Gruppe\, die sich einmal wöchentlich zur gemeinsamen Meditation und zum Dhammastudium trifft. Auf eine stille Meditation folgt entweder jeweils eine Dreiviertelstunde Dhamma-Austausch oder ein Gastbeitrag einer Lehrperson. \nBeginn: jeweils Mittwoch abends um 19:15.
URL:https://backup.dhammapala.ch/veranstaltungen/ajahn-abhinando-besucht-das-zentrum-fuer-buddhismus-in-bern-2/
LOCATION:Zentrum für Buddhismus\, Reiterstrasse 2\, Bern\, 3013\, Switzerland
CATEGORIES:All events,Vorträge und andere Veranstaltungen
ORGANIZER;CN="Vipassana Meditationsgruppe%2C Zentrum f%C3%BCr Buddhismus in Bern":MAILTO:kontakt@zentrumfuerbuddhismus.ch
END:VEVENT
BEGIN:VEVENT
DTSTART;VALUE=DATE:20180617
DTEND;VALUE=DATE:20180618
DTSTAMP:20260421T221631
CREATED:20171117T114030Z
LAST-MODIFIED:20180613T163517Z
UID:2891-1529193600-1529279999@backup.dhammapala.ch
SUMMARY:Feier zum 100. Geburtstag von Ajahn Chah (in Englisch)
DESCRIPTION:
URL:https://backup.dhammapala.ch/veranstaltungen/feier-zum-100-geburtstag-von-ajahn-chah/
LOCATION:Kloster Dhammapala\, Bütschelsstrasse 74\, Kandersteg\, 3718\, Schweiz
CATEGORIES:All events,Vorträge und andere Veranstaltungen
ATTACH;FMTTYPE=image/png:https://dhammapala.ch/wp-content/uploads/2017/11/Ajahn-Chah-100th-Birthday-Celebration.png
END:VEVENT
BEGIN:VEVENT
DTSTART;TZID=Europe/Zurich:20180611T193000
DTEND;TZID=Europe/Zurich:20180611T213000
DTSTAMP:20260421T221631
CREATED:20171215T130027Z
LAST-MODIFIED:20171215T130027Z
UID:2953-1528745400-1528752600@backup.dhammapala.ch
SUMMARY:Ajahn Abhinando besucht die Dhamma-Gruppe in Zürich
DESCRIPTION:Diese Gruppe trifft sich wöchentlich jeweils am Montag Abend um 19:30 Uhr zur Meditation und zu Belehrungen durch Gastlehrer und -lehrerinnen.
URL:https://backup.dhammapala.ch/veranstaltungen/ajahn-abhinando-besucht-die-dhamma-gruppe-in-zuerich/
LOCATION:Quartierhaus Kreis 6\, Langmauerstr. 7 \, Zürich\, 8006\, Switzerland
CATEGORIES:All events,Vorträge und andere Veranstaltungen
ORGANIZER;CN="Maya K%C3%BCchler Tel%3A 044 %E2%80%93 391 68 72 und Rolf Hafner Tel%3A 079 %E2%80%93 358 90 77":MAILTO:maya-kuechler@bluewin.ch
END:VEVENT
BEGIN:VEVENT
DTSTART;TZID=Europe/Zurich:20180527T100000
DTEND;TZID=Europe/Zurich:20180527T150000
DTSTAMP:20260421T221631
CREATED:20171117T111459Z
LAST-MODIFIED:20171117T111459Z
UID:2870-1527415200-1527433200@backup.dhammapala.ch
SUMMARY:Vesakh-Feier in Hinterkappelen bei Bern
DESCRIPTION:Diese Feier setzt sich aus vier verschiedenen Teilen zusammen. Sie beginnt mit der Möglichkeit der formellen Zufluchtnahme zu Buddha\, Dhamma und Sangha und der damit einher gehenden Bekennung zu einer ethisch integren Lebensweise (fünf ethische Grundsätze). Danach folgt eine Segensrezitation (Chanting) der Mönche in der Pali-Sprache\, bestehend aus kurzen inspirierenden Lehrreden des Buddha als auch später hinzugefügten Segens- und Schutzversen der Theravada-Tradition. \nDie darauf folgende Mittagspause und die gemeinsame Mahlzeit stellen den geselligen zweiten Teil dar. \nIm dritten und kontemplativen Teil der Feier\, wird einer der Mönche einen Dhamma-Vortrag halten. \nDer abschließende und zeremonielle Teil der Feier  besteht aus einer gemeinsamen Umgehung eines Buddha-Altars mit Blumen\, Kerzen und Räucherwerk – im Garten des Kipferhauses\, wenn es die Witterung zulässt\, ansonsten in der großen Halle.
URL:https://backup.dhammapala.ch/veranstaltungen/vesakh-feier-in-hinterkappelen-bei-bern-2/
LOCATION:Kipferhaus in Hinterkappelen\, Dorfstrasse 9\, Hinterkappelen\, 3032\, Switzerland
CATEGORIES:All events,Vorträge und andere Veranstaltungen
END:VEVENT
BEGIN:VEVENT
DTSTART;TZID=Europe/Zurich:20180509T191500
DTEND;TZID=Europe/Zurich:20180509T211500
DTSTAMP:20260421T221631
CREATED:20171128T070032Z
LAST-MODIFIED:20171117T111933Z
UID:2867-1525893300-1525900500@backup.dhammapala.ch
SUMMARY:Ajahn Khemasiri besucht das Zentrum für Buddhismus in Bern
DESCRIPTION:Die Vipassana-Meditationsgruppe in Bern ist eine in der Theravada-Tradition verankerte Gruppe\, die sich einmal wöchentlich zur gemeinsamen Meditation und zum Dhammastudium trifft. Auf eine stille OK28Meditation folgt entweder jeweils eine Dreiviertelstunde Dhamma-Austausch oder ein Gastbeitrag einer Lehrperson. \nBeginn: jeweils Mittwoch abends um 19:15.
URL:https://backup.dhammapala.ch/veranstaltungen/ajahn-khemasiri-besucht-das-zentrum-fuer-buddhismus-in-bern-2/
LOCATION:Zentrum für Buddhismus\, Reiterstrasse 2\, Bern\, 3013\, Switzerland
CATEGORIES:All events,Vorträge und andere Veranstaltungen
ORGANIZER;CN="Vipassana Meditationsgruppe%2C Zentrum f%C3%BCr Buddhismus in Bern":MAILTO:kontakt@zentrumfuerbuddhismus.ch
END:VEVENT
BEGIN:VEVENT
DTSTART;TZID=Europe/Zurich:20180412T193000
DTEND;TZID=Europe/Zurich:20180412T213000
DTSTAMP:20260421T221631
CREATED:20171128T070042Z
LAST-MODIFIED:20171117T112216Z
UID:2863-1523561400-1523568600@backup.dhammapala.ch
SUMMARY:Ajahn Abhinando besucht das Kalyanamitta Zentrum in Basel
DESCRIPTION:
URL:https://backup.dhammapala.ch/veranstaltungen/ajahn-abhinando-besucht-das-kalyanamitta-zentrum-in-basel-2/
LOCATION:Kalyana-Mitta\, Ramsteinerstrasse 16\, Basel\, 4052\, Schweiz
CATEGORIES:All events,Vorträge und andere Veranstaltungen
END:VEVENT
BEGIN:VEVENT
DTSTART;TZID=Europe/Zurich:20180411T193000
DTEND;TZID=Europe/Zurich:20180411T213000
DTSTAMP:20260421T221631
CREATED:20171128T070041Z
LAST-MODIFIED:20171117T112305Z
UID:2858-1523475000-1523482200@backup.dhammapala.ch
SUMMARY:Ajahn Khemasiri besucht die Meditationsgruppe in Genf
DESCRIPTION:Diese Gruppe trifft sich regelmäßig – etwa einmal im Monat – Mittwoch abends um 19:30h. \nNeben Mönchen und Nonnen aus dem Forest Sangha werden auch andere Lehrer und Lehrerinnen von der Gruppe eingeladen\, um dort Vorträge zu halten. Die Vorträge werden generell in englischer Sprache gehalten (ohne Übersetzung).
URL:https://backup.dhammapala.ch/veranstaltungen/ajahn-khemasiri-besucht-die-meditationsgruppe-in-genf-4/
LOCATION:tba\, Genève\, 1227\, Switzerland
CATEGORIES:All events,Vorträge und andere Veranstaltungen
END:VEVENT
BEGIN:VEVENT
DTSTART;TZID=Europe/Zurich:20171213T193000
DTEND;TZID=Europe/Zurich:20171213T213000
DTSTAMP:20260421T221631
CREATED:20151120T123200Z
LAST-MODIFIED:20170722T090314Z
UID:1929-1513193400-1513200600@backup.dhammapala.ch
SUMMARY:Ajahn Abhinando besucht die Meditationsgruppe in Genf
DESCRIPTION:Diese Gruppe trifft sich regelmäßig – etwa einmal im Monat – Mittwoch abends um 19:30h. \nNeben Mönchen und Nonnen aus dem Forest Sangha werden auch andere Lehrer und Lehrerinnen von der Gruppe eingeladen\, um dort Vorträge zu halten. Die Vorträge werden generell in englischer Sprache gehalten (ohne Übersetzung).
URL:https://backup.dhammapala.ch/veranstaltungen/1929/
LOCATION:tba\, Genève\, 1227\, Switzerland
CATEGORIES:Vorträge und andere Veranstaltungen
END:VEVENT
BEGIN:VEVENT
DTSTART;VALUE=DATE:20171209
DTEND;VALUE=DATE:20171211
DTSTAMP:20260421T221631
CREATED:20150529T061617Z
LAST-MODIFIED:20170419T091642Z
UID:62-1512777600-1512950399@backup.dhammapala.ch
SUMMARY:Abendvortrag und Tagesseminar mit Ajahn Abhinando in Lausanne
DESCRIPTION:Sowohl der Abendvortrag als auch das Tagesseminar werden in englischer Sprache mit französischer Übersetzung angeboten. \nDie genauen Anfangszeiten entnehmen Sie bitte zeitnah der Webseite www.mudita.ch
URL:https://backup.dhammapala.ch/veranstaltungen/lausanne-abendvortrag-und-tagesseminar-am-sonntag/
LOCATION:Association Mudita. L’Arzillier\, Maison du Dialogue\, av. de Rumine 62\, Lausanne\, Switzerland
CATEGORIES:All events,Vorträge und andere Veranstaltungen
ORGANIZER;CN="Claire & Jean Chevalley%2C Tel. 026%E2%80%939247543 und Laurence Mc Kenzie%2C Tel%3A 021%E2%80%937112692":MAILTO:info@mudita.ch
END:VEVENT
BEGIN:VEVENT
DTSTART;TZID=Europe/Zurich:20171115T193000
DTEND;TZID=Europe/Zurich:20171115T213000
DTSTAMP:20260421T221631
CREATED:20151120T124021Z
LAST-MODIFIED:20170802T145621Z
UID:1935-1510774200-1510781400@backup.dhammapala.ch
SUMMARY:Ajahn Abhinando besucht das Zentrum für Buddhismus in Bern
DESCRIPTION:Die Vipassana-Meditationsgruppe in Bern ist eine in der Theravada-Tradition verankerte Gruppe\, die sich einmal wöchentlich zur gemeinsamen Meditation und zum Dhammastudium trifft. Auf eine stille Meditation folgt entweder jeweils eine Dreiviertelstunde Dhamma-Austausch oder ein Gastbeitrag einer Lehrperson. \nBeginn: jeweils Mittwoch abends um 19:15.
URL:https://backup.dhammapala.ch/veranstaltungen/ajahn-khemasiri-besucht-die-vipassana-gruppe-im-zentrum-fuer-buddhismus-in-bern/
LOCATION:Zentrum für Buddhismus\, Reiterstrasse 2\, Bern\, 3013\, Switzerland
CATEGORIES:All events,Vorträge und andere Veranstaltungen
ORGANIZER;CN="Vipassana Meditationsgruppe%2C Zentrum f%C3%BCr Buddhismus in Bern":MAILTO:kontakt@zentrumfuerbuddhismus.ch
END:VEVENT
END:VCALENDAR