BEGIN:VCALENDAR
VERSION:2.0
PRODID:-//Dhammapala - ECPv6.15.12.2//NONSGML v1.0//EN
CALSCALE:GREGORIAN
METHOD:PUBLISH
X-WR-CALNAME:Dhammapala
X-ORIGINAL-URL:https://backup.dhammapala.ch
X-WR-CALDESC:Events for Dhammapala
REFRESH-INTERVAL;VALUE=DURATION:PT1H
X-Robots-Tag:noindex
X-PUBLISHED-TTL:PT1H
BEGIN:VTIMEZONE
TZID:Europe/Zurich
BEGIN:DAYLIGHT
TZOFFSETFROM:+0100
TZOFFSETTO:+0200
TZNAME:CEST
DTSTART:20180325T010000
END:DAYLIGHT
BEGIN:STANDARD
TZOFFSETFROM:+0200
TZOFFSETTO:+0100
TZNAME:CET
DTSTART:20181028T010000
END:STANDARD
BEGIN:DAYLIGHT
TZOFFSETFROM:+0100
TZOFFSETTO:+0200
TZNAME:CEST
DTSTART:20190331T010000
END:DAYLIGHT
BEGIN:STANDARD
TZOFFSETFROM:+0200
TZOFFSETTO:+0100
TZNAME:CET
DTSTART:20191027T010000
END:STANDARD
BEGIN:DAYLIGHT
TZOFFSETFROM:+0100
TZOFFSETTO:+0200
TZNAME:CEST
DTSTART:20200329T010000
END:DAYLIGHT
BEGIN:STANDARD
TZOFFSETFROM:+0200
TZOFFSETTO:+0100
TZNAME:CET
DTSTART:20201025T010000
END:STANDARD
BEGIN:DAYLIGHT
TZOFFSETFROM:+0100
TZOFFSETTO:+0200
TZNAME:CEST
DTSTART:20210328T010000
END:DAYLIGHT
BEGIN:STANDARD
TZOFFSETFROM:+0200
TZOFFSETTO:+0100
TZNAME:CET
DTSTART:20211031T010000
END:STANDARD
BEGIN:DAYLIGHT
TZOFFSETFROM:+0100
TZOFFSETTO:+0200
TZNAME:CEST
DTSTART:20220327T010000
END:DAYLIGHT
BEGIN:STANDARD
TZOFFSETFROM:+0200
TZOFFSETTO:+0100
TZNAME:CET
DTSTART:20221030T010000
END:STANDARD
BEGIN:DAYLIGHT
TZOFFSETFROM:+0100
TZOFFSETTO:+0200
TZNAME:CEST
DTSTART:20230326T010000
END:DAYLIGHT
BEGIN:STANDARD
TZOFFSETFROM:+0200
TZOFFSETTO:+0100
TZNAME:CET
DTSTART:20231029T010000
END:STANDARD
END:VTIMEZONE
BEGIN:VEVENT
DTSTART;TZID=Europe/Zurich:20220425T193000
DTEND;TZID=Europe/Zurich:20220425T210000
DTSTAMP:20260421T172024
CREATED:20211031T093358Z
LAST-MODIFIED:20220329T175628Z
UID:5314-1650915000-1650920400@backup.dhammapala.ch
SUMMARY:Ajahn Abhinando besucht die Dhamma-Gruppe in Zürich
DESCRIPTION:
URL:https://backup.dhammapala.ch/veranstaltungen/ajahn-abhinando-besucht-die-dhamma-gruppe-in-zurich-4/
LOCATION:Quartierhaus Kreis 6\, Langmauerstr. 7 \, Zürich\, 8006\, Switzerland
CATEGORIES:All events,Vorträge und andere Veranstaltungen
END:VEVENT
BEGIN:VEVENT
DTSTART;TZID=Europe/Zurich:20220406T191500
DTEND;TZID=Europe/Zurich:20220406T210000
DTSTAMP:20260421T172024
CREATED:20211030T085344Z
LAST-MODIFIED:20220401T090744Z
UID:5306-1649272500-1649278800@backup.dhammapala.ch
SUMMARY:Ajahn Abhinando besucht das Zentrum für Buddhismus in Bern (per Zoom)
DESCRIPTION:
URL:https://backup.dhammapala.ch/veranstaltungen/ajahn-abhinando-besucht-das-zentrum-fur-buddhismus-in-bern-5/
LOCATION:Zentrum für Buddhismus\, Reiterstrasse 2\, Bern\, 3013\, Switzerland
CATEGORIES:All events,Vorträge und andere Veranstaltungen
ORGANIZER;CN="Vipassana Meditationsgruppe%2C Zentrum f%C3%BCr Buddhismus in Bern":MAILTO:kontakt@zentrumfuerbuddhismus.ch
END:VEVENT
BEGIN:VEVENT
DTSTART;TZID=Europe/Zurich:20211208T193000
DTEND;TZID=Europe/Zurich:20211208T213000
DTSTAMP:20260421T172024
CREATED:20201205T094102Z
LAST-MODIFIED:20211121T084340Z
UID:4831-1638991800-1638999000@backup.dhammapala.ch
SUMMARY:Online: Ajahn Khemasiri besucht die Meditationsgruppe in Genf
DESCRIPTION:Diese Gruppe trifft sich regelmäßig – etwa einmal im Monat – Mittwoch abends um 19:30h. \nNeben Mönchen und Nonnen aus dem Forest Sangha werden auch andere Lehrer und Lehrerinnen von der Gruppe eingeladen\, um dort Vorträge zu halten. Die Vorträge werden generell in englischer Sprache gehalten (ohne Übersetzung).
URL:https://backup.dhammapala.ch/veranstaltungen/ein-monch-besucht-die-meditationsgruppe-in-genf/
LOCATION:tba\, Genève\, 1227\, Switzerland
CATEGORIES:All events,Vorträge und andere Veranstaltungen
END:VEVENT
BEGIN:VEVENT
DTSTART;TZID=Europe/Zurich:20211129T193000
DTEND;TZID=Europe/Zurich:20211129T210000
DTSTAMP:20260421T172024
CREATED:20201128T073952Z
LAST-MODIFIED:20211118T084509Z
UID:4770-1638214200-1638219600@backup.dhammapala.ch
SUMMARY:Online: Ajahn Abhinando besucht das Kalyanamitta Zentrum in Basel
DESCRIPTION:
URL:https://backup.dhammapala.ch/veranstaltungen/ajahn-abhinando-besucht-das-kalyanamitta-zentrum-in-basel-7/
LOCATION:Kalyana-Mitta-Gruppe\, Ramsteinerstrasse 16\, Basel\, Basel\, 4052\, Deutschland
CATEGORIES:All events,Vorträge und andere Veranstaltungen
END:VEVENT
BEGIN:VEVENT
DTSTART;TZID=Europe/Zurich:20211124T193000
DTEND;TZID=Europe/Zurich:20211124T213000
DTSTAMP:20260421T172024
CREATED:20201205T093940Z
LAST-MODIFIED:20211118T084634Z
UID:4829-1637782200-1637789400@backup.dhammapala.ch
SUMMARY:Online: Ajahn Abhinando besucht die Meditationsgruppe in Genf
DESCRIPTION:Diese Gruppe trifft sich regelmäßig – etwa einmal im Monat – Mittwoch abends um 19:30h. \nNeben Mönchen und Nonnen aus dem Forest Sangha werden auch andere Lehrer und Lehrerinnen von der Gruppe eingeladen\, um dort Vorträge zu halten. Die Vorträge werden generell in englischer Sprache gehalten (ohne Übersetzung).
URL:https://backup.dhammapala.ch/veranstaltungen/ajahn-abhinando-besucht-die-meditationsgruppe-in-genf-5/
LOCATION:tba\, Genève\, 1227\, Switzerland
CATEGORIES:All events,Vorträge und andere Veranstaltungen
END:VEVENT
BEGIN:VEVENT
DTSTART;TZID=Europe/Zurich:20211108T193000
DTEND;TZID=Europe/Zurich:20211108T210000
DTSTAMP:20260421T172024
CREATED:20201128T074901Z
LAST-MODIFIED:20201128T074901Z
UID:4768-1636399800-1636405200@backup.dhammapala.ch
SUMMARY:Ajahn Abhinando besucht Dhamma-Gruppe in Zürich
DESCRIPTION:
URL:https://backup.dhammapala.ch/veranstaltungen/ajahn-abhinando-besucht-dhamma-gruppe-in-zurich/
LOCATION:Quartierhaus Kreis 6\, Langmauerstr. 7 \, Zürich\, 8006\, Switzerland
CATEGORIES:All events,Vorträge und andere Veranstaltungen
ORGANIZER;CN="Maya K%C3%BCchler Tel%3A 044 %E2%80%93 391 68 72 und Rolf Hafner Tel%3A 079 %E2%80%93 358 90 77":MAILTO:maya-kuechler@bluewin.ch
END:VEVENT
BEGIN:VEVENT
DTSTART;TZID=Europe/Zurich:20211024T100000
DTEND;TZID=Europe/Zurich:20211024T140000
DTSTAMP:20260421T172024
CREATED:20201128T074947Z
LAST-MODIFIED:20210930T130651Z
UID:4764-1635069600-1635084000@backup.dhammapala.ch
SUMMARY:Feier zu Kathina im Gemeindesaal Kandersteg
DESCRIPTION:Diese von der Laien-Gemeinschaft des Klosters initiierte Feier dient vorwiegend dazu\, den Mönchen nach Vollendung der ‚Regenzeit‘- Klausur Bedarfsartikel zukommen zu lassen. Da in unseren Breiten bereits der Winter vor der Tür steht\, eignen sich besonders die Dinge\, die der Gemeinschaft während des langen alpinen Winters nützlich sein könnten.\nTraditionell wird im Rahmen eines Zeremoniells vor allem auch ein Stück Robenstoff überreicht\, welches die Mönche selbst noch am selben Tag zu einer fertigen Robe nähen sollten. Nach deren Fertigstellung wird einem von ihnen gewähltem Mönch diese Robe feierlich überreicht. \nDen Flyer können Sie unten anschauen oder herunterladen.
URL:https://backup.dhammapala.ch/veranstaltungen/kathina-feier-im-gemeindesaal-kandersteg/
LOCATION:Gemeindesaal Kandersteg\, Äussere Dorfstr. 26\, Kandersteg
CATEGORIES:All events,Vorträge und andere Veranstaltungen
END:VEVENT
BEGIN:VEVENT
DTSTART;TZID=Europe/Zurich:20211013T191500
DTEND;TZID=Europe/Zurich:20211013T210000
DTSTAMP:20260421T172024
CREATED:20201128T075007Z
LAST-MODIFIED:20201128T075007Z
UID:4762-1634152500-1634158800@backup.dhammapala.ch
SUMMARY:Ajahn Abhinando besucht das Zentrum für Buddhismus in Bern
DESCRIPTION:
URL:https://backup.dhammapala.ch/veranstaltungen/ajahn-abhinando-besucht-das-zentrum-fur-buddhismus-in-bern-3/
LOCATION:Zentrum für Buddhismus\, Reiterstrasse 2\, Bern\, 3013\, Switzerland
CATEGORIES:All events,Vorträge und andere Veranstaltungen
ORGANIZER;CN="Vipassana Meditationsgruppe%2C Zentrum f%C3%BCr Buddhismus in Bern":MAILTO:kontakt@zentrumfuerbuddhismus.ch
END:VEVENT
BEGIN:VEVENT
DTSTART;TZID=Europe/Zurich:20210531T193000
DTEND;TZID=Europe/Zurich:20210531T210000
DTSTAMP:20260421T172024
CREATED:20201128T080842Z
LAST-MODIFIED:20210513T071233Z
UID:4752-1622489400-1622494800@backup.dhammapala.ch
SUMMARY:Abgesagt: Ajahn Abhinando besucht die Dhamma-Gruppe in Zürich
DESCRIPTION:
URL:https://backup.dhammapala.ch/veranstaltungen/ajahn-abhinando-besucht-die-dhamma-gruppe-in-zurich-3/
LOCATION:Quartierhaus Kreis 6\, Langmauerstr. 7 \, Zürich\, 8006\, Switzerland
CATEGORIES:All events,Vorträge und andere Veranstaltungen
ORGANIZER;CN="Maya K%C3%BCchler Tel%3A 044 %E2%80%93 391 68 72 und Rolf Hafner Tel%3A 079 %E2%80%93 358 90 77":MAILTO:maya-kuechler@bluewin.ch
END:VEVENT
BEGIN:VEVENT
DTSTART;TZID=Europe/Zurich:20210512T193000
DTEND;TZID=Europe/Zurich:20210512T213000
DTSTAMP:20260421T172024
CREATED:20201205T093005Z
LAST-MODIFIED:20210427T134459Z
UID:4826-1620847800-1620855000@backup.dhammapala.ch
SUMMARY:Ajahn Abhinando besucht die Meditationsgruppe in Genf
DESCRIPTION:Der Abend findet on-line statt. \nDiese Gruppe trifft sich regelmäßig – etwa einmal im Monat – Mittwoch abends um 19:30h. \nNeben Mönchen und Nonnen aus dem Forest Sangha werden auch andere Lehrer und Lehrerinnen von der Gruppe eingeladen\, um dort Vorträge zu halten. Die Vorträge werden generell in englischer Sprache gehalten (ohne Übersetzung).
URL:https://backup.dhammapala.ch/veranstaltungen/ajahn-abhinando-besucht-die-meditationsgruppe-in-genf-4/
LOCATION:tba\, Genève\, 1227\, Switzerland
CATEGORIES:All events,Vorträge und andere Veranstaltungen
END:VEVENT
BEGIN:VEVENT
DTSTART;TZID=Europe/Zurich:20210502T100000
DTEND;TZID=Europe/Zurich:20210502T140000
DTSTAMP:20260421T172024
CREATED:20201128T080953Z
LAST-MODIFIED:20210401T090040Z
UID:4743-1619949600-1619964000@backup.dhammapala.ch
SUMMARY:Abgesagt: Vesakh-Feier im Gemeindehaus in Kandersteg
DESCRIPTION:
URL:https://backup.dhammapala.ch/veranstaltungen/vesakh-feier-im-gemeindehaus-in-kandersteg/
LOCATION:Gemeindesaal Kandersteg\, Äussere Dorfstr. 26\, Kandersteg
CATEGORIES:All events,Vorträge und andere Veranstaltungen
END:VEVENT
BEGIN:VEVENT
DTSTART;TZID=Europe/Zurich:20210428T191500
DTEND;TZID=Europe/Zurich:20210428T210000
DTSTAMP:20260421T172024
CREATED:20201128T081012Z
LAST-MODIFIED:20210427T134634Z
UID:4774-1619637300-1619643600@backup.dhammapala.ch
SUMMARY:Online: Ajahn Abhinando besucht das Zentrum für Buddhismus in Bern
DESCRIPTION:
URL:https://backup.dhammapala.ch/veranstaltungen/ajahn-abhinando-besucht-das-zentrum-fur-buddhismus-in-bern-4/
LOCATION:Zentrum für Buddhismus\, Reiterstrasse 2\, Bern\, 3013\, Switzerland
CATEGORIES:All events,Vorträge und andere Veranstaltungen
ORGANIZER;CN="Vipassana Meditationsgruppe%2C Zentrum f%C3%BCr Buddhismus in Bern":MAILTO:kontakt@zentrumfuerbuddhismus.ch
END:VEVENT
BEGIN:VEVENT
DTSTART;TZID=Europe/Zurich:20201123T193000
DTEND;TZID=Europe/Zurich:20201123T213000
DTSTAMP:20260421T172024
CREATED:20191122T084340Z
LAST-MODIFIED:20191122T084340Z
UID:3856-1606159800-1606167000@backup.dhammapala.ch
SUMMARY:Ajahn Abhinando besucht die Dhamma-Gruppe in Zürich
DESCRIPTION:
URL:https://backup.dhammapala.ch/veranstaltungen/ajahn-abhinando-besucht-die-dhamma-gruppe-in-zurich/
LOCATION:Quartierhaus Kreis 6\, Langmauerstr. 7 \, Zürich\, 8006\, Switzerland
CATEGORIES:All events,Vorträge und andere Veranstaltungen
ORGANIZER;CN="Maya K%C3%BCchler Tel%3A 044 %E2%80%93 391 68 72 und Rolf Hafner Tel%3A 079 %E2%80%93 358 90 77":MAILTO:maya-kuechler@bluewin.ch
END:VEVENT
BEGIN:VEVENT
DTSTART;TZID=Europe/Zurich:20201104T193000
DTEND;TZID=Europe/Zurich:20201104T213000
DTSTAMP:20260421T172024
CREATED:20191122T100646Z
LAST-MODIFIED:20201010T070813Z
UID:3943-1604518200-1604525400@backup.dhammapala.ch
SUMMARY:Abgesagt: Ajahn Abhinando besucht die Meditationsgruppe in Genf
DESCRIPTION:Diese Gruppe trifft sich regelmäßig – etwa einmal im Monat – Mittwoch abends um 19:30h. \nNeben Mönchen und Nonnen aus dem Forest Sangha werden auch andere Lehrer und Lehrerinnen von der Gruppe eingeladen\, um dort Vorträge zu halten. Die Vorträge werden generell in englischer Sprache gehalten (ohne Übersetzung).
URL:https://backup.dhammapala.ch/veranstaltungen/ajahn-abhinando-besucht-die-meditationsgruppe-in-genf-3/
LOCATION:tba\, Genève\, 1227\, Switzerland
CATEGORIES:All events,Vorträge und andere Veranstaltungen
END:VEVENT
BEGIN:VEVENT
DTSTART;TZID=Europe/Zurich:20201025T093000
DTEND;TZID=Europe/Zurich:20201025T120000
DTSTAMP:20260421T172024
CREATED:20191122T084630Z
LAST-MODIFIED:20201024T135050Z
UID:3895-1603618200-1603627200@backup.dhammapala.ch
SUMMARY:Kathina-Feier
DESCRIPTION:Dieses Jahr findet die Kathina-Feier wegen Covid-19 leider nur für geladene Gäste statt! Bitte lesen Sie den News-Beitrag dazu. \nFalls Sie interessiert sind\, der Feier per Live-Stream zu folgen\, benutzen Sie bitte die Angaben auf dieser Seite. \nDiese von der Laien-Gemeinschaft des Klosters initiierte Feier dient vorwiegend dazu\, den Mönchen nach Vollendung der ‚Regenzeit‘- Klausur Bedarfsartikel zukommen zu lassen. Da in unseren Breiten bereits der Winter vor der Tür steht\, eignen sich besonders die Dinge\, die der Gemeinschaft während des langen alpinen Winters nützlich sein könnten.\nTraditionell wird im Rahmen eines Zeremoniells vor allem auch ein Stück Robenstoff überreicht\, welches die Mönche selbst noch am selben Tag zu einer fertigen Robe nähen sollten. Nach deren Fertigstellung wird einem von ihnen gewähltem Mönch diese Robe feierlich überreicht. \n 
URL:https://backup.dhammapala.ch/veranstaltungen/kathina-feier-in-hinterkappelen-b-bern-3/
LOCATION:Basel
CATEGORIES:All events,Vorträge und andere Veranstaltungen
END:VEVENT
BEGIN:VEVENT
DTSTART;TZID=Europe/Zurich:20200930T191500
DTEND;TZID=Europe/Zurich:20200930T211500
DTSTAMP:20260421T172024
CREATED:20191122T084904Z
LAST-MODIFIED:20201001T140630Z
UID:3852-1601493300-1601500500@backup.dhammapala.ch
SUMMARY:Ajahn Abhinando besucht das Zentrum für Buddhismus in Bern
DESCRIPTION:Ajahn wird per Zoom zugeschaltet.
URL:https://backup.dhammapala.ch/veranstaltungen/ajahn-abhinando-besucht-das-zentrum-fur-buddhismus-in-bern/
LOCATION:Zentrum für Buddhismus\, Reiterstrasse 2\, Bern\, 3013\, Switzerland
CATEGORIES:All events,Vorträge und andere Veranstaltungen
ORGANIZER;CN="Vipassana Meditationsgruppe%2C Zentrum f%C3%BCr Buddhismus in Bern":MAILTO:kontakt@zentrumfuerbuddhismus.ch
END:VEVENT
BEGIN:VEVENT
DTSTART;TZID=Europe/Zurich:20200924T193000
DTEND;TZID=Europe/Zurich:20200924T213000
DTSTAMP:20260421T172024
CREATED:20191122T085005Z
LAST-MODIFIED:20191122T085005Z
UID:3862-1600975800-1600983000@backup.dhammapala.ch
SUMMARY:Ajahn Abhinando besucht das Kalyanamitta Zentrum in Basel
DESCRIPTION:
URL:https://backup.dhammapala.ch/veranstaltungen/ajahn-abhinando-besucht-das-kalyanamitta-zentrum-in-basel-5/
LOCATION:Kalyana-Mitta\, Ramsteinerstrasse 16\, Basel\, 4052\, Schweiz
CATEGORIES:All events,Vorträge und andere Veranstaltungen
END:VEVENT
BEGIN:VEVENT
DTSTART;TZID=Europe/Zurich:20200826T193000
DTEND;TZID=Europe/Zurich:20200826T213000
DTSTAMP:20260421T172024
CREATED:20191122T100415Z
LAST-MODIFIED:20191122T100514Z
UID:3941-1598470200-1598477400@backup.dhammapala.ch
SUMMARY:Ajahn Abhinando besucht die Meditationsgruppe in Genf
DESCRIPTION:Diese Gruppe trifft sich regelmäßig – etwa einmal im Monat – Mittwoch abends um 19:30h. \nNeben Mönchen und Nonnen aus dem Forest Sangha werden auch andere Lehrer und Lehrerinnen von der Gruppe eingeladen\, um dort Vorträge zu halten. Die Vorträge werden generell in englischer Sprache gehalten (ohne Übersetzung).
URL:https://backup.dhammapala.ch/veranstaltungen/ajahn-abhinando-besucht-die-meditationsgruppe-in-genf-2/
LOCATION:tba\, Genève\, 1227\, Switzerland
CATEGORIES:All events,Vorträge und andere Veranstaltungen
END:VEVENT
BEGIN:VEVENT
DTSTART;TZID=Europe/Zurich:20200705T193000
DTEND;TZID=Europe/Zurich:20200705T213000
DTSTAMP:20260421T172024
CREATED:20191122T091107Z
LAST-MODIFIED:20191122T091107Z
UID:3879-1593977400-1593984600@backup.dhammapala.ch
SUMMARY:Asalha Puja
DESCRIPTION:Alljährlich am Vollmondtag im Juli (Asalha Puja) gedenkt man in der buddhistischen Welt der ersten Lehrdarlegung des Buddha – der Dhammacakkapavattana Sutta des In-Bewegung-Setzens des Rades der Lehre und ihrer unmittelbaren Auswirkungen. Kern dieser Lehrrede ist die Beschreibung des mittleren Weges mit den vier Edlen Wahrheiten und dem achtfachen Pfad. Am Ende der Rede erfolgte der fast euphorische Ruf des Buddha: Kondannyo hat verstanden! Allein durch aufmerksames Hören der Darlegungen des Buddha öffnete sich für den Asketen Kondannyo das Auge des Dhamma. Er wurde zu einem Menschen\, der in den Strom des Dhamma eingetreten war. \nBesucher und Gäste sind herzlich willkommen\, auch an der sich daran anschließenden Sitz- und Gehmeditation bis Mitternacht.
URL:https://backup.dhammapala.ch/veranstaltungen/asalha-puja-2/
LOCATION:Kloster Dhammapala\, Bütschelsstrasse 74\, Kandersteg\, 3718\, Schweiz
CATEGORIES:All events,Vorträge und andere Veranstaltungen
END:VEVENT
BEGIN:VEVENT
DTSTART;TZID=Europe/Zurich:20200625T193000
DTEND;TZID=Europe/Zurich:20200625T213000
DTSTAMP:20260421T172024
CREATED:20191122T091847Z
LAST-MODIFIED:20191122T091847Z
UID:3860-1593113400-1593120600@backup.dhammapala.ch
SUMMARY:Ajahn Abhinando besucht das Kalyanamitta Zentrum in Basel
DESCRIPTION:
URL:https://backup.dhammapala.ch/veranstaltungen/ajahn-abhinando-besucht-das-kalyanamitta-zentrum-in-basel-6/
LOCATION:Kalyana-Mitta\, Ramsteinerstrasse 16\, Basel\, 4052\, Schweiz
CATEGORIES:All events,Vorträge und andere Veranstaltungen
END:VEVENT
BEGIN:VEVENT
DTSTART;TZID=Europe/Zurich:20200510T100000
DTEND;TZID=Europe/Zurich:20200510T140000
DTSTAMP:20260421T172024
CREATED:20191122T094057Z
LAST-MODIFIED:20200402T163455Z
UID:3897-1589104800-1589119200@backup.dhammapala.ch
SUMMARY:Abgesagt: Vesakh-Feier in Hinterkappelen bei Bern
DESCRIPTION:Die Feier anlässlich des dreifachen Ehrentags des Buddha (Geburt\, Erwachen und Erlöschen) findet dieses Jahr nicht statt. \n 
URL:https://backup.dhammapala.ch/veranstaltungen/vesakh-feier-in-hinterkappelen-bei-bern-4/
LOCATION:Kipferhaus in Hinterkappelen\, Dorfstrasse 9\, Hinterkappelen\, 3032\, Switzerland
CATEGORIES:All events,Vorträge und andere Veranstaltungen
END:VEVENT
BEGIN:VEVENT
DTSTART;TZID=Europe/Zurich:20200504T193000
DTEND;TZID=Europe/Zurich:20200504T213000
DTSTAMP:20260421T172024
CREATED:20191122T094808Z
LAST-MODIFIED:20200501T073045Z
UID:3854-1588620600-1588627800@backup.dhammapala.ch
SUMMARY:Abgesagt: Ajahn Abhinando besucht die Dhamma-Gruppe in Zürich
DESCRIPTION:
URL:https://backup.dhammapala.ch/veranstaltungen/ajahn-abhinando-besucht-die-dhamma-gruppe-in-zurich-2/
LOCATION:Quartierhaus Kreis 6\, Langmauerstr. 7 \, Zürich\, 8006\, Switzerland
CATEGORIES:All events,Vorträge und andere Veranstaltungen
ORGANIZER;CN="Maya K%C3%BCchler Tel%3A 044 %E2%80%93 391 68 72 und Rolf Hafner Tel%3A 079 %E2%80%93 358 90 77":MAILTO:maya-kuechler@bluewin.ch
END:VEVENT
BEGIN:VEVENT
DTSTART;TZID=Europe/Zurich:20200429T193000
DTEND;TZID=Europe/Zurich:20200429T213000
DTSTAMP:20260421T172024
CREATED:20191122T093802Z
LAST-MODIFIED:20200414T082737Z
UID:3874-1588188600-1588195800@backup.dhammapala.ch
SUMMARY:Abgesagt: Bhikkhu Bodhinando besucht die Meditationsgruppe in Genf
DESCRIPTION:Diese Gruppe trifft sich regelmäßig – etwa einmal im Monat – Mittwoch abends um 19:30h. \nNeben Mönchen und Nonnen aus dem Forest Sangha werden auch andere Lehrer und Lehrerinnen von der Gruppe eingeladen\, um dort Vorträge zu halten. Die Vorträge werden generell in englischer Sprache gehalten (ohne Übersetzung).
URL:https://backup.dhammapala.ch/veranstaltungen/bhikkhu-bodhinando-besucht-die-meditationsgruppe-in-genf-2/
LOCATION:tba\, Genève\, 1227\, Switzerland
CATEGORIES:All events,Vorträge und andere Veranstaltungen
END:VEVENT
BEGIN:VEVENT
DTSTART;TZID=Europe/Zurich:20200422T191500
DTEND;TZID=Europe/Zurich:20200422T211500
DTSTAMP:20260421T172024
CREATED:20191122T094907Z
LAST-MODIFIED:20200414T083134Z
UID:3850-1587582900-1587590100@backup.dhammapala.ch
SUMMARY:Virtuell: Ajahn Abhinando besucht das Zentrum für Buddhismus in Bern
DESCRIPTION:Das Zentrum für Buddhismus bleibt aufgrund des Coronavirus bis 26. April geschlossen. \n\n\n\n\nEs finden vorläufig keinerlei Aktivitäten im Zentrum statt. \nDas Mittwochabend-Gruppentreffen wird über die Plattform Zoom organisiert. Wer Information über den Zoom-Zugang haben möchte\, kann eine E-Mail an kontakt@zentrumfuerbuddhismus.ch schreiben.
URL:https://backup.dhammapala.ch/veranstaltungen/ajahn-abhinando-besucht-das-zentrum-fur-buddhismus-in-bern-2/
LOCATION:Zentrum für Buddhismus\, Reiterstrasse 2\, Bern\, 3013\, Switzerland
CATEGORIES:Vorträge und andere Veranstaltungen
ORGANIZER;CN="Vipassana Meditationsgruppe%2C Zentrum f%C3%BCr Buddhismus in Bern":MAILTO:kontakt@zentrumfuerbuddhismus.ch
END:VEVENT
BEGIN:VEVENT
DTSTART;TZID=Europe/Zurich:20191127T193000
DTEND;TZID=Europe/Zurich:20191127T213000
DTSTAMP:20260421T172024
CREATED:20181216T094132Z
LAST-MODIFIED:20190804T154159Z
UID:3296-1574883000-1574890200@backup.dhammapala.ch
SUMMARY:Ajahn Abhinando besucht die Meditationsgruppe in Genf
DESCRIPTION:Diese Gruppe trifft sich regelmäßig – etwa einmal im Monat – Mittwoch abends um 19:30h. \nNeben Mönchen und Nonnen aus dem Forest Sangha werden auch andere Lehrer und Lehrerinnen von der Gruppe eingeladen\, um dort Vorträge zu halten. Die Vorträge werden generell in englischer Sprache gehalten (ohne Übersetzung).
URL:https://backup.dhammapala.ch/veranstaltungen/ein-moench-besucht-die-meditationsgruppe-in-genf/
LOCATION:tba\, Genève\, 1227\, Switzerland
CATEGORIES:Vorträge und andere Veranstaltungen
END:VEVENT
BEGIN:VEVENT
DTSTART;TZID=Europe/Zurich:20191020T100000
DTEND;TZID=Europe/Zurich:20191020T140000
DTSTAMP:20260421T172024
CREATED:20181122T180222Z
LAST-MODIFIED:20191015T162943Z
UID:3228-1571565600-1571580000@backup.dhammapala.ch
SUMMARY:Kathina-Feier in Hinterkappelen b. Bern
DESCRIPTION:Das Programm und Vorschläge für Lebensmittel\, die das Kloster im Winter gebrauchen könnte\, finden Sie im Flyer\, der vergrössert wird\, wenn Sie das kleine Flyer-Bild anklicken. \nDiese von der Laien-Gemeinschaft des Klosters initiierte Feier dient vorwiegend dazu\, den Mönchen nach Vollendung der ‚Regenzeit‘- Klausur Bedarfsartikel zukommen zu lassen. Da in unseren Breiten bereits der Winter vor der Tür steht\, eignen sich besonders die Dinge\, die der Gemeinschaft während des langen alpinen Winters nützlich sein könnten. \nTraditionell wird im Rahmen eines Zeremoniells vor allem auch ein Stück Robenstoff überreicht\, welches die Mönche selbst noch am selben Tag zu einer fertigen Robe nähen sollten. Nach deren Fertigstellung wird einem von ihnen gewähltem Mönch diese Robe feierlich überreicht. \nDer zu diesem Anlass gegebene Festvortrag eines Mönchs findet meist in thailändischer Sprache statt.
URL:https://backup.dhammapala.ch/veranstaltungen/kathina-feier-in-hinterkappelen-b-bern-2/
LOCATION:Kipferhaus in Hinterkappelen\, Dorfstrasse 9\, Hinterkappelen\, 3032\, Switzerland
CATEGORIES:Vorträge und andere Veranstaltungen
END:VEVENT
BEGIN:VEVENT
DTSTART;TZID=Europe/Zurich:20191016T191500
DTEND;TZID=Europe/Zurich:20191016T211500
DTSTAMP:20260421T172024
CREATED:20181216T164313Z
LAST-MODIFIED:20181216T164524Z
UID:3316-1571253300-1571260500@backup.dhammapala.ch
SUMMARY:Ajahn Abhinando besucht das Zentrum für Buddhismus in Bern
DESCRIPTION:
URL:https://backup.dhammapala.ch/veranstaltungen/ajahn-abhinando-besucht-das-zentrum-fuer-buddhismus-in-bern-4/
LOCATION:Zentrum für Buddhismus\, Reiterstrasse 2\, Bern\, 3013\, Switzerland
CATEGORIES:Vorträge und andere Veranstaltungen
ORGANIZER;CN="Vipassana Meditationsgruppe%2C Zentrum f%C3%BCr Buddhismus in Bern":MAILTO:kontakt@zentrumfuerbuddhismus.ch
END:VEVENT
BEGIN:VEVENT
DTSTART;TZID=Europe/Zurich:20191013T100000
DTEND;TZID=Europe/Zurich:20191013T140000
DTSTAMP:20260421T172024
CREATED:20181216T093240Z
LAST-MODIFIED:20181216T163900Z
UID:3297-1570960800-1570975200@backup.dhammapala.ch
SUMMARY:Pah Bah Gabenveranstaltung zum dritten Todestag von König Bhumipol
DESCRIPTION:Gabenzeremonie zum Andenken an den verstorbenen König von Thailand.
URL:https://backup.dhammapala.ch/veranstaltungen/pah-bah-gabenveranstaltung-zum-dritten-todestage-von-koenig-bhumipol/
LOCATION:Kloster Dhammapala\, Bütschelsstrasse 74\, Kandersteg\, 3718\, Schweiz
CATEGORIES:Vorträge und andere Veranstaltungen
END:VEVENT
BEGIN:VEVENT
DTSTART;TZID=Europe/Zurich:20190930T193000
DTEND;TZID=Europe/Zurich:20190930T213000
DTSTAMP:20260421T172024
CREATED:20181216T094714Z
LAST-MODIFIED:20181216T094714Z
UID:3308-1569871800-1569879000@backup.dhammapala.ch
SUMMARY:Ajahn Abhinando besucht die Dhamma-Gruppe in Zürich
DESCRIPTION:
URL:https://backup.dhammapala.ch/veranstaltungen/ajahn-abhinando-besucht-die-dhamma-gruppe-in-zuerich-4/
LOCATION:Quartierhaus Kreis 6\, Langmauerstr. 7 \, Zürich\, 8006\, Switzerland
CATEGORIES:Vorträge und andere Veranstaltungen
ORGANIZER;CN="Maya K%C3%BCchler Tel%3A 044 %E2%80%93 391 68 72 und Rolf Hafner Tel%3A 079 %E2%80%93 358 90 77":MAILTO:maya-kuechler@bluewin.ch
END:VEVENT
BEGIN:VEVENT
DTSTART;TZID=Europe/Zurich:20190925T193000
DTEND;TZID=Europe/Zurich:20190925T213000
DTSTAMP:20260421T172024
CREATED:20181216T094430Z
LAST-MODIFIED:20190806T144653Z
UID:3306-1569439800-1569447000@backup.dhammapala.ch
SUMMARY:Bhikkhu Bodhinando besucht die Meditationsgruppe in Genf
DESCRIPTION:Diese Gruppe trifft sich regelmäßig – etwa einmal im Monat – Mittwoch abends um 19:30h. \nNeben Mönchen und Nonnen aus dem Forest Sangha werden auch andere Lehrer und Lehrerinnen von der Gruppe eingeladen\, um dort Vorträge zu halten. Die Vorträge werden generell in englischer Sprache gehalten (ohne Übersetzung).
URL:https://backup.dhammapala.ch/veranstaltungen/ein-moench-besucht-die-meditationsgruppe-in-genf-2/
LOCATION:Basel
CATEGORIES:Vorträge und andere Veranstaltungen
END:VEVENT
END:VCALENDAR