BEGIN:VCALENDAR
VERSION:2.0
PRODID:-//Dhammapala - ECPv6.15.12.2//NONSGML v1.0//EN
CALSCALE:GREGORIAN
METHOD:PUBLISH
X-ORIGINAL-URL:https://backup.dhammapala.ch
X-WR-CALDESC:Events for Dhammapala
REFRESH-INTERVAL;VALUE=DURATION:PT1H
X-Robots-Tag:noindex
X-PUBLISHED-TTL:PT1H
BEGIN:VTIMEZONE
TZID:Europe/Zurich
BEGIN:DAYLIGHT
TZOFFSETFROM:+0100
TZOFFSETTO:+0200
TZNAME:CEST
DTSTART:20210328T010000
END:DAYLIGHT
BEGIN:STANDARD
TZOFFSETFROM:+0200
TZOFFSETTO:+0100
TZNAME:CET
DTSTART:20211031T010000
END:STANDARD
BEGIN:DAYLIGHT
TZOFFSETFROM:+0100
TZOFFSETTO:+0200
TZNAME:CEST
DTSTART:20220327T010000
END:DAYLIGHT
BEGIN:STANDARD
TZOFFSETFROM:+0200
TZOFFSETTO:+0100
TZNAME:CET
DTSTART:20221030T010000
END:STANDARD
BEGIN:DAYLIGHT
TZOFFSETFROM:+0100
TZOFFSETTO:+0200
TZNAME:CEST
DTSTART:20230326T010000
END:DAYLIGHT
BEGIN:STANDARD
TZOFFSETFROM:+0200
TZOFFSETTO:+0100
TZNAME:CET
DTSTART:20231029T010000
END:STANDARD
BEGIN:DAYLIGHT
TZOFFSETFROM:+0100
TZOFFSETTO:+0200
TZNAME:CEST
DTSTART:20240331T010000
END:DAYLIGHT
BEGIN:STANDARD
TZOFFSETFROM:+0200
TZOFFSETTO:+0100
TZNAME:CET
DTSTART:20241027T010000
END:STANDARD
BEGIN:DAYLIGHT
TZOFFSETFROM:+0100
TZOFFSETTO:+0200
TZNAME:CEST
DTSTART:20250330T010000
END:DAYLIGHT
BEGIN:STANDARD
TZOFFSETFROM:+0200
TZOFFSETTO:+0100
TZNAME:CET
DTSTART:20251026T010000
END:STANDARD
BEGIN:DAYLIGHT
TZOFFSETFROM:+0100
TZOFFSETTO:+0200
TZNAME:CEST
DTSTART:20260329T010000
END:DAYLIGHT
BEGIN:STANDARD
TZOFFSETFROM:+0200
TZOFFSETTO:+0100
TZNAME:CET
DTSTART:20261025T010000
END:STANDARD
END:VTIMEZONE
BEGIN:VEVENT
DTSTART;TZID=Europe/Zurich:20250430T193000
DTEND;TZID=Europe/Zurich:20250430T210000
DTSTAMP:20260421T121249
CREATED:20241123T080433Z
LAST-MODIFIED:20241123T080433Z
UID:7351-1746041400-1746046800@backup.dhammapala.ch
SUMMARY:Tan Manuñño besucht die Meditationsgruppe in Genf
DESCRIPTION:French/English
URL:https://backup.dhammapala.ch/veranstaltungen/tan-manunno-besucht-die-meditationsgruppe-in-genf-2/
LOCATION:tba\, Genève\, 1227\, Switzerland
CATEGORIES:All events,English courses,Vorträge und andere Veranstaltungen
END:VEVENT
BEGIN:VEVENT
DTSTART;TZID=Europe/Zurich:20250427T080000
DTEND;TZID=Europe/Zurich:20250427T170000
DTSTAMP:20260421T121249
CREATED:20241110T080141Z
LAST-MODIFIED:20241110T080248Z
UID:7302-1745740800-1745773200@backup.dhammapala.ch
SUMMARY:Ajahn Khemasiri besucht Zürich Insight in Baden
DESCRIPTION:
URL:https://backup.dhammapala.ch/veranstaltungen/ajahn-khemasiri-besucht-zurich-insight-in-baden/
LOCATION:Namaste Yoga\, Baden\, Kronengasse 20F\, Baden\, 5400
CATEGORIES:All events,Vorträge und andere Veranstaltungen
ORGANIZER;CN="Insight Z%C3%BCrich":MAILTO:events@insight-zuerich.ch
END:VEVENT
BEGIN:VEVENT
DTSTART;TZID=Europe/Zurich:20250416T191500
DTEND;TZID=Europe/Zurich:20250416T210000
DTSTAMP:20260421T121249
CREATED:20241123T075706Z
LAST-MODIFIED:20241123T075706Z
UID:7343-1744830900-1744837200@backup.dhammapala.ch
SUMMARY:Ajahn Viranando besucht das Zentrum für Buddhismus in Bern
DESCRIPTION:
URL:https://backup.dhammapala.ch/veranstaltungen/ajahn-viranando-besucht-das-zentrum-fur-buddhismus-in-bern/
LOCATION:Zentrum für Buddhismus\, Reiterstrasse 2\, Bern\, 3013\, Switzerland
CATEGORIES:All events,Vorträge und andere Veranstaltungen
ORGANIZER;CN="Vipassana Meditationsgruppe%2C Zentrum f%C3%BCr Buddhismus in Bern":MAILTO:kontakt@zentrumfuerbuddhismus.ch
END:VEVENT
BEGIN:VEVENT
DTSTART;TZID=Europe/Zurich:20241020T100000
DTEND;TZID=Europe/Zurich:20241020T150000
DTSTAMP:20260421T121249
CREATED:20231116T195622Z
LAST-MODIFIED:20231116T195622Z
UID:6813-1729418400-1729436400@backup.dhammapala.ch
SUMMARY:Kathina Feier im Gemeindesaal Kandersteg
DESCRIPTION:Diese von der Laien-Gemeinschaft des Klosters initiierte Feier dient vorwiegend dazu\, den Mönchen nach Vollendung der ‚Regenzeit‘- Klausur Bedarfsartikel zukommen zu lassen. Da in unseren Breiten bereits der Winter vor der Tür steht\, eignen sich besonders die Dinge\, die der Gemeinschaft während des langen alpinen Winters nützlich sein könnten.\nTraditionell wird im Rahmen eines Zeremoniells vor allem auch ein Stück Robenstoff überreicht\, welches die Mönche selbst noch am selben Tag zu einer fertigen Robe nähen sollten. Nach deren Fertigstellung wird einem von ihnen gewähltem Mönch diese Robe feierlich überreicht.
URL:https://backup.dhammapala.ch/veranstaltungen/kathina-feier-im-gemeindesaal-kandersteg-4/
LOCATION:Gemeindesaal Kandersteg\, Äussere Dorfstr. 26\, Kandersteg
CATEGORIES:All events,Vorträge und andere Veranstaltungen
END:VEVENT
BEGIN:VEVENT
DTSTART;TZID=Europe/Zurich:20241016T191500
DTEND;TZID=Europe/Zurich:20241016T191500
DTSTAMP:20260421T121249
CREATED:20231116T075919Z
LAST-MODIFIED:20231116T075919Z
UID:6782-1729106100-1729106100@backup.dhammapala.ch
SUMMARY:Ajahn Abhinando besucht das Zentrum für Buddhismus in Bern
DESCRIPTION:
URL:https://backup.dhammapala.ch/veranstaltungen/ajahn-abhinando-besucht-das-zentrum-fur-buddhismus-in-bern-9/
LOCATION:Zentrum für Buddhismus\, Reiterstrasse 2\, Bern\, 3013\, Switzerland
CATEGORIES:All events,Vorträge und andere Veranstaltungen
ORGANIZER;CN="Vipassana Meditationsgruppe%2C Zentrum f%C3%BCr Buddhismus in Bern":MAILTO:kontakt@zentrumfuerbuddhismus.ch
END:VEVENT
BEGIN:VEVENT
DTSTART;TZID=Europe/Zurich:20240930T193000
DTEND;TZID=Europe/Zurich:20240930T210000
DTSTAMP:20260421T121249
CREATED:20231116T091805Z
LAST-MODIFIED:20231116T091805Z
UID:6791-1727724600-1727730000@backup.dhammapala.ch
SUMMARY:Ajahn Abhinando besucht die Dhamma-Gruppe in Zürich
DESCRIPTION:
URL:https://backup.dhammapala.ch/veranstaltungen/ajahn-abhinando-besucht-die-dhamma-gruppe-in-zurich-9/
LOCATION:Quartierhaus Kreis 6\, Langmauerstr. 7 \, Zürich\, 8006\, Switzerland
CATEGORIES:All events,Vorträge und andere Veranstaltungen
END:VEVENT
BEGIN:VEVENT
DTSTART;TZID=Europe/Zurich:20240925T193000
DTEND;TZID=Europe/Zurich:20240925T210000
DTSTAMP:20260421T121249
CREATED:20231116T091007Z
LAST-MODIFIED:20231116T091007Z
UID:6784-1727292600-1727298000@backup.dhammapala.ch
SUMMARY:Ajahn Abhinando besucht die Meditationsgruppe in Genf (Engl.)
DESCRIPTION:
URL:https://backup.dhammapala.ch/veranstaltungen/ajahn-abhinando-besucht-die-meditationsgruppe-in-genf-engl/
LOCATION:tba\, Genève\, 1227\, Switzerland
CATEGORIES:All events,Vorträge und andere Veranstaltungen
END:VEVENT
BEGIN:VEVENT
DTSTART;TZID=Europe/Zurich:20240804T090000
DTEND;TZID=Europe/Zurich:20240804T170000
DTSTAMP:20260421T121249
CREATED:20240213T075927Z
LAST-MODIFIED:20240213T080050Z
UID:6963-1722762000-1722790800@backup.dhammapala.ch
SUMMARY:Ajahn Khemasiri besucht Association Mudita in Lausanne
DESCRIPTION:Meditationstag (engl. mit Übersetzung in franz.)
URL:https://backup.dhammapala.ch/veranstaltungen/ajahn-khemasiri-besucht-association-mudita-in-lausanne-2/
LOCATION:Salle du Tilleul\, 1081 Montpreveyres
CATEGORIES:All events,Vorträge und andere Veranstaltungen
ORGANIZER;CN="Association Mudita c/o Adriana Orellana%2C adriana@mudita.ch (Anmeldung)%2C Anne Michel (Informationen)":MAILTO:info@mudita.ch
END:VEVENT
BEGIN:VEVENT
DTSTART;TZID=Europe/Zurich:20240803T183000
DTEND;TZID=Europe/Zurich:20240803T210000
DTSTAMP:20260421T121249
CREATED:20240213T075249Z
LAST-MODIFIED:20240213T080132Z
UID:6954-1722709800-1722718800@backup.dhammapala.ch
SUMMARY:Ajahn Khemasiri besucht Association Mudita in Lausanne
DESCRIPTION:Abendvortrag und Meditationstag (engl. mit Übersetzung in franz.) \n 
URL:https://backup.dhammapala.ch/veranstaltungen/ajahn-khemasiri-besucht-association-mudita-in-lausanne/
LOCATION:Salle du Tilleul\, 1081 Montpreveyres
CATEGORIES:All events,Vorträge und andere Veranstaltungen
ORGANIZER;CN="Association Mudita c/o Adriana Orellana%2C adriana@mudita.ch (Anmeldung)%2C Anne Michel (Informationen)":MAILTO:info@mudita.ch
END:VEVENT
BEGIN:VEVENT
DTSTART;TZID=Europe/Zurich:20240716T193000
DTEND;TZID=Europe/Zurich:20240716T193000
DTSTAMP:20260421T121249
CREATED:20240213T073105Z
LAST-MODIFIED:20240710T125230Z
UID:6949-1721158200-1721158200@backup.dhammapala.ch
SUMMARY:Ajahn Khemasiri besucht Sangha der Kleinen Lampen in Freiburg / Breisgau
DESCRIPTION:Anmeldung bei: tanjathielgen@posteo.de \nEinlass ab 19:15 Uhr
URL:https://backup.dhammapala.ch/veranstaltungen/ajahn-khemasiri-besucht-sangha-der-kleinen-lampen-in-freiburg-breisgau/
CATEGORIES:All events,Vorträge und andere Veranstaltungen
END:VEVENT
BEGIN:VEVENT
DTSTART;TZID=Europe/Zurich:20240526T100000
DTEND;TZID=Europe/Zurich:20240526T150000
DTSTAMP:20260421T121249
CREATED:20231116T092053Z
LAST-MODIFIED:20231116T092053Z
UID:6793-1716717600-1716735600@backup.dhammapala.ch
SUMMARY:Vesakh-Feier im Gemeindesaal in Kandersteg
DESCRIPTION:Diese Feier setzt sich aus vier verschiedenen Teilen zusammen. Sie beginnt mit der Möglichkeit der formellen Zufluchtnahme zu Buddha\, Dhamma und Sangha und der damit einhergehenden Bekennung zu einer ethisch integren Lebensweise (fünf ethische Grundsätze). Danach folgt eine Segensrezitation (Chanting) der Mönche in der Pali-Sprache\, bestehend aus kurzen inspirierenden Lehrreden des Buddha als auch später hinzugefügten Segens- und Schutzversen der Theravada-Tradition. \nDie darauf folgende Mittagspause und die gemeinsame Mahlzeit stellen den geselligen zweiten Teil dar. \nIm dritten und kontemplativen Teil der Feier\, wird einer der Mönche einen Dhamma-Vortrag halten. \nDer abschließende und zeremonielle Teil der Feier besteht aus einer gemeinsamen Umgehung eines Buddha-Altars mit Blumen\, Kerzen und Räucherwerk – draussen\, wenn es die Witterung zulässt\, ansonsten im Saal.
URL:https://backup.dhammapala.ch/veranstaltungen/vesakh-feier-im-gemeindesaal-in-kandersteg-3/
LOCATION:Gemeindesaal Kandersteg\, Äussere Dorfstr. 26\, Kandersteg
CATEGORIES:All events,Vorträge und andere Veranstaltungen
END:VEVENT
BEGIN:VEVENT
DTSTART;TZID=Europe/Zurich:20240508T191500
DTEND;TZID=Europe/Zurich:20240508T210000
DTSTAMP:20260421T121249
CREATED:20231116T075809Z
LAST-MODIFIED:20231116T075809Z
UID:6780-1715195700-1715202000@backup.dhammapala.ch
SUMMARY:Ajahn Abhinando besucht das Zentrum für Buddhismus in Bern
DESCRIPTION:
URL:https://backup.dhammapala.ch/veranstaltungen/ajahn-abhinando-besucht-das-zentrum-fur-buddhismus-in-bern-8/
LOCATION:Zentrum für Buddhismus\, Reiterstrasse 2\, Bern\, 3013\, Switzerland
CATEGORIES:All events,Vorträge und andere Veranstaltungen
ORGANIZER;CN="Vipassana Meditationsgruppe%2C Zentrum f%C3%BCr Buddhismus in Bern":MAILTO:kontakt@zentrumfuerbuddhismus.ch
END:VEVENT
BEGIN:VEVENT
DTSTART;TZID=Europe/Zurich:20231119T100000
DTEND;TZID=Europe/Zurich:20231119T150000
DTSTAMP:20260421T121249
CREATED:20221124T084407Z
LAST-MODIFIED:20221124T084407Z
UID:6174-1700388000-1700406000@backup.dhammapala.ch
SUMMARY:Kathina Feier im Gemeindesaal Kandersteg
DESCRIPTION:Diese von der Laien-Gemeinschaft des Klosters initiierte Feier dient vorwiegend dazu\, den Mönchen nach Vollendung der ‚Regenzeit‘- Klausur Bedarfsartikel zukommen zu lassen. Da in unseren Breiten bereits der Winter vor der Tür steht\, eignen sich besonders die Dinge\, die der Gemeinschaft während des langen alpinen Winters nützlich sein könnten.\nTraditionell wird im Rahmen eines Zeremoniells vor allem auch ein Stück Robenstoff überreicht\, welches die Mönche selbst noch am selben Tag zu einer fertigen Robe nähen sollten. Nach deren Fertigstellung wird einem von ihnen gewähltem Mönch diese Robe feierlich überreicht.
URL:https://backup.dhammapala.ch/veranstaltungen/kathina-feier-im-gemeindesaal-kandersteg-3/
LOCATION:Gemeindesaal Kandersteg\, Äussere Dorfstr. 26\, Kandersteg
CATEGORIES:All events,Vorträge und andere Veranstaltungen
END:VEVENT
BEGIN:VEVENT
DTSTART;TZID=Europe/Zurich:20231025T193000
DTEND;TZID=Europe/Zurich:20231025T210000
DTSTAMP:20260421T121249
CREATED:20221124T083448Z
LAST-MODIFIED:20221124T083448Z
UID:6168-1698262200-1698267600@backup.dhammapala.ch
SUMMARY:Ajahn Abhinando besucht das Zentrum für Buddhismus in Bern
DESCRIPTION:
URL:https://backup.dhammapala.ch/veranstaltungen/ajahn-abhinando-besucht-das-zentrum-fur-buddhismus-in-bern-7/
LOCATION:Zentrum für Buddhismus\, Reiterstrasse 2\, Bern\, 3013\, Switzerland
CATEGORIES:All events,Vorträge und andere Veranstaltungen
ORGANIZER;CN="Vipassana Meditationsgruppe%2C Zentrum f%C3%BCr Buddhismus in Bern":MAILTO:kontakt@zentrumfuerbuddhismus.ch
END:VEVENT
BEGIN:VEVENT
DTSTART;TZID=Europe/Zurich:20231018T193000
DTEND;TZID=Europe/Zurich:20231018T210000
DTSTAMP:20260421T121249
CREATED:20211124T094247Z
LAST-MODIFIED:20230628T075836Z
UID:5423-1697657400-1697662800@backup.dhammapala.ch
SUMMARY:Ajahn Abhinando besucht die Meditationsgruppe in Genf
DESCRIPTION:Diese Gruppe trifft sich regelmäßig – etwa einmal im Monat – Mittwoch abends um 19:30h. \nNeben Mönchen und Nonnen aus dem Forest Sangha werden auch andere Lehrer und Lehrerinnen von der Gruppe eingeladen\, um dort Vorträge zu halten. Die Vorträge werden generell in englischer Sprache gehalten (ohne Übersetzung).
URL:https://backup.dhammapala.ch/veranstaltungen/ajahn-abhinando-besucht-die-meditationsgruppe-in-genf-8/
LOCATION:tba\, Genève\, 1227\, Switzerland
CATEGORIES:All events,Vorträge und andere Veranstaltungen
END:VEVENT
BEGIN:VEVENT
DTSTART;TZID=Europe/Zurich:20230925T193000
DTEND;TZID=Europe/Zurich:20230925T210000
DTSTAMP:20260421T121249
CREATED:20221124T083302Z
LAST-MODIFIED:20221124T083302Z
UID:6166-1695670200-1695675600@backup.dhammapala.ch
SUMMARY:Ajahn Abhinando besucht die Dhamma-Gruppe in Zürich
DESCRIPTION:
URL:https://backup.dhammapala.ch/veranstaltungen/ajahn-abhinando-besucht-die-dhamma-gruppe-in-zurich-7/
LOCATION:Quartierhaus Kreis 6\, Langmauerstr. 7 \, Zürich\, 8006\, Switzerland
CATEGORIES:All events,Vorträge und andere Veranstaltungen
END:VEVENT
BEGIN:VEVENT
DTSTART;TZID=Europe/Zurich:20230801T193000
DTEND;TZID=Europe/Zurich:20230801T213000
DTSTAMP:20260421T121249
CREATED:20221124T081427Z
LAST-MODIFIED:20221124T081427Z
UID:6154-1690918200-1690925400@backup.dhammapala.ch
SUMMARY:Asalha Puja
DESCRIPTION:Alljährlich am Vollmondtag im Juli (Asalha Puja) gedenkt man in der buddhistischen Welt der ersten Lehrdarlegung des Buddha – der Dhammacakkapavattana Sutta des In-Bewegung-Setzens des Rades der Lehre und ihrer unmittelbaren Auswirkungen. Kern dieser Lehrrede ist die Beschreibung des mittleren Weges mit den vier Edlen Wahrheiten und dem achtfachen Pfad. Am Ende der Rede erfolgte der fast euphorische Ruf des Buddha: Kondannyo hat verstanden! Allein durch aufmerksames Hören der Darlegungen des Buddha öffnete sich für den Asketen Kondannyo das Auge des Dhamma. Er wurde zu einem Menschen\, der in den Strom des Dhamma eingetreten war. \nBesucher und Gäste sind herzlich willkommen\, auch an der sich daran anschließenden Sitz- und Gehmeditation bis Mitternacht.
URL:https://backup.dhammapala.ch/veranstaltungen/asalha-puja-3/
LOCATION:Kloster Dhammapala\, Bütschelsstrasse 74\, Kandersteg\, 3718\, Schweiz
CATEGORIES:All events,Vorträge und andere Veranstaltungen
END:VEVENT
BEGIN:VEVENT
DTSTART;TZID=Europe/Zurich:20230531T193000
DTEND;TZID=Europe/Zurich:20230531T210000
DTSTAMP:20260421T121249
CREATED:20221124T083108Z
LAST-MODIFIED:20221124T083108Z
UID:6164-1685561400-1685566800@backup.dhammapala.ch
SUMMARY:Ajahn Abhinando besucht das Kalyanamitta Zentrum in Basel
DESCRIPTION:
URL:https://backup.dhammapala.ch/veranstaltungen/ajahn-abhinando-besucht-das-kalyanamitta-zentrum-in-basel-9/
LOCATION:Kalyana-Mitta-Gruppe\, Ramsteinerstrasse 16\, Basel\, Basel\, 4052\, Deutschland
CATEGORIES:All events,Vorträge und andere Veranstaltungen
END:VEVENT
BEGIN:VEVENT
DTSTART;TZID=Europe/Zurich:20230521T100000
DTEND;TZID=Europe/Zurich:20230521T150000
DTSTAMP:20260421T121249
CREATED:20221124T075038Z
LAST-MODIFIED:20221124T075038Z
UID:6146-1684663200-1684681200@backup.dhammapala.ch
SUMMARY:Vesakh-Feier im Gemeindesaal in Kandersteg
DESCRIPTION:Diese Feier setzt sich aus vier verschiedenen Teilen zusammen. Sie beginnt mit der Möglichkeit der formellen Zufluchtnahme zu Buddha\, Dhamma und Sangha und der damit einhergehenden Bekennung zu einer ethisch integren Lebensweise (fünf ethische Grundsätze). Danach folgt eine Segensrezitation (Chanting) der Mönche in der Pali-Sprache\, bestehend aus kurzen inspirierenden Lehrreden des Buddha als auch später hinzugefügten Segens- und Schutzversen der Theravada-Tradition. \nDie darauf folgende Mittagspause und die gemeinsame Mahlzeit stellen den geselligen zweiten Teil dar. \nIm dritten und kontemplativen Teil der Feier\, wird einer der Mönche einen Dhamma-Vortrag halten. \nDer abschließende und zeremonielle Teil der Feier besteht aus einer gemeinsamen Umgehung eines Buddha-Altars mit Blumen\, Kerzen und Räucherwerk – draussen\, wenn es die Witterung zulässt\, ansonsten im Saal.
URL:https://backup.dhammapala.ch/veranstaltungen/vesakh-feier-im-gemeindesaal-in-kandersteg-2/
LOCATION:Gemeindesaal Kandersteg\, Äussere Dorfstr. 26\, Kandersteg
CATEGORIES:All events,Vorträge und andere Veranstaltungen
END:VEVENT
BEGIN:VEVENT
DTSTART;TZID=Europe/Zurich:20230426T191500
DTEND;TZID=Europe/Zurich:20230426T210000
DTSTAMP:20260421T121249
CREATED:20221124T074438Z
LAST-MODIFIED:20221124T074438Z
UID:6142-1682536500-1682542800@backup.dhammapala.ch
SUMMARY:Abhinando besucht das Zentrum für Buddhismus in Bern
DESCRIPTION:
URL:https://backup.dhammapala.ch/veranstaltungen/abhinando-besucht-das-zentrum-fur-buddhismus-in-bern/
LOCATION:Zentrum für Buddhismus\, Reiterstrasse 2\, Bern\, 3013\, Switzerland
CATEGORIES:All events,Vorträge und andere Veranstaltungen
ORGANIZER;CN="Vipassana Meditationsgruppe%2C Zentrum f%C3%BCr Buddhismus in Bern":MAILTO:kontakt@zentrumfuerbuddhismus.ch
END:VEVENT
BEGIN:VEVENT
DTSTART;TZID=Europe/Zurich:20230403T193000
DTEND;TZID=Europe/Zurich:20230403T210000
DTSTAMP:20260421T121249
CREATED:20221124T074202Z
LAST-MODIFIED:20221124T074202Z
UID:6140-1680550200-1680555600@backup.dhammapala.ch
SUMMARY:Ajahn Abhinando besucht die Dhamma-Gruppe in Zürich
DESCRIPTION:
URL:https://backup.dhammapala.ch/veranstaltungen/ajahn-abhinando-besucht-die-dhamma-gruppe-in-zurich-6/
LOCATION:Quartierhaus Kreis 6\, Langmauerstr. 7 \, Zürich\, 8006\, Switzerland
CATEGORIES:All events,Vorträge und andere Veranstaltungen
END:VEVENT
BEGIN:VEVENT
DTSTART;TZID=Europe/Zurich:20221109T193000
DTEND;TZID=Europe/Zurich:20221109T210000
DTSTAMP:20260421T121249
CREATED:20211116T111747Z
LAST-MODIFIED:20220615T140549Z
UID:5395-1668022200-1668027600@backup.dhammapala.ch
SUMMARY:Ajahn Khemasiri besucht die Meditationsgruppe in Genf
DESCRIPTION:Diese Gruppe trifft sich regelmäßig – etwa einmal im Monat – Mittwoch abends um 19:30h. \nNeben Mönchen und Nonnen aus dem Forest Sangha werden auch andere Lehrer und Lehrerinnen von der Gruppe eingeladen\, um dort Vorträge zu halten. Die Vorträge werden generell in englischer Sprache gehalten (ohne Übersetzung).
URL:https://backup.dhammapala.ch/veranstaltungen/ajahn-abhinando-besucht-die-meditationsgruppe-in-genf-7/
LOCATION:tba\, Genève\, 1227\, Switzerland
CATEGORIES:All events,Vorträge und andere Veranstaltungen
END:VEVENT
BEGIN:VEVENT
DTSTART;TZID=Europe/Zurich:20221023T100000
DTEND;TZID=Europe/Zurich:20221023T140000
DTSTAMP:20260421T121249
CREATED:20211029T081236Z
LAST-MODIFIED:20211029T081236Z
UID:5299-1666519200-1666533600@backup.dhammapala.ch
SUMMARY:Kathina-Feier im Gemeindesaal Kandersteg
DESCRIPTION:
URL:https://backup.dhammapala.ch/veranstaltungen/kathina-feier-im-gemeindesaal-kandersteg-2/
LOCATION:Gemeindesaal Kandersteg\, Äussere Dorfstr. 26\, Kandersteg
CATEGORIES:All events,Vorträge und andere Veranstaltungen
END:VEVENT
BEGIN:VEVENT
DTSTART;TZID=Europe/Zurich:20221012T191500
DTEND;TZID=Europe/Zurich:20221012T210000
DTSTAMP:20260421T121249
CREATED:20211030T085455Z
LAST-MODIFIED:20211030T085455Z
UID:5308-1665602100-1665608400@backup.dhammapala.ch
SUMMARY:Ajahn Abhinando besucht das Zentrum für Buddhismus in Bern
DESCRIPTION:
URL:https://backup.dhammapala.ch/veranstaltungen/ajahn-abhinando-besucht-das-zentrum-fur-buddhismus-in-bern-6/
LOCATION:Zentrum für Buddhismus\, Reiterstrasse 2\, Bern\, 3013\, Switzerland
CATEGORIES:All events,Vorträge und andere Veranstaltungen
ORGANIZER;CN="Vipassana Meditationsgruppe%2C Zentrum f%C3%BCr Buddhismus in Bern":MAILTO:kontakt@zentrumfuerbuddhismus.ch
END:VEVENT
BEGIN:VEVENT
DTSTART;TZID=Europe/Zurich:20221003T193000
DTEND;TZID=Europe/Zurich:20221003T210000
DTSTAMP:20260421T121249
CREATED:20211031T093931Z
LAST-MODIFIED:20211108T081251Z
UID:5319-1664825400-1664830800@backup.dhammapala.ch
SUMMARY:Ajahn Abhinando besucht die Dhamma-Gruppe in Zürich
DESCRIPTION:
URL:https://backup.dhammapala.ch/veranstaltungen/ajahn-abhinando-besucht-die-dhamma-gruppe-in-zurich-5/
LOCATION:Quartierhaus Kreis 6\, Langmauerstr. 7 \, Zürich\, 8006\, Switzerland
CATEGORIES:All events,Vorträge und andere Veranstaltungen
END:VEVENT
BEGIN:VEVENT
DTSTART;TZID=Europe/Zurich:20220929T193000
DTEND;TZID=Europe/Zurich:20220929T210000
DTSTAMP:20260421T121249
CREATED:20211106T164733Z
LAST-MODIFIED:20211106T164733Z
UID:5350-1664479800-1664485200@backup.dhammapala.ch
SUMMARY:Ajahn Khemasiri besucht das Kalyanamitta Zentrum in Basel
DESCRIPTION:
URL:https://backup.dhammapala.ch/veranstaltungen/ajahn-khemasiri-besucht-das-kalyanamitta-zentrum-in-basel-2/
LOCATION:Kalyana-Mitta-Gruppe\, Ramsteinerstrasse 16\, Basel\, Basel\, 4052\, Deutschland
CATEGORIES:All events,Vorträge und andere Veranstaltungen
END:VEVENT
BEGIN:VEVENT
DTSTART;TZID=Europe/Zurich:20220824T191500
DTEND;TZID=Europe/Zurich:20220824T210000
DTSTAMP:20260421T121249
CREATED:20211106T164530Z
LAST-MODIFIED:20211106T164530Z
UID:5348-1661368500-1661374800@backup.dhammapala.ch
SUMMARY:Ajahn Khemasiri besucht das Zentrum für Buddhismus in Bern
DESCRIPTION:
URL:https://backup.dhammapala.ch/veranstaltungen/ajahn-khemasiri-besucht-das-zentrum-fur-buddhismus-in-bern/
LOCATION:Zentrum für Buddhismus\, Reiterstrasse 2\, Bern\, 3013\, Switzerland
CATEGORIES:All events,Vorträge und andere Veranstaltungen
ORGANIZER;CN="Vipassana Meditationsgruppe%2C Zentrum f%C3%BCr Buddhismus in Bern":MAILTO:kontakt@zentrumfuerbuddhismus.ch
END:VEVENT
BEGIN:VEVENT
DTSTART;TZID=Europe/Zurich:20220601T193000
DTEND;TZID=Europe/Zurich:20220601T210000
DTSTAMP:20260421T121249
CREATED:20211110T154715Z
LAST-MODIFIED:20211110T154715Z
UID:5384-1654111800-1654117200@backup.dhammapala.ch
SUMMARY:Ajahn Abhinando besucht die Meditationsgruppe in Genf
DESCRIPTION:Diese Gruppe trifft sich regelmäßig – etwa einmal im Monat – Mittwoch abends um 19:30h. \nNeben Mönchen und Nonnen aus dem Forest Sangha werden auch andere Lehrer und Lehrerinnen von der Gruppe eingeladen\, um dort Vorträge zu halten. Die Vorträge werden generell in englischer Sprache gehalten (ohne Übersetzung).
URL:https://backup.dhammapala.ch/veranstaltungen/ajahn-abhinando-besucht-die-meditationsgruppe-in-genf-6/
LOCATION:tba\, Genève\, 1227\, Switzerland
CATEGORIES:All events,Vorträge und andere Veranstaltungen
END:VEVENT
BEGIN:VEVENT
DTSTART;TZID=Europe/Zurich:20220515T100000
DTEND;TZID=Europe/Zurich:20220515T140000
DTSTAMP:20260421T121249
CREATED:20210623T142524Z
LAST-MODIFIED:20210623T142524Z
UID:5117-1652608800-1652623200@backup.dhammapala.ch
SUMMARY:Vesakh-Feier im Gemeindesaal in Kandersteg
DESCRIPTION:Diese Feier setzt sich aus vier verschiedenen Teilen zusammen. Sie beginnt mit der Möglichkeit der formellen Zufluchtnahme zu Buddha\, Dhamma und Sangha und der damit einhergehenden Bekennung zu einer ethisch integren Lebensweise (fünf ethische Grundsätze). Danach folgt eine Segensrezitation (Chanting) der Mönche in der Pali-Sprache\, bestehend aus kurzen inspirierenden Lehrreden des Buddha als auch später hinzugefügten Segens- und Schutzversen der Theravada-Tradition. \nDie darauf folgende Mittagspause und die gemeinsame Mahlzeit stellen den geselligen zweiten Teil dar. \nIm dritten und kontemplativen Teil der Feier\, wird einer der Mönche einen Dhamma-Vortrag halten. \nDer abschließende und zeremonielle Teil der Feier besteht aus einer gemeinsamen Umgehung eines Buddha-Altars mit Blumen\, Kerzen und Räucherwerk – draussen\, wenn es die Witterung zulässt\, ansonsten im Saal.
URL:https://backup.dhammapala.ch/veranstaltungen/vesakh-feier-im-gemeindesaal-in-kandersteg/
LOCATION:Gemeindesaal Kandersteg\, Äussere Dorfstr. 26\, Kandersteg
CATEGORIES:Vorträge und andere Veranstaltungen
END:VEVENT
BEGIN:VEVENT
DTSTART;TZID=Europe/Zurich:20220505T193000
DTEND;TZID=Europe/Zurich:20220505T210000
DTSTAMP:20260421T121249
CREATED:20211029T075250Z
LAST-MODIFIED:20211029T075250Z
UID:5287-1651779000-1651784400@backup.dhammapala.ch
SUMMARY:Ajahn Abhinando besucht das Kalyanamitta Zentrum in Basel
DESCRIPTION:
URL:https://backup.dhammapala.ch/veranstaltungen/ajahn-abhinando-besucht-das-kalyanamitta-zentrum-in-basel-8/
LOCATION:Kalyana-Mitta-Gruppe\, Ramsteinerstrasse 16\, Basel\, Basel\, 4052\, Deutschland
CATEGORIES:All events,Vorträge und andere Veranstaltungen
END:VEVENT
END:VCALENDAR