BEGIN:VCALENDAR
VERSION:2.0
PRODID:-//Dhammapala - ECPv6.15.12.2//NONSGML v1.0//EN
CALSCALE:GREGORIAN
METHOD:PUBLISH
X-ORIGINAL-URL:https://backup.dhammapala.ch
X-WR-CALDESC:Events for Dhammapala
REFRESH-INTERVAL;VALUE=DURATION:PT1H
X-Robots-Tag:noindex
X-PUBLISHED-TTL:PT1H
BEGIN:VTIMEZONE
TZID:Europe/Zurich
BEGIN:DAYLIGHT
TZOFFSETFROM:+0100
TZOFFSETTO:+0200
TZNAME:CEST
DTSTART:20140330T010000
END:DAYLIGHT
BEGIN:STANDARD
TZOFFSETFROM:+0200
TZOFFSETTO:+0100
TZNAME:CET
DTSTART:20141026T010000
END:STANDARD
BEGIN:DAYLIGHT
TZOFFSETFROM:+0100
TZOFFSETTO:+0200
TZNAME:CEST
DTSTART:20150329T010000
END:DAYLIGHT
BEGIN:STANDARD
TZOFFSETFROM:+0200
TZOFFSETTO:+0100
TZNAME:CET
DTSTART:20151025T010000
END:STANDARD
BEGIN:DAYLIGHT
TZOFFSETFROM:+0100
TZOFFSETTO:+0200
TZNAME:CEST
DTSTART:20160327T010000
END:DAYLIGHT
BEGIN:STANDARD
TZOFFSETFROM:+0200
TZOFFSETTO:+0100
TZNAME:CET
DTSTART:20161030T010000
END:STANDARD
END:VTIMEZONE
BEGIN:VEVENT
DTSTART;VALUE=DATE:20151020
DTEND;VALUE=DATE:20151021
DTSTAMP:20260422T055458
CREATED:20151120T135743Z
LAST-MODIFIED:20151120T141429Z
UID:1949-1445299200-1445385599@backup.dhammapala.ch
SUMMARY:Ajahn Khemasiri besucht die Kalyana-Mitta-Gruppe in Basel
DESCRIPTION:
URL:https://backup.dhammapala.ch/veranstaltungen/ajahn-khemasiri-besucht-die-kalyana-mitta-gruppe-in-basel/
LOCATION:Kalyana-Mitta-Gruppe\, Ramsteinerstrasse 16\, Basel\, Basel\, 4052\, Deutschland
CATEGORIES:Vorträge und andere Veranstaltungen
END:VEVENT
BEGIN:VEVENT
DTSTART;VALUE=DATE:20150902
DTEND;VALUE=DATE:20150903
DTSTAMP:20260422T055458
CREATED:20150529T060903Z
LAST-MODIFIED:20150529T060903Z
UID:53-1441152000-1441238399@backup.dhammapala.ch
SUMMARY:Ajahn Khemasiri besucht die Meditationsgruppe in Genf
DESCRIPTION:Diese Gruppe trifft sich regelmäßig – etwa einmal im Monat – Mittwoch abends um 19:30h im Quaker Meeting House in Genf. Neben Mönchen und Nonnen aus dem Forest Sangha werden auch andere Lehrer und Lehrerinnen von der Gruppe eingeladen\, um dort Vorträge zu halten.
URL:https://backup.dhammapala.ch/veranstaltungen/genf/
LOCATION:Kontaktpersonen: Waew Rebillet ond Patricia Rollier\, Tel: 022 – 300 12 89 oder 021 – 806 22 33
CATEGORIES:Vorträge und andere Veranstaltungen
END:VEVENT
BEGIN:VEVENT
DTSTART;VALUE=DATE:20150830
DTEND;VALUE=DATE:20150831
DTSTAMP:20260422T055458
CREATED:20150529T060803Z
LAST-MODIFIED:20150529T060803Z
UID:52-1440892800-1440979199@backup.dhammapala.ch
SUMMARY:Thailändische Almosenzeremonie im Kloster Dhammapala
DESCRIPTION:Die diesjährige Almosenzeremonie wird bereits zum vierten Mal initiiert von Frau Vandee Meyer aus Bülach. Die während dieses Anlasses offerierten Spenden von vielen Freunden und Unterstützerinnen des Klosters sollen speziell dafür verwendet werden\, die hohen Kosten für die Dachsanierung des Klostergebäudes (ein sechsstelliger Betrag!) im Jahr 2016 mitzutragen. \nAuch Nicht-Thailänder sind zu diesem Anlass herzlich willkommen. Genaue Informationen über den Beginn der Zeremonie erhalten Sie telefonisch im Klosterbüro.
URL:https://backup.dhammapala.ch/veranstaltungen/thailandische-almosenzeremonie-im-kloster/
LOCATION:Kloster am Waldrand\, Bütschelsstrasse 74\, Kandersteg\, 3718 \, Switzerland
CATEGORIES:Vorträge und andere Veranstaltungen
END:VEVENT
BEGIN:VEVENT
DTSTART;VALUE=DATE:20150830
DTEND;VALUE=DATE:20150831
DTSTAMP:20260422T055458
CREATED:20150529T060803Z
LAST-MODIFIED:20150529T060803Z
UID:1373-1440892800-1440979199@backup.dhammapala.ch
SUMMARY:Thailändische Almosenzeremonie im Kloster Dhammapala
DESCRIPTION:Die diesjährige Almosenzeremonie wird bereits zum vierten Mal initiiert von Frau Vandee Meyer aus Bülach. Die während dieses Anlasses offerierten Spenden von vielen Freunden und Unterstützerinnen des Klosters sollen speziell dafür verwendet werden\, die hohen Kosten für die Dachsanierung des Klostergebäudes (ein sechsstelliger Betrag!) im Jahr 2016 mitzutragen. \nAuch Nicht-Thailänder sind zu diesem Anlass herzlich willkommen. Genaue Informationen über den Beginn der Zeremonie erhalten Sie telefonisch im Klosterbüro.
URL:https://backup.dhammapala.ch/veranstaltungen/thailandische-almosenzeremonie-im-kloster-2/
LOCATION:Kloster am Waldrand\, Bütschelsstrasse 74\, Kandersteg\, 3718 \, Switzerland
CATEGORIES:Vorträge und andere Veranstaltungen
END:VEVENT
END:VCALENDAR