BEGIN:VCALENDAR
VERSION:2.0
PRODID:-//Dhammapala - ECPv6.15.12.2//NONSGML v1.0//EN
CALSCALE:GREGORIAN
METHOD:PUBLISH
X-ORIGINAL-URL:https://backup.dhammapala.ch
X-WR-CALDESC:Events for Dhammapala
REFRESH-INTERVAL;VALUE=DURATION:PT1H
X-Robots-Tag:noindex
X-PUBLISHED-TTL:PT1H
BEGIN:VTIMEZONE
TZID:Europe/Zurich
BEGIN:DAYLIGHT
TZOFFSETFROM:+0100
TZOFFSETTO:+0200
TZNAME:CEST
DTSTART:20140330T010000
END:DAYLIGHT
BEGIN:STANDARD
TZOFFSETFROM:+0200
TZOFFSETTO:+0100
TZNAME:CET
DTSTART:20141026T010000
END:STANDARD
BEGIN:DAYLIGHT
TZOFFSETFROM:+0100
TZOFFSETTO:+0200
TZNAME:CEST
DTSTART:20150329T010000
END:DAYLIGHT
BEGIN:STANDARD
TZOFFSETFROM:+0200
TZOFFSETTO:+0100
TZNAME:CET
DTSTART:20151025T010000
END:STANDARD
BEGIN:DAYLIGHT
TZOFFSETFROM:+0100
TZOFFSETTO:+0200
TZNAME:CEST
DTSTART:20160327T010000
END:DAYLIGHT
BEGIN:STANDARD
TZOFFSETFROM:+0200
TZOFFSETTO:+0100
TZNAME:CET
DTSTART:20161030T010000
END:STANDARD
BEGIN:DAYLIGHT
TZOFFSETFROM:+0100
TZOFFSETTO:+0200
TZNAME:CEST
DTSTART:20170326T010000
END:DAYLIGHT
BEGIN:STANDARD
TZOFFSETFROM:+0200
TZOFFSETTO:+0100
TZNAME:CET
DTSTART:20171029T010000
END:STANDARD
BEGIN:DAYLIGHT
TZOFFSETFROM:+0100
TZOFFSETTO:+0200
TZNAME:CEST
DTSTART:20180325T010000
END:DAYLIGHT
BEGIN:STANDARD
TZOFFSETFROM:+0200
TZOFFSETTO:+0100
TZNAME:CET
DTSTART:20181028T010000
END:STANDARD
END:VTIMEZONE
BEGIN:VTIMEZONE
TZID:UTC
BEGIN:STANDARD
TZOFFSETFROM:+0000
TZOFFSETTO:+0000
TZNAME:UTC
DTSTART:20140101T000000
END:STANDARD
END:VTIMEZONE
BEGIN:VEVENT
DTSTART;TZID=Europe/Zurich:20170610T190000
DTEND;TZID=Europe/Zurich:20170610T210000
DTSTAMP:20260422T035620
CREATED:20170511T082330Z
LAST-MODIFIED:20170515T082346Z
UID:2587-1497121200-1497128400@backup.dhammapala.ch
SUMMARY:Dhamma Vortrag von Ajahn Sumedho im Kloster
DESCRIPTION:Anlässlich seines diesjährigen Besuchs im Kloster Dhammapala vom 3. bis 12 Juni hat sich Luang Por Sumedho bereit erklärt\, am Samstag Abend (10.6.) Reflexionen zu einem Dhamma-Thema anzubieten. Da der letzte Besuch von Luang Por Sumedho in Dhammapala bereits sieben Jahre zurück liegt\, ist es uns eine besondere Freude\, dass er sich in diesem Jahr die Zeit genommen hat\, uns anlässlich seines diesjährigen umfangreichen Europa-Programms mit seiner Präsenz zu beehren. \nDer Vortrag wird in englischer Sprache ohne deutsche Übersetzung gehalten. Dies wird übrigens der einzige öffentliche Vortrag von Ajahn Sumedho sein\, den er während seines Besuchs in der Schweiz halten wird.
URL:https://backup.dhammapala.ch/veranstaltungen/dhamma-vortrag-von-ajahn-sumedho-im-kloster/
LOCATION:Kloster Dhammapala\, Bütschelsstrasse 74\, Kandersteg\, 3718\, Schweiz
CATEGORIES:Vorträge und andere Veranstaltungen
ATTACH;FMTTYPE=image/jpeg:https://dhammapala.ch/wp-content/uploads/2017/05/Ajahn-Sumedho-2013.jpg
END:VEVENT
BEGIN:VEVENT
DTSTART;TZID=Europe/Zurich:20170517T193000
DTEND;TZID=Europe/Zurich:20170517T213000
DTSTAMP:20260422T035620
CREATED:20170107T145938Z
LAST-MODIFIED:20170107T150129Z
UID:2521-1495049400-1495056600@backup.dhammapala.ch
SUMMARY:Ajahn Thiradhammo besucht das Zentrum für Buddhismus in Bern
DESCRIPTION:Die Vipassana Meditationsgruppe in Bern ist eine der Theravada-Tradition nahe stehende Gruppe\, die sich einmal wöchentlich zur gemeinsamen Meditation und zum Dhammastudium trifft. Auf eine stille Meditation folgt im Allgemeinen entweder jeweils eine 3/4 Stunde Dhamma-Austausch oder ein Gastbeitrag einer Lehrperson. \nBeginn: jeweils Mittwoch abends um 19:15h. \nWichtig: Ajahn Thiradhammos Vortrag wird in englischer Sprache gehalten. Bitte sich bei den Veranstaltern erkundigen\, ob eine Übersetzung angeboten wird.
URL:https://backup.dhammapala.ch/veranstaltungen/ajahn-thiradhammo-besucht-das-zentrum-fuer-buddhismus-in-bern/
LOCATION:Zentrum für Buddhismus\, Reiterstrasse 2\, Bern\, 3013\, Switzerland
CATEGORIES:All events,Vorträge und andere Veranstaltungen
ORGANIZER;CN="Vipassana Meditationsgruppe%2C Zentrum f%C3%BCr Buddhismus in Bern":MAILTO:kontakt@zentrumfuerbuddhismus.ch
END:VEVENT
BEGIN:VEVENT
DTSTART;TZID=Europe/Zurich:20170510T193000
DTEND;TZID=Europe/Zurich:20170510T213000
DTSTAMP:20260422T035620
CREATED:20151120T140021Z
LAST-MODIFIED:20170107T150330Z
UID:1953-1494444600-1494451800@backup.dhammapala.ch
SUMMARY:Ajahn Khemasiri besucht die Vipassana Gruppe im Zentrum für Buddhismus in Bern
DESCRIPTION:Die Vipassana-Meditationsgruppe in Bern ist eine in der Theravada-Tradition verankerte Gruppe\, die sich einmal wöchentlich zur gemeinsamen Meditation und zum Dhammastudium trifft. Auf eine stille Meditation folgt im Allgmeinen entweder jeweils eine 3/4 Stunde Dhamma-Austausch oder ein Gastbeitrag einer Lehrperson. \nBeginn: jeweils Mittwoch abends um 19:15h. \nDer diesjährige Besuch von Ajahn Khemasiri – genau am Vollmondtag im Mai – fällt auf den höchsten alljährlichen buddhistischen Festtag: Vesakha. Dies ist der Tag\, an dem man der Geburt\, dem Erwachen und dem völligen Nibbana des Buddha gedenkt.
URL:https://backup.dhammapala.ch/veranstaltungen/ajahn-khemasiri-besucht-die-vipassana-gruppe-im-zentrum-fuer-buddhismus-in-bern-2/
LOCATION:Zentrum für Buddhismus\, Reiterstrasse 2\, Bern\, 3013\, Switzerland
CATEGORIES:All events,Vorträge und andere Veranstaltungen
ORGANIZER;CN="Vipassana Meditationsgruppe%2C Zentrum f%C3%BCr Buddhismus in Bern":MAILTO:kontakt@zentrumfuerbuddhismus.ch
END:VEVENT
BEGIN:VEVENT
DTSTART;TZID=Europe/Zurich:20170507T100000
DTEND;TZID=Europe/Zurich:20170507T143000
DTSTAMP:20260422T035620
CREATED:20151120T123820Z
LAST-MODIFIED:20170106T163409Z
UID:1934-1494151200-1494167400@backup.dhammapala.ch
SUMMARY:Vesakh-Feier in Hinterkappelen bei Bern
DESCRIPTION:Diese Feier setzt sich aus vier verschiedenen Teilen zusammen. Sie beginnt mit der Möglichkeit der formellen Zufluchtnahme zu Buddha\, Dhamma und Sangha und der damit einher gehenden Bekennung zu einer ethisch integren Lebensweise (fünf ethische Grundsätze). Danach folgt eine Segensrezitation (Chanting) der Mönche in der Pali-Sprache\, bestehend aus kurzen inspirierenden Lehrreden des Buddha als auch später hinzugefügten Segens- und Schutzversen der Theravada-Tradition. \nDie darauf folgende Mittagspause und die gemeinsame Mahlzeit stellen den geselligen zweiten Teil dar. \nIn diesem Jahr haben wir die besondere Freude\, den Begründer und ersten Abt des Klosters Dhammapala – Ajahn Thiradhammo – zu diesem Anlass begrüßen zu können. Wir werden ihn dazu einladen\, den dritten und kontemplativen Teil der Feier einzuleiten\, während dem traditionell einer der Mönche einen Dhamma-Vortrag halten wird. \nDer abschließende und zeremonielle Teil der Feier  besteht aus einer gemeinsamen Umgehung eines Buddha-Altars mit Blumen\, Kerzen und Räucherwerk – im Garten des Kipferhauses\, wenn es die Witterung zulässt\, ansonsten in der großen Halle.
URL:https://backup.dhammapala.ch/veranstaltungen/vesakh-feier-in-hinterkappelen-bei-bern/
LOCATION:Kipferhaus in Hinterkappelen\, Dorfstrasse 9\, Hinterkappelen\, 3032\, Switzerland
CATEGORIES:All events,Vorträge und andere Veranstaltungen
END:VEVENT
BEGIN:VEVENT
DTSTART;TZID=Europe/Zurich:20170405T193000
DTEND;TZID=Europe/Zurich:20170405T213000
DTSTAMP:20260422T035620
CREATED:20151120T140540Z
LAST-MODIFIED:20170106T154352Z
UID:1956-1491420600-1491427800@backup.dhammapala.ch
SUMMARY:Ajahn Khemasiri besucht die Meditationsgruppe in Genf
DESCRIPTION:Diese Gruppe trifft sich regelmäßig – etwa einmal im Monat – Mittwoch abends um 19:30h. \nNeben Mönchen und Nonnen aus dem Forest Sangha werden auch andere Lehrer und Lehrerinnen von der Gruppe eingeladen\, um dort Vorträge zu halten.
URL:https://backup.dhammapala.ch/veranstaltungen/ajahn-khemasiri-besucht-die-meditationsgruppe-in-genf-2/
LOCATION:tba\, Genève\, 1227\, Switzerland
CATEGORIES:All events,Vorträge und andere Veranstaltungen
END:VEVENT
BEGIN:VEVENT
DTSTART;VALUE=DATE:20161203
DTEND;VALUE=DATE:20161205
DTSTAMP:20260422T035620
CREATED:20151120T140413Z
LAST-MODIFIED:20151120T141405Z
UID:1955-1480723200-1480895999@backup.dhammapala.ch
SUMMARY:Abendvortrag und Tagesseminar mit Ajahn Khemasiri in Lausanne\, englisch mit französischer Übersetzung.
DESCRIPTION:
URL:https://backup.dhammapala.ch/veranstaltungen/abendvortrag-und-tagesseminar-mit-ajahn-khemasiri-in-lausanne-englisch-mit-franzoesischer-uebersetzung/
LOCATION:Association Mudita. L’Arzillier\, Maison du Dialogue\, av. de Rumine 62\, Lausanne\, Switzerland
CATEGORIES:Vorträge und andere Veranstaltungen
ORGANIZER;CN="Claire & Jean Chevalley%2C Tel. 026%E2%80%939247543 und Laurence Mc Kenzie%2C Tel%3A 021%E2%80%937112692":MAILTO:info@mudita.ch
END:VEVENT
BEGIN:VEVENT
DTSTART;VALUE=DATE:20161016
DTEND;VALUE=DATE:20161017
DTSTAMP:20260422T035620
CREATED:20151120T133500Z
LAST-MODIFIED:20151120T141542Z
UID:1948-1476576000-1476662399@backup.dhammapala.ch
SUMMARY:Kathina Feier in Hinterkappelen bei Bern
DESCRIPTION:Diese von der Laien-Gemeinschaft des Klosters initiierte Feier dient vorwiegend dazu\, den Mönchen nach Vollendung der ‘Regenzeit’- Klausur Bedarfsartikel zukommen zu lassen. Da in unseren Breiten bereits der Winter vor der Tür steht\, eignen sich besonders die Dinge\, die der Gemeinschaft während des langen alpinen Winters nützlich sein könnten. \nTraditionell wird im Rahmen eines Zeremoniells vor allem auch ein Stück Robenstoff überreicht\, welches die Mönche selbst noch am selben Tag zu einer fertigen Robe nähen sollten. Nach deren Fertigstellung wird einem von ihnen gewähltem Mönch diese Robe feierlich überreicht. \nDer zu diesem Anlass gegebene Festvortrag eines Mönchs findet meist in thailändischer Sprache statt. \nNähere Informationen dazu\, was das Kloster an Bedarfsartikeln für den Winter gebrauchen könnte\, erhalten Sie im Kloster-Büro. Tel: 033 – 675 21 00
URL:https://backup.dhammapala.ch/veranstaltungen/kathina-feier-in-hinterkappelen-bei-bern/
LOCATION:Kipferhaus in Hinterkappelen\, Dorfstrasse 9\, Hinterkappelen\, 3032\, Switzerland
CATEGORIES:Vorträge und andere Veranstaltungen
END:VEVENT
BEGIN:VEVENT
DTSTART;TZID=Europe/Zurich:20160831T193000
DTEND;TZID=Europe/Zurich:20160831T220000
DTSTAMP:20260422T035620
CREATED:20151123T122025Z
LAST-MODIFIED:20151123T122025Z
UID:1959-1472671800-1472680800@backup.dhammapala.ch
SUMMARY:Ajahn Khemasiri besucht die Meditationsgruppe in Genf
DESCRIPTION:Diese Gruppe trifft sich regelmäßig – etwa einmal im Monat – Mittwoch abends um 19:30h. \nNeben Mönchen und Nonnen aus dem Forest Sangha werden auch andere Lehrer und Lehrerinnen von der Gruppe eingeladen\, um dort Vorträge zu halten.
URL:https://backup.dhammapala.ch/veranstaltungen/ajahn-khemasiri-besucht-die-meditationsgruppe-in-genf-3/
LOCATION:tba\, Genève\, 1227\, Switzerland
CATEGORIES:Vorträge und andere Veranstaltungen
END:VEVENT
BEGIN:VEVENT
DTSTART;VALUE=DATE:20160703
DTEND;VALUE=DATE:20160704
DTSTAMP:20260422T035620
CREATED:20151120T125714Z
LAST-MODIFIED:20160426T080040Z
UID:1942-1467504000-1467590399@backup.dhammapala.ch
SUMMARY:Thailändische Almosenzeremonie im Kloster Dhammapala
DESCRIPTION:Die diesjährige Almosenzeremonie wird bereits zum fünften Mal initiiert von Frau Vandee Meyer aus Bülach. Die während dieses Anlasses offerierten Spenden von vielen Freunden und Unterstützerinnen des Klosters sollen dafür verwendet werden\, die noch ausstehenden Kosten für die diesjährige Dachsanierung des Klostergebäudes abzudecken. \nAuch Nicht-Thailänder sind zu diesem Anlass herzlich willkommen. Genaue Informationen über den Beginn und Ablauf der Zeremonie erhalten Sie telefonisch im Klosterbüro.
URL:https://backup.dhammapala.ch/veranstaltungen/thailaendische-almosenzeremonie-im-kloster-dhammapala/
LOCATION:Kloster am Waldrand\, Bütschelsstrasse 74\, Kandersteg\, 3718 \, Switzerland
CATEGORIES:Vorträge und andere Veranstaltungen
END:VEVENT
BEGIN:VEVENT
DTSTART;VALUE=DATE:20151216
DTEND;VALUE=DATE:20151217
DTSTAMP:20260422T035620
CREATED:20150529T061643Z
LAST-MODIFIED:20150529T061643Z
UID:63-1450224000-1450310399@backup.dhammapala.ch
SUMMARY:Ajahn Khemasiri besucht die Meditationsgruppe in Genf
DESCRIPTION:Diese Gruppe trifft sich regelmäßig – etwa einmal im Monat – Mittwoch abends um 19:30h. \nNeben Mönchen und Nonnen aus dem Forest Sangha werden auch andere Lehrer und Lehrerinnen von der Gruppe eingeladen\, um dort Vorträge zu halten.
URL:https://backup.dhammapala.ch/veranstaltungen/genf-2/
LOCATION:tba\, Genève\, 1227\, Switzerland
CATEGORIES:Vorträge und andere Veranstaltungen
END:VEVENT
BEGIN:VEVENT
DTSTART;VALUE=DATE:20151020
DTEND;VALUE=DATE:20151021
DTSTAMP:20260422T035620
CREATED:20151120T135743Z
LAST-MODIFIED:20151120T141429Z
UID:1949-1445299200-1445385599@backup.dhammapala.ch
SUMMARY:Ajahn Khemasiri besucht die Kalyana-Mitta-Gruppe in Basel
DESCRIPTION:
URL:https://backup.dhammapala.ch/veranstaltungen/ajahn-khemasiri-besucht-die-kalyana-mitta-gruppe-in-basel/
LOCATION:Kalyana-Mitta-Gruppe\, Ramsteinerstrasse 16\, Basel\, Basel\, 4052\, Deutschland
CATEGORIES:Vorträge und andere Veranstaltungen
END:VEVENT
BEGIN:VEVENT
DTSTART;VALUE=DATE:20150902
DTEND;VALUE=DATE:20150903
DTSTAMP:20260422T035620
CREATED:20150529T060903Z
LAST-MODIFIED:20150529T060903Z
UID:53-1441152000-1441238399@backup.dhammapala.ch
SUMMARY:Ajahn Khemasiri besucht die Meditationsgruppe in Genf
DESCRIPTION:Diese Gruppe trifft sich regelmäßig – etwa einmal im Monat – Mittwoch abends um 19:30h im Quaker Meeting House in Genf. Neben Mönchen und Nonnen aus dem Forest Sangha werden auch andere Lehrer und Lehrerinnen von der Gruppe eingeladen\, um dort Vorträge zu halten.
URL:https://backup.dhammapala.ch/veranstaltungen/genf/
LOCATION:Kontaktpersonen: Waew Rebillet ond Patricia Rollier\, Tel: 022 – 300 12 89 oder 021 – 806 22 33
CATEGORIES:Vorträge und andere Veranstaltungen
END:VEVENT
BEGIN:VEVENT
DTSTART;VALUE=DATE:20150830
DTEND;VALUE=DATE:20150831
DTSTAMP:20260422T035620
CREATED:20150529T060803Z
LAST-MODIFIED:20150529T060803Z
UID:52-1440892800-1440979199@backup.dhammapala.ch
SUMMARY:Thailändische Almosenzeremonie im Kloster Dhammapala
DESCRIPTION:Die diesjährige Almosenzeremonie wird bereits zum vierten Mal initiiert von Frau Vandee Meyer aus Bülach. Die während dieses Anlasses offerierten Spenden von vielen Freunden und Unterstützerinnen des Klosters sollen speziell dafür verwendet werden\, die hohen Kosten für die Dachsanierung des Klostergebäudes (ein sechsstelliger Betrag!) im Jahr 2016 mitzutragen. \nAuch Nicht-Thailänder sind zu diesem Anlass herzlich willkommen. Genaue Informationen über den Beginn der Zeremonie erhalten Sie telefonisch im Klosterbüro.
URL:https://backup.dhammapala.ch/veranstaltungen/thailandische-almosenzeremonie-im-kloster/
LOCATION:Kloster am Waldrand\, Bütschelsstrasse 74\, Kandersteg\, 3718 \, Switzerland
CATEGORIES:Vorträge und andere Veranstaltungen
END:VEVENT
BEGIN:VEVENT
DTSTART;VALUE=DATE:20150830
DTEND;VALUE=DATE:20150831
DTSTAMP:20260422T035620
CREATED:20150529T060803Z
LAST-MODIFIED:20150529T060803Z
UID:1373-1440892800-1440979199@backup.dhammapala.ch
SUMMARY:Thailändische Almosenzeremonie im Kloster Dhammapala
DESCRIPTION:Die diesjährige Almosenzeremonie wird bereits zum vierten Mal initiiert von Frau Vandee Meyer aus Bülach. Die während dieses Anlasses offerierten Spenden von vielen Freunden und Unterstützerinnen des Klosters sollen speziell dafür verwendet werden\, die hohen Kosten für die Dachsanierung des Klostergebäudes (ein sechsstelliger Betrag!) im Jahr 2016 mitzutragen. \nAuch Nicht-Thailänder sind zu diesem Anlass herzlich willkommen. Genaue Informationen über den Beginn der Zeremonie erhalten Sie telefonisch im Klosterbüro.
URL:https://backup.dhammapala.ch/veranstaltungen/thailandische-almosenzeremonie-im-kloster-2/
LOCATION:Kloster am Waldrand\, Bütschelsstrasse 74\, Kandersteg\, 3718 \, Switzerland
CATEGORIES:Vorträge und andere Veranstaltungen
END:VEVENT
END:VCALENDAR