BEGIN:VCALENDAR
VERSION:2.0
PRODID:-//Dhammapala - ECPv6.15.12.2//NONSGML v1.0//EN
CALSCALE:GREGORIAN
METHOD:PUBLISH
X-ORIGINAL-URL:https://backup.dhammapala.ch
X-WR-CALDESC:Events for Dhammapala
REFRESH-INTERVAL;VALUE=DURATION:PT1H
X-Robots-Tag:noindex
X-PUBLISHED-TTL:PT1H
BEGIN:VTIMEZONE
TZID:Europe/Zurich
BEGIN:DAYLIGHT
TZOFFSETFROM:+0100
TZOFFSETTO:+0200
TZNAME:CEST
DTSTART:20140330T010000
END:DAYLIGHT
BEGIN:STANDARD
TZOFFSETFROM:+0200
TZOFFSETTO:+0100
TZNAME:CET
DTSTART:20141026T010000
END:STANDARD
BEGIN:DAYLIGHT
TZOFFSETFROM:+0100
TZOFFSETTO:+0200
TZNAME:CEST
DTSTART:20150329T010000
END:DAYLIGHT
BEGIN:STANDARD
TZOFFSETFROM:+0200
TZOFFSETTO:+0100
TZNAME:CET
DTSTART:20151025T010000
END:STANDARD
BEGIN:DAYLIGHT
TZOFFSETFROM:+0100
TZOFFSETTO:+0200
TZNAME:CEST
DTSTART:20160327T010000
END:DAYLIGHT
BEGIN:STANDARD
TZOFFSETFROM:+0200
TZOFFSETTO:+0100
TZNAME:CET
DTSTART:20161030T010000
END:STANDARD
BEGIN:DAYLIGHT
TZOFFSETFROM:+0100
TZOFFSETTO:+0200
TZNAME:CEST
DTSTART:20170326T010000
END:DAYLIGHT
BEGIN:STANDARD
TZOFFSETFROM:+0200
TZOFFSETTO:+0100
TZNAME:CET
DTSTART:20171029T010000
END:STANDARD
BEGIN:DAYLIGHT
TZOFFSETFROM:+0100
TZOFFSETTO:+0200
TZNAME:CEST
DTSTART:20180325T010000
END:DAYLIGHT
BEGIN:STANDARD
TZOFFSETFROM:+0200
TZOFFSETTO:+0100
TZNAME:CET
DTSTART:20181028T010000
END:STANDARD
BEGIN:DAYLIGHT
TZOFFSETFROM:+0100
TZOFFSETTO:+0200
TZNAME:CEST
DTSTART:20190331T010000
END:DAYLIGHT
BEGIN:STANDARD
TZOFFSETFROM:+0200
TZOFFSETTO:+0100
TZNAME:CET
DTSTART:20191027T010000
END:STANDARD
BEGIN:DAYLIGHT
TZOFFSETFROM:+0100
TZOFFSETTO:+0200
TZNAME:CEST
DTSTART:20200329T010000
END:DAYLIGHT
BEGIN:STANDARD
TZOFFSETFROM:+0200
TZOFFSETTO:+0100
TZNAME:CET
DTSTART:20201025T010000
END:STANDARD
END:VTIMEZONE
BEGIN:VEVENT
DTSTART;TZID=Europe/Zurich:20190418T193000
DTEND;TZID=Europe/Zurich:20190422T150000
DTSTAMP:20260423T135236
CREATED:20181122T182024Z
LAST-MODIFIED:20190514T073933Z
UID:3195-1555615800-1555945200@backup.dhammapala.ch
SUMMARY:Verlängertes Meditationswochenende mit Ajahn Thanissaro - Kurssprache: Thai
DESCRIPTION:Anmeldung: Der Kurs ist ausgebucht. Bitte nehmen Sie mit uns Kontakt auf\, wenn Sie auf die Warteliste gesetzt werden möchten. \nBedingung für die Teilnahme an diesem Kurs ist die vollständige Beherrschung der thailändischen Sprache. \nZur rechtzeitigen Orientierung bitten wir Teilnehmende\, sich am ersten Tag bereits zwischen 17:00 und 18:00 Uhr im Kloster einzufinden\, um sich auf eine fünftägige Begegnung mit dem klösterlichen Lebensstil einzustimmen. Es wird erwartet\, dass man die acht ethischen Grundsätze des Klosters als verbindlich ansieht und bereit ist\, sich in der Übung des edlen Schweigens zu erfahren. Die praktischen Instruktionen und Lehrdarlegungen finden in Thai statt.
URL:https://backup.dhammapala.ch/veranstaltungen/verlaengertes-meditationswochenende-mit-ajahn-thanissaro-kurssprache-thai/
CATEGORIES:Längere & auswärtige Kurse,Thai Kurse
END:VEVENT
BEGIN:VEVENT
DTSTART;TZID=Europe/Zurich:20181226T190000
DTEND;TZID=Europe/Zurich:20190101T110000
DTSTAMP:20260423T135236
CREATED:20171128T070058Z
LAST-MODIFIED:20181108T085843Z
UID:2884-1545850800-1546340400@backup.dhammapala.ch
SUMMARY:Neujahrskurs mit Ajahn Abhinando
DESCRIPTION:Voraussetzung für die Teilnahme an diesem knapp einwöchigen Kurs ist\, dass die Teilnehmenden problemlos eine Dreiviertelstunde in Stille sitzen können. Daher ist dieser Kurs nur für Teilnehmende mit Meditationserfahrung geeignet. Außerdem wird während der gesamten Dauer strikt das Edle Schweigen eingehalten. Parallel dazu bestehen selbstverständlich  Gesprächsmöglichkeiten mit dem Lehrer. \nFür diesen Kurs werden Anmeldeformulare verschickt\, mit denen sich die Teilnehmenden formell registrieren können. Erst nach dem Erhalt der Anmeldung und der Überweisung von CHF 80.- oder EUR 70.- zum Kauf von Lebensmitteln wird die Teilnahme vom Kloster endgültig bestätigt. \nAnmeldung: Der Kurs ist voll. Bitte schicken Sie uns ein Mail\, wenn Sie auf die Warteliste gesetzt werden möchten.
URL:https://backup.dhammapala.ch/veranstaltungen/neujahrskurs-mit-ajahn-abhinando/
LOCATION:Kloster Dhammapala\, Bütschelsstrasse 74\, Kandersteg\, 3718\, Schweiz
CATEGORIES:All events,Längere & auswärtige Kurse
END:VEVENT
BEGIN:VEVENT
DTSTART;VALUE=DATE:20181003
DTEND;VALUE=DATE:20181009
DTSTAMP:20260423T135236
CREATED:20171128T070023Z
LAST-MODIFIED:20180321T140504Z
UID:2898-1538524800-1539043199@backup.dhammapala.ch
SUMMARY:Meditationsretreat mit Ajahn Khemasiri in Polen
DESCRIPTION:Die Angaben zum Ort und der Anmeldung entnehmen Sie bitte der englischen Seite.
URL:https://backup.dhammapala.ch/veranstaltungen/meditationsretreat-mit-ajahn-khemasiri-in-polen/
CATEGORIES:All events,Längere & auswärtige Kurse
END:VEVENT
BEGIN:VEVENT
DTSTART;VALUE=DATE:20180927
DTEND;VALUE=DATE:20181004
DTSTAMP:20260423T135236
CREATED:20171128T070020Z
LAST-MODIFIED:20171206T092500Z
UID:2899-1538006400-1538611199@backup.dhammapala.ch
SUMMARY:Meditationsretreat mit Ajahn Abhinando in Serbien
DESCRIPTION:Veranstaltungssprache: Englisch mit serbischer Übersetzung.
URL:https://backup.dhammapala.ch/veranstaltungen/meditationsretreat-mit-ajahn-abhinando-in-serbien/
CATEGORIES:All events,Längere & auswärtige Kurse
ORGANIZER;CN="Theravada Buddhist Society 'The Middle Way'%2C Serbia":MAILTO:budizam@yahoo.com
END:VEVENT
BEGIN:VEVENT
DTSTART;TZID=Europe/Zurich:20180901T180000
DTEND;TZID=Europe/Zurich:20180908T113000
DTSTAMP:20260423T135236
CREATED:20171128T070023Z
LAST-MODIFIED:20180315T151010Z
UID:2881-1535824800-1536406200@backup.dhammapala.ch
SUMMARY:Waches Ruhen im Gewahrsein: September-Retreat mit Ajahn Khemasiri
DESCRIPTION:Während dieser Woche der Abgeschiedenheit steht sowohl die Erforschung der Beziehung\, die wir zu unserem eigenen Geist/Gemüt haben\, als auch das Erkennen des Raums\, in dem sich das Spiel mentaler Vorgänge abspielt\, im Fokus. \nAlle inneren Zustände\, sowohl die herkömmlich weltlichen als auch die subtileren\, die während einer stillen Meditation entstehen können\, sind von ihrer Natur her begrenzt\, unbeständig\, bedingt und daher nicht verlässlich hinsichtlich einer Loslösung und der Erfahrung authentischen inneren Friedens. \nUnter praktischer Umsetzung einiger Aspekte der buddhistischen Lehre soll untersucht werden\, was geschieht\, wenn wir jegliche Fixierung auf spezielle mentale Zustände vorsichtig lösen und uns stattdessen mehr und mehr in ein waches Gewahrsein hinein entspannen\, wo das gewohnheitsmäßige Verengen des Geistes um mentale Objekte herum zurücktreten kann. Innerhalb eines sich graduell weitenden Raums der Stille und Offenheit kann dann erforscht werden\, was dem erwachenden Herzen noch im Wege steht. \nEin kontemplativer Kurs mit edlem Schweigen – inklusive Pujas\, geleiteten Meditationen\, Reflexionen\, Dialogen und Kum Nye Übungen. \nDieser Kurs ist offen für Teilnehmende mit Kurserfahrung. Nach Ende des Kurses können Teilnehmende auf Wunsch ihre Retreatzeit auf eine oder zwei Wochen innerhalb der klösterlichen stillen Wochen ausdehnen. Während dieser Zeit kümmern sie sich gleichzeitig um die Unterstützung der klösterlichen Gemeinschaft – und zwar hauptsächlich im Küchenbereich. \nFür diesen Kurs werden ca. einen Monat vorher Anmeldeformulare verschickt\, mit denen sich die Teilnehmenden formell registrieren können. Erst nach dem Erhalt der Anmeldung und der Überweisung eines Betrages zum Kauf von Lebensmitteln (ungefähr 80.- Fr. bzw. 70.- Euro) wird die Teilnahme vom Kloster endgültig bestätigt. \nAnmeldungen für diesen Kurs werden ab dem 1. März 2018 entgegen genommen.
URL:https://backup.dhammapala.ch/veranstaltungen/september-retreat-mit-ajahn-khemasiri/
LOCATION:Kloster Dhammapala\, Bütschelsstrasse 74\, Kandersteg\, 3718\, Schweiz
CATEGORIES:All events,Längere & auswärtige Kurse
END:VEVENT
BEGIN:VEVENT
DTSTART;VALUE=DATE:20180825
DTEND;VALUE=DATE:20180901
DTSTAMP:20260423T135236
CREATED:20171128T070031Z
LAST-MODIFIED:20171201T133155Z
UID:2896-1535155200-1535759999@backup.dhammapala.ch
SUMMARY:Meditationsretreat mit Ajahn Abhinando in Spanien
DESCRIPTION:Veranstaltungssprache: Spanisch.
URL:https://backup.dhammapala.ch/veranstaltungen/meditationsretreat-mit-ajahn-abhinando-in-spanien/
CATEGORIES:All events,Längere & auswärtige Kurse
END:VEVENT
BEGIN:VEVENT
DTSTART;VALUE=DATE:20180703
DTEND;VALUE=DATE:20180716
DTSTAMP:20260423T135236
CREATED:20171128T070053Z
LAST-MODIFIED:20171201T132701Z
UID:2895-1530576000-1531699199@backup.dhammapala.ch
SUMMARY:Meditationsretreat mit Ajahn Abhinando in Rumänien
DESCRIPTION:Veranstaltungssprache: Englisch mit rumänischer Übersetzung.
URL:https://backup.dhammapala.ch/veranstaltungen/meditationsretreat-mit-ajahn-abhinando-in-rumaenien/
CATEGORIES:All events,Längere & auswärtige Kurse
END:VEVENT
BEGIN:VEVENT
DTSTART;TZID=Europe/Zurich:20180629T200000
DTEND;TZID=Europe/Zurich:20180701T120000
DTSTAMP:20260423T135236
CREATED:20171128T070016Z
LAST-MODIFIED:20171117T120011Z
UID:2892-1530302400-1530446400@backup.dhammapala.ch
SUMMARY:Wochenendretreat mit Ajahn Khemasiri im Sieben Linden Ökodorf
DESCRIPTION:
URL:https://backup.dhammapala.ch/veranstaltungen/wochenendretreat-mit-ajahn-khemasiri-im-sieben-linden-oekodorf/
LOCATION:Ökodorf Sieben Linden\, Beetzendorf OT Poppau\, 38489\, Deutschland
CATEGORIES:All events,Längere & auswärtige Kurse
ORGANIZER;CN="%C3%96kodorf Sieben Linden":MAILTO:info@siebenlinden.org
END:VEVENT
BEGIN:VEVENT
DTSTART;TZID=Europe/Zurich:20180518T193000
DTEND;TZID=Europe/Zurich:20180521T160000
DTSTAMP:20260423T135236
CREATED:20171128T070036Z
LAST-MODIFIED:20180405T090628Z
UID:2866-1526671800-1526918400@backup.dhammapala.ch
SUMMARY:Verlängertes Meditationswochenende mit Ajahn Khemasiri
DESCRIPTION:Das erweiterte Wochenende beginnt am Freitag Abend um 19:30 Uhr und endet am Montag um 16 Uhr.\nZur rechtzeitigen Orientierung bitten wir Teilnehmende\, sich bereits zwischen 17:00 und 18:00 Uhr im Kloster einzufinden\, um sich auf eine viertägige Begegnung mit dem klösterlichen Lebensstil einzustimmen. Es wird erwartet\, dass man die acht ethischen Grundsätze des Klosters als verbindlich ansieht und bereit ist\, sich in der Übung des edlen Schweigens zu erfahren. Die praktischen Instruktionen und Lehrdarlegungen finden in deutscher Sprache statt. \nDamit möglichst viele Menschen von einer Einführung in die buddhistische Lehre und Meditation als auch in die klösterliche Lebensweise profitieren können\, können nur zwei Meditationswochenenden pro Jahr besucht werden. Da die Kurse häufig ausgebucht sind\, bitten wir darum\, sich nur dann anzumelden\, wenn man verbindlich während des gesamten Wochenendes teilnehmen kann. \nDas Kloster wird ausschliesslich von Spenden unterstützt und erhebt deswegen keine festen Kurskosten. Eine Lebensmittelgabe zu Beginn als auch eine Geldspende am Ende des Kurses werden dankbar entgegengenommen. Bitte unbedingt ein komplettes Set Bettwäsche plus Handtuch mitbringen. \nTagesablauf eines Meditationswochenendes \nAnmeldung: Der Kurs ist ausgebucht. Bitte schicken Sie uns ein Mail\, wenn Sie auf die Warteliste gesetzt werden möchten.
URL:https://backup.dhammapala.ch/veranstaltungen/verlaengertes-meditationswochenende-mit-ajahn-khemasiri/
CATEGORIES:All events,Längere & auswärtige Kurse,Wochenendkurse
END:VEVENT
BEGIN:VEVENT
DTSTART;TZID=Europe/Zurich:20180329T190000
DTEND;TZID=Europe/Zurich:20180402T113000
DTSTAMP:20260423T135236
CREATED:20171128T070014Z
LAST-MODIFIED:20180223T081405Z
UID:2855-1522350000-1522668600@backup.dhammapala.ch
SUMMARY:Osterretreat mit Ajahn Khemasiri - Kurssprache: Englisch
DESCRIPTION:Nur für Teilnehmer und Teilnehmerinnen\, die bereits über Meditationserfahrung und gute Englischkenntnisse verfügen. \nDas Retreat wird strikt im edlen Schweigen abgehalten. \nNähere Details über den Inhalt des Kurses finden Sie auf unserer englischsprachigen Seite unter „events“.
URL:https://backup.dhammapala.ch/veranstaltungen/osterretreat-mit-ajahn-khemasiri-kurssprache-englisch/
LOCATION:Kloster Dhammapala\, Bütschelsstrasse 74\, Kandersteg\, 3718\, Schweiz
CATEGORIES:All events,Längere & auswärtige Kurse,Wochenendkurse
END:VEVENT
BEGIN:VEVENT
DTSTART;TZID=Europe/Zurich:20171226T190000
DTEND;TZID=Europe/Zurich:20180101T110000
DTSTAMP:20260423T135236
CREATED:20150529T062403Z
LAST-MODIFIED:20170228T160015Z
UID:68-1514314800-1514804400@backup.dhammapala.ch
SUMMARY:Neujahrskurs mit Ajahn Abhinando
DESCRIPTION:Voraussetzung für die Teilnahme an diesem knapp einwöchigen Kurs ist\, dass die Teilnehmenden problemlos eine Dreiviertelstunde in Stille sitzen können. Daher ist dieser Kurs nur für Teilnehmende mit Meditationserfahrung geeignet. Außerdem wird während der gesamten Dauer strikt das Edle Schweigen eingehalten. Parallel dazu bestehen selbstverständlich  Gesprächsmöglichkeiten mit dem Lehrer. \nFür diesen Kurs werden ca. einen Monat vorher Anmeldeformulare verschickt\, mit denen sich die Teilnehmenden formell registrieren können. Erst nach dem Erhalt der Anmeldung und der Überweisung eines Betrages zum Kauf von Lebensmitteln (ca. 80\,- Fr bzw. 75\,- Euro) wird die Teilnahme vom Kloster endgültig bestätigt. \nBitte beachten: Anmeldungen für diesen Kurs werden erst ab 1. Juli 2017 entgegen genommen.
URL:https://backup.dhammapala.ch/veranstaltungen/neujahrskurs-mit-ajahn-khemasiri/
LOCATION:Kloster am Waldrand\, Bütschelsstrasse 74\, Kandersteg\, 3718 \, Switzerland
CATEGORIES:All events,Längere & auswärtige Kurse
END:VEVENT
BEGIN:VEVENT
DTSTART;VALUE=DATE:20171008
DTEND;VALUE=DATE:20171016
DTSTAMP:20260423T135236
CREATED:20151120T123652Z
LAST-MODIFIED:20170228T152306Z
UID:1931-1507420800-1508111999@backup.dhammapala.ch
SUMMARY:Meditationskurs im Kloster Segriès in Frankreich mit Ajahn Khemasiri & Kovida
DESCRIPTION:Dieser Kurs findet in einem ehemaligen christlichen Kloster in der Provence statt\, in der Nähe von Moustiers-Sainte-Marie. Die formellen Meditationen finden in der gut erhaltenen Klosterkapelle statt. Das Thema des diesjährigen Kurses ist: “Dreifache Zuflucht und die weltlichen Winde.” \nDie Kurssprache ist Englisch mit französischer Übersetzung.
URL:https://backup.dhammapala.ch/veranstaltungen/meditationskurs-in-einem-ehemaligen-christlichen-kloster-in-frankreich-mit-ajahn-khemasiri-kurssprache-englisch-mit-franzoesischer-uebersetzung/
LOCATION:Monastère de Ségriès\, Moustiers Ste-Marie\, Alpes-de-Haute-Provence\, 04360\, France
CATEGORIES:All events,Längere & auswärtige Kurse
END:VEVENT
BEGIN:VEVENT
DTSTART;TZID=Europe/Zurich:20170902T180000
DTEND;TZID=Europe/Zurich:20170909T113000
DTSTAMP:20260423T135236
CREATED:20170228T144123Z
LAST-MODIFIED:20170228T144123Z
UID:2532-1504375200-1504956600@backup.dhammapala.ch
SUMMARY:Gewahrsein als Zuflucht & Ressource - September Retreat mit Ajahn Khemasiri
DESCRIPTION:In diesem einwöchigen Kurs soll sowohl die Natur als auch die Wirkungsweise des Gewahrseins erforscht werden\, und wie es unmittelbar in den Dienst der Dhamma-Praxis und des täglichen Lebens gestellt werden kann. \nStrukturelle Übungen aus dem Satipatthana-Kontext – der Hauptlehrrede des Buddha über die vier Bereiche der Achtsamkeit – sollen den Betrachtungen zunächst Stabilität und Fokus verleihen\, ehe die Teilnehmenden dazu ermutigt werden\, sich von der Fixierung auf mentale Objekte zu lösen. Auch die Suche nach speziellen Zuständen oder Erfahrungen wird möglichst aufgegeben\, sodass die Ursachen für die Unzulänglichkeit alltäglicher menschlicher Erfahrung (dukkha) innerhalb eines sich immer weiter ausdehnenden Gewahrseins klarer wahrgenommen werden können. Anhaftung an unstabile und unzuverlässige Zustände und Erfahrungen kann somit überwunden werden und sich statdessen die wahre Natur unseres Herzens (citta) offenbaren. \nDieser Kurs ist offen für Teilnehmende mit Kurserfahrung. Nach Ende des Kurse können Teilnehmende auf Wunsch ihre Retreatzeit auf eine oder zwei Wochen innerhalb der klösterlichen stillen Wochen ausdehnen. Während dieser Zeit kümmern sie sich gleichzeitig um die Unterstützung der klösterlichen Gemeinschaft – und zwar hauptsächlich im Küchenbereich.
URL:https://backup.dhammapala.ch/veranstaltungen/gewahrsein-als-zuflucht-ressource-september-retreat-mit-ajahn-khemasiri/
LOCATION:Kloster Dhammapala\, Bütschelsstrasse 74\, Kandersteg\, 3718\, Schweiz
CATEGORIES:All events,Längere & auswärtige Kurse
END:VEVENT
BEGIN:VEVENT
DTSTART;TZID=Europe/Zurich:20170413T190000
DTEND;TZID=Europe/Zurich:20170417T113000
DTSTAMP:20260423T135236
CREATED:20151120T133250Z
LAST-MODIFIED:20170107T143739Z
UID:1947-1492110000-1492428600@backup.dhammapala.ch
SUMMARY:Osterretreat mit Ajahn Khemasiri – Kurssprache: Englisch
DESCRIPTION:Nur für Teilnehmende\, die bereits über Meditatonserfahrung verfügen. Anmeldungen von Interessenten\, deren Muttersprache nicht deutsch ist\, werden für diesen Kurs bevorzugt behandelt. \nNähere Details über den Inhalt des Kurses finden Sie im englischen Teil dieser Webseite unter ‘Events’. \n 
URL:https://backup.dhammapala.ch/veranstaltungen/meditationswochenende-mit-ajahn-khemasiri-kurssprache-englisch/
LOCATION:Kloster am Waldrand\, Bütschelsstrasse 74\, Kandersteg\, 3718 \, Switzerland
CATEGORIES:All events,Längere & auswärtige Kurse
END:VEVENT
BEGIN:VEVENT
DTSTART;VALUE=DATE:20161226
DTEND;VALUE=DATE:20170102
DTSTAMP:20260423T135236
CREATED:20151120T140638Z
LAST-MODIFIED:20161114T161959Z
UID:1957-1482710400-1483315199@backup.dhammapala.ch
SUMMARY:Neujahrskurs mit Ajahn Khemasiri für Teilnehmende mit Meditationserfahrung.
DESCRIPTION:Voraussetzung für die Teilnahme an diesem knapp einwöchigen Kurs ist\, dass die Teilnehmenden problemlos eine Dreiviertelstunde in Stille sitzen können. Außerdem wird während der gesamten Dauer strikt das Edle Schweigen eingehalten. Parallel dazu bestehen allerdings auch Gesprächsmöglichkeiten mit dem Lehrer. \nAnmeldungen für diesen Kurs werden generell bereits ab April des laufenden Jahres entgegen genommen. Alleerdings werden ca. einen Monat vor Beginn des Kurses offizielle Anmeldeformulare verschickt\, mit denen sich die Teilnehmenden dann formell registrieren können. Erst nach dem Erhalt der offiziellen Anmeldung und der Überweisung eines Betrages zum Kauf von Lebensmitteln (ca. 80\,- Fr bzw. 75\,- Euro) wird die Teilnahme vom Kloster endgültig bestätigt. \nDer Kurs ist bereits ausgebucht! Nur noch Warteliste möglich!
URL:https://backup.dhammapala.ch/veranstaltungen/neujahrskurs-mit-ajahn-khemasiri-fuer-teilnehmende-mit-meditationserfahrung/
LOCATION:Kloster am Waldrand\, Bütschelsstrasse 74\, Kandersteg\, 3718 \, Switzerland
CATEGORIES:Längere & auswärtige Kurse
END:VEVENT
BEGIN:VEVENT
DTSTART;VALUE=DATE:20160903
DTEND;VALUE=DATE:20160911
DTSTAMP:20260423T135236
CREATED:20151120T130515Z
LAST-MODIFIED:20151120T130515Z
UID:1944-1472860800-1473551999@backup.dhammapala.ch
SUMMARY:Yoniso manasikara oder 'Die Kunst der Kontemplation' Eine Schulung im gründlichen und weisen Erwägen mit Ajahn Khemasiri - für Teilnehmende mit Kurserfahrung.
DESCRIPTION:In diesem Kurs steht das gemeinsame kontemplative Ergründen im Vordergrund. Als Voraussetzung dafür dient nicht nur die ethische Struktur des Klosters\, sondern vor allem ein tiefes Verwurzeltsein in der geistigen Sammlung (Meditation). \nNach Ende des Kurses können die Teilnehmenden auf Wunsch ihre Retreatzeit bis auf zwei Wochen innerhalb der klösterlichen Retreatstruktur ausdehnen – offen nur für Teilnehmende mit Kurserfahrung.
URL:https://backup.dhammapala.ch/veranstaltungen/yoniso-manasikara-oder-die-kunst-der-kontemplation-eine-schulung-im-gruendlichen-und-weisen-erwaegen-mit-ajahn-khemasiri-fuer-teilnehmende-mit-kurserfahrung/
LOCATION:Kloster am Waldrand\, Bütschelsstrasse 74\, Kandersteg\, 3718 \, Switzerland
CATEGORIES:Längere & auswärtige Kurse
END:VEVENT
BEGIN:VEVENT
DTSTART;VALUE=DATE:20160610
DTEND;VALUE=DATE:20160613
DTSTAMP:20260423T135236
CREATED:20151221T092724Z
LAST-MODIFIED:20151221T093059Z
UID:2079-1465516800-1465775999@backup.dhammapala.ch
SUMMARY:Wochenend-Seminar mit Ajahn Khemasiri in Berlin
DESCRIPTION:
URL:https://backup.dhammapala.ch/veranstaltungen/wochenend-seminar-mit-ajahn-khemasiri-in-berlin/
LOCATION:Lotos Vihara\, Neue Blumenstrasse 5\, Berlin\, 10179\, Deutschland
CATEGORIES:Längere & auswärtige Kurse
ORGANIZER;CN="Lotos Vihara":MAILTO:info@lotos-vihara.de
END:VEVENT
BEGIN:VEVENT
DTSTART;VALUE=DATE:20151002
DTEND;VALUE=DATE:20151005
DTSTAMP:20260423T135237
CREATED:20150529T062219Z
LAST-MODIFIED:20150529T062219Z
UID:67-1443744000-1444003199@backup.dhammapala.ch
SUMMARY:Wochenendretreat in Tschechien mit Ajahn Khemasiri (in englischer Sprache mit Übersetzung)
DESCRIPTION:Ein Wochenendkurs – offen für alle – in einem altehrwürdigen christlichen Kloster in Zeliv\, einem Ort zwischen Prag und Brno. \nVeranstalter und Kontakt: buddha.mangala(a)gmail.com oder Tel: 00420 – 775 709 422
URL:https://backup.dhammapala.ch/veranstaltungen/wochenend-retreat-mit-ajahn-khemasiri-in-englischer/
CATEGORIES:Längere & auswärtige Kurse
END:VEVENT
BEGIN:VEVENT
DTSTART;VALUE=DATE:20150905
DTEND;VALUE=DATE:20150913
DTSTAMP:20260423T135237
CREATED:20150529T062144Z
LAST-MODIFIED:20150529T062144Z
UID:66-1441411200-1442102399@backup.dhammapala.ch
SUMMARY:Die Kraft der Präsenz – Meditationskurs im Kloster Dhammapala mit Ajahn Khemasiri - für Teilnehmende mit Kurserfahrung.
DESCRIPTION:In diesem Achtsamkeitskurs wird Meditation in der Stille durch gemeinsames kontemplatives Ergründen ergänzt. \nNach Ende des Kurses können die Teilnehmenden auf Wunsch ihre Retreatzeit bis auf zwei Wochen innerhalb der klösterlichen Retreatstruktur ausdehnen – offen nur für Teilnehmende mit Kurserfahrung.
URL:https://backup.dhammapala.ch/veranstaltungen/die-kraft-der-prasenz-mit-ajahn-khemasiri/
LOCATION:Kloster am Waldrand\, Bütschelsstrasse 74\, Kandersteg\, 3718 \, Switzerland
CATEGORIES:Längere & auswärtige Kurse
END:VEVENT
BEGIN:VEVENT
DTSTART;VALUE=DATE:20150820
DTEND;VALUE=DATE:20150824
DTSTAMP:20260423T135237
CREATED:20150529T062046Z
LAST-MODIFIED:20150529T062046Z
UID:65-1440028800-1440374399@backup.dhammapala.ch
SUMMARY:Raum der Stille - Buddha Haus in Allgäu
DESCRIPTION:Meditationskurs für alle.\nAlle Geistes- und Gemütszustände\, sowohl die herkömmlich weltlichen als auch die feineren\, die während der Meditation entstehen können\, sind von ihrer Natur her begrenzt\, unbeständig\, bedingt und daher letztendlich nicht verlässlich im Hinblick auf Loslösung und inneren Frieden. \nUnter praktischer Anwendung der Satipatthana Sutta soll untersucht werden\, was passiert\, wenn wir jegliche Fixierung auf spezielle mentale Zustände vorsichtig lösen und uns stattdessen mehr und mehr in ein waches Gewahrsein hinein entspannen\, wo das gewohnheitsmäßige Verengen des Geistes um mentale Objekte herum zurücktreten kann. Innerhalb eines Raums der Stille und Offenheit soll dann erforscht werden\, was dem erwachenden Herzen noch im Wege steht. \nEin kontemplativer Kurs mit edlem Schweigen – inklusive geleiteten Meditationen\, Pujas\, Reflexionen\, Dialogen und Kum Nye Übungen. \n 
URL:https://backup.dhammapala.ch/veranstaltungen/raum-der-stille-buddha-haus-im-allgau/
LOCATION:Buddha Haus im Allgäu\, info@buddha-haus.de
CATEGORIES:Längere & auswärtige Kurse
ORGANIZER;CN="Buddha Haus im Allg%C3%A4u":MAILTO:info@buddha-haus.de
END:VEVENT
BEGIN:VEVENT
DTSTART;VALUE=DATE:20150820
DTEND;VALUE=DATE:20150824
DTSTAMP:20260423T135237
CREATED:20150529T062046Z
LAST-MODIFIED:20150529T062046Z
UID:1386-1440028800-1440374399@backup.dhammapala.ch
SUMMARY:Raum der Stille - Buddha Haus in Allgäu
DESCRIPTION:Meditationskurs für alle.\nAlle Geistes- und Gemütszustände\, sowohl die herkömmlich weltlichen als auch die feineren\, die während der Meditation entstehen können\, sind von ihrer Natur her begrenzt\, unbeständig\, bedingt und daher letztendlich nicht verlässlich im Hinblick auf Loslösung und inneren Frieden. \nUnter praktischer Anwendung der Satipatthana Sutta soll untersucht werden\, was passiert\, wenn wir jegliche Fixierung auf spezielle mentale Zustände vorsichtig lösen und uns stattdessen mehr und mehr in ein waches Gewahrsein hinein entspannen\, wo das gewohnheitsmäßige Verengen des Geistes um mentale Objekte herum zurücktreten kann. Innerhalb eines Raums der Stille und Offenheit soll dann erforscht werden\, was dem erwachenden Herzen noch im Wege steht. \nEin kontemplativer Kurs mit edlem Schweigen – inklusive geleiteten Meditationen\, Pujas\, Reflexionen\, Dialogen und Kum Nye Übungen. \n 
URL:https://backup.dhammapala.ch/veranstaltungen/raum-der-stille-buddha-haus-im-allgau-2/
LOCATION:Buddha Haus im Allgäu\, info@buddha-haus.de
CATEGORIES:Längere & auswärtige Kurse
ORGANIZER;CN="Buddha Haus im Allg%C3%A4u":MAILTO:info@buddha-haus.de
END:VEVENT
END:VCALENDAR