BEGIN:VCALENDAR
VERSION:2.0
PRODID:-//Dhammapala - ECPv6.15.12.2//NONSGML v1.0//EN
CALSCALE:GREGORIAN
METHOD:PUBLISH
X-ORIGINAL-URL:https://backup.dhammapala.ch
X-WR-CALDESC:Events for Dhammapala
REFRESH-INTERVAL;VALUE=DURATION:PT1H
X-Robots-Tag:noindex
X-PUBLISHED-TTL:PT1H
BEGIN:VTIMEZONE
TZID:Europe/Zurich
BEGIN:DAYLIGHT
TZOFFSETFROM:+0100
TZOFFSETTO:+0200
TZNAME:CEST
DTSTART:20190331T010000
END:DAYLIGHT
BEGIN:STANDARD
TZOFFSETFROM:+0200
TZOFFSETTO:+0100
TZNAME:CET
DTSTART:20191027T010000
END:STANDARD
BEGIN:DAYLIGHT
TZOFFSETFROM:+0100
TZOFFSETTO:+0200
TZNAME:CEST
DTSTART:20200329T010000
END:DAYLIGHT
BEGIN:STANDARD
TZOFFSETFROM:+0200
TZOFFSETTO:+0100
TZNAME:CET
DTSTART:20201025T010000
END:STANDARD
BEGIN:DAYLIGHT
TZOFFSETFROM:+0100
TZOFFSETTO:+0200
TZNAME:CEST
DTSTART:20210328T010000
END:DAYLIGHT
BEGIN:STANDARD
TZOFFSETFROM:+0200
TZOFFSETTO:+0100
TZNAME:CET
DTSTART:20211031T010000
END:STANDARD
END:VTIMEZONE
BEGIN:VEVENT
DTSTART;TZID=Europe/Zurich:20200725T193000
DTEND;TZID=Europe/Zurich:20200726T163000
DTSTAMP:20260423T103158
CREATED:20191122T090227Z
LAST-MODIFIED:20200727T195544Z
UID:3883-1595705400-1595781000@backup.dhammapala.ch
SUMMARY:Meditationswochenende mit Ajahn Abhinando in Lausanne (Englisch)
DESCRIPTION:Meditation und Vortrag am Samstag 19:00  bis 21:30 und Praxistag am Sonntag von 9:00 bis 16:30. \nEnglisch mit Übersetzung ins Französische.
URL:https://backup.dhammapala.ch/veranstaltungen/meditationswochenende-mit-ajahn-abhinando-in-lausanne-englisch/
LOCATION:Association Mudita. L’Arzillier\, Maison du Dialogue\, av. de Rumine 62\, Lausanne\, Switzerland
CATEGORIES:All events,English courses,Längere & auswärtige Kurse
ORGANIZER;CN="Association Mudita c/o Adriana Orellana%2C adriana@mudita.ch (Anmeldung)%2C Anne Michel (Informationen)":MAILTO:info@mudita.ch
END:VEVENT
END:VCALENDAR