BEGIN:VCALENDAR
VERSION:2.0
PRODID:-//Dhammapala - ECPv6.15.12.2//NONSGML v1.0//EN
CALSCALE:GREGORIAN
METHOD:PUBLISH
X-WR-CALNAME:Dhammapala
X-ORIGINAL-URL:https://backup.dhammapala.ch
X-WR-CALDESC:Events for Dhammapala
REFRESH-INTERVAL;VALUE=DURATION:PT1H
X-Robots-Tag:noindex
X-PUBLISHED-TTL:PT1H
BEGIN:VTIMEZONE
TZID:Europe/Zurich
BEGIN:DAYLIGHT
TZOFFSETFROM:+0100
TZOFFSETTO:+0200
TZNAME:CEST
DTSTART:20190331T010000
END:DAYLIGHT
BEGIN:STANDARD
TZOFFSETFROM:+0200
TZOFFSETTO:+0100
TZNAME:CET
DTSTART:20191027T010000
END:STANDARD
BEGIN:DAYLIGHT
TZOFFSETFROM:+0100
TZOFFSETTO:+0200
TZNAME:CEST
DTSTART:20200329T010000
END:DAYLIGHT
BEGIN:STANDARD
TZOFFSETFROM:+0200
TZOFFSETTO:+0100
TZNAME:CET
DTSTART:20201025T010000
END:STANDARD
BEGIN:DAYLIGHT
TZOFFSETFROM:+0100
TZOFFSETTO:+0200
TZNAME:CEST
DTSTART:20210328T010000
END:DAYLIGHT
BEGIN:STANDARD
TZOFFSETFROM:+0200
TZOFFSETTO:+0100
TZNAME:CET
DTSTART:20211031T010000
END:STANDARD
BEGIN:DAYLIGHT
TZOFFSETFROM:+0100
TZOFFSETTO:+0200
TZNAME:CEST
DTSTART:20220327T010000
END:DAYLIGHT
BEGIN:STANDARD
TZOFFSETFROM:+0200
TZOFFSETTO:+0100
TZNAME:CET
DTSTART:20221030T010000
END:STANDARD
BEGIN:DAYLIGHT
TZOFFSETFROM:+0100
TZOFFSETTO:+0200
TZNAME:CEST
DTSTART:20230326T010000
END:DAYLIGHT
BEGIN:STANDARD
TZOFFSETFROM:+0200
TZOFFSETTO:+0100
TZNAME:CET
DTSTART:20231029T010000
END:STANDARD
END:VTIMEZONE
BEGIN:VEVENT
DTSTART;VALUE=DATE:20221102
DTEND;VALUE=DATE:20221107
DTSTAMP:20260421T134337
CREATED:20211124T105634Z
LAST-MODIFIED:20220403T192338Z
UID:5429-1667347200-1667779199@backup.dhammapala.ch
SUMMARY:Ajahn Khemasiri lehrt am Santuario di Graglia (It) - neuer Veranstaltungsort
DESCRIPTION:The three signs of existence  \nDuring this retreat we will explore in depth one of the central teachings of the Buddhist traditions: The three signs or characteristics\, which are at the core of our human experience. Uncertainty (insecurity\, impermanence)\, unsatisfactoriness (suffering\, stress) and non-self (no independent\, autonomous entity). With the powerful aid of calm & mindfulness meditation plus deep reflection in regards to our moment to moment experience \,we will try to get beyond the ordinary distortions and misperceptions of the unknowing everyday mind\, and instead see things as they truly are .The growing ability to relate to one’s own personal experience with a knowing\, fully aware consciousness is the doorway to the liberation of the heart. \nPlease note: New retreat venue: \n\nSANTUARIO DI GRAGLIA\n\n\n\n\nVia Campiglie\, 1\, 13895 Graglia B \n\n\n\nLink to registration: https://progettopienessere.org/ritiri-eventi/ajahnkhemasiri/
URL:https://backup.dhammapala.ch/veranstaltungen/ajahn-khemasiri-lehrt-am-eremo-di-montecastello-it/
CATEGORIES:All events,English courses,Längere & auswärtige Kurse
END:VEVENT
BEGIN:VEVENT
DTSTART;TZID=Europe/Zurich:20220930T190000
DTEND;TZID=Europe/Zurich:20221002T190000
DTSTAMP:20260421T134337
CREATED:20211029T080737Z
LAST-MODIFIED:20220709T121623Z
UID:5295-1664564400-1664737200@backup.dhammapala.ch
SUMMARY:Meditationswochenende mit Ajahn Abhinando (Englisch) ausgebucht: Warteliste für Frauen und Männer
DESCRIPTION:Kurssprache: Englisch \nDie Wochenenden beginnen jeweils am Freitag Abend um 19:00 Uhr und enden am Sonntag um 16:30 Uhr.\nZur rechtzeitigen Orientierung bitten wir Teilnehmende\, sich bereits zwischen 17:00 und 18:00 Uhr im Kloster einzufinden\, um sich auf eine dreitägige Begegnung mit dem klösterlichen Lebensstil einzustimmen. Es wird erwartet\, dass man die acht ethischen Grundsätze des Klosters als verbindlich ansieht und bereit ist\, sich in der Übung des edlen Schweigens zu erfahren. Die praktischen Instruktionen und Lehrdarlegungen finden in englischer Sprache statt. \nDamit möglichst viele Menschen von einer Einführung in die buddhistische Lehre und Meditation als auch in die klösterliche Lebensweise profitieren können\, können nur zwei Meditationswochenenden pro Jahr besucht werden. Da die Kurse häufig ausgebucht sind\, bitten wir darum\, sich nur dann anzumelden\, wenn man verbindlich während des gesamten Wochenendes teilnehmen kann. \nDas Kloster wird ausschliesslich von Spenden unterstützt und erhebt deswegen keine festen Kurskosten. Eine Lebensmittelgabe zu Beginn als auch eine Geldspende am Ende des Kurses werden dankbar entgegengenommen. \nTagesablauf eines Meditationswochenendes \nAnmeldung ab 30.06.22: Guestregistration_eng
URL:https://backup.dhammapala.ch/veranstaltungen/meditationswochenende-mit-ajahn-abhinando-8/
LOCATION:Kloster Dhammapala\, Bütschelsstrasse 74\, Kandersteg\, 3718\, Schweiz
CATEGORIES:All events,English courses,Wochenendkurse
END:VEVENT
BEGIN:VEVENT
DTSTART;TZID=Europe/Zurich:20220715T190000
DTEND;TZID=Europe/Zurich:20220717T163000
DTSTAMP:20260421T134337
CREATED:20211029T075947Z
LAST-MODIFIED:20220704T120913Z
UID:5291-1657911600-1658075400@backup.dhammapala.ch
SUMMARY:Meditationswochenende mit Ajahn Abhinando (Englisch)(ausgebucht für Frauen\, Warteliste)
DESCRIPTION:Kurssprache: Englisch\n \nDie Wochenenden beginnen jeweils am Freitag Abend um 19:00 Uhr und enden am Sonntag um 16:30 Uhr.\nZur rechtzeitigen Orientierung bitten wir Teilnehmende\, sich bereits zwischen 17:00 und 18:00 Uhr im Kloster einzufinden\, um sich auf eine dreitägige Begegnung mit dem klösterlichen Lebensstil einzustimmen. Es wird erwartet\, dass man die acht ethischen Grundsätze des Klosters als verbindlich ansieht und bereit ist\, sich in der Übung des edlen Schweigens zu erfahren. Die praktischen Instruktionen und Lehrdarlegungen finden in englischer Sprache statt. \nDamit möglichst viele Menschen von einer Einführung in die buddhistische Lehre und Meditation als auch in die klösterliche Lebensweise profitieren können\, können nur zwei Meditationswochenenden pro Jahr besucht werden. Da die Kurse häufig ausgebucht sind\, bitten wir darum\, sich nur dann anzumelden\, wenn man verbindlich während des gesamten Wochenendes teilnehmen kann. \nDas Kloster wird ausschliesslich von Spenden unterstützt und erhebt deswegen keine festen Kurskosten. Eine Lebensmittelgabe zu Beginn als auch eine Geldspende am Ende des Kurses werden dankbar entgegengenommen. Bitte unbedingt ein komplettes Set Bettwäsche plus Handtuch mitbringen. \nTagesablauf eines Meditationswochenendes \nAnmeldung ab 15.04.22: Guestregistration_eng
URL:https://backup.dhammapala.ch/veranstaltungen/meditationswochenende-mit-ajahn-abhinando-englisch-3/
LOCATION:Kloster Dhammapala\, Bütschelsstrasse 74\, Kandersteg\, 3718\, Schweiz
CATEGORIES:All events,English courses,Wochenendkurse
END:VEVENT
BEGIN:VEVENT
DTSTART;VALUE=DATE:20220506
DTEND;VALUE=DATE:20220512
DTSTAMP:20260421T134337
CREATED:20211029T075546Z
LAST-MODIFIED:20211029T075546Z
UID:5289-1651795200-1652313599@backup.dhammapala.ch
SUMMARY:Meditationskurs mit Ajahn Abhinando im Maison Mudita
DESCRIPTION:Das Retreat findet in englischer Sprache mit französischer Übersetzung statt.
URL:https://backup.dhammapala.ch/veranstaltungen/meditationskurs-mit-ajahn-abhinando-im-maison-mudita-3/
LOCATION:Maison Mudita\, Abländschen
CATEGORIES:All events,English courses,Längere & auswärtige Kurse
ORGANIZER;CN="Association Mudita c/o Adriana Orellana%2C adriana@mudita.ch (Anmeldung)%2C Anne Michel (Informationen)":MAILTO:info@mudita.ch
END:VEVENT
BEGIN:VEVENT
DTSTART;TZID=Europe/Zurich:20210813T190000
DTEND;TZID=Europe/Zurich:20210815T163000
DTSTAMP:20260421T134337
CREATED:20201128T075708Z
LAST-MODIFIED:20210609T080206Z
UID:4758-1628881200-1629045000@backup.dhammapala.ch
SUMMARY:Meditationswochenende mit Ajahn Abhinando (Englisch)
DESCRIPTION:Kurssprache: Englisch \nDie Wochenenden beginnen jeweils am Freitag Abend um 19:00 Uhr und enden am Sonntag um 16:30 Uhr.\nZur rechtzeitigen Orientierung bitten wir Teilnehmende\, sich bereits zwischen 17:00 und 18:00 Uhr im Kloster einzufinden\, um sich auf eine dreitägige Begegnung mit dem klösterlichen Lebensstil einzustimmen. Es wird erwartet\, dass man die acht ethischen Grundsätze des Klosters als verbindlich ansieht und bereit ist\, sich in der Übung des edlen Schweigens zu erfahren. Die praktischen Instruktionen und Lehrdarlegungen finden in deutscher Sprache statt. \nDamit möglichst viele Menschen von einer Einführung in die buddhistische Lehre und Meditation als auch in die klösterliche Lebensweise profitieren können\, können nur zwei Meditationswochenenden pro Jahr besucht werden. Da die Kurse häufig ausgebucht sind\, bitten wir darum\, sich nur dann anzumelden\, wenn man verbindlich während des gesamten Wochenendes teilnehmen kann. \nDas Kloster wird ausschliesslich von Spenden unterstützt und erhebt deswegen keine festen Kurskosten. Eine Lebensmittelgabe zu Beginn als auch eine Geldspende am Ende des Kurses werden dankbar entgegengenommen. Bitte unbedingt ein komplettes Set Bettwäsche plus Handtuch mitbringen. \nTagesablauf eines Meditationswochenendes \nAnmeldung: Der Kurs ist ausgebucht. Bitte schicken Sie uns  das ausgefüllte Formular per Mail oder per Post zu\, wenn Sie auf die Warteliste gesetzt werden möchten. \nAnmeldeformular: Gästeregistration_Wochenende (pdf)
URL:https://backup.dhammapala.ch/veranstaltungen/meditationswochenende-mit-ajahn-abhinando-englisch/
LOCATION:Kloster Dhammapala\, Bütschelsstrasse 74\, Kandersteg\, 3718\, Schweiz
CATEGORIES:All events,English courses,Wochenendkurse
END:VEVENT
BEGIN:VEVENT
DTSTART;VALUE=DATE:20210702
DTEND;VALUE=DATE:20210708
DTSTAMP:20260421T134337
CREATED:20201128T080138Z
LAST-MODIFIED:20201201T081055Z
UID:4776-1625184000-1625702399@backup.dhammapala.ch
SUMMARY:Meditationskurs mit Ajahn Khemasiri im Maison Mudita
DESCRIPTION:Das Retreat findet in englischer Sprache mit französischer Übersetzung statt. \nKnowing and healing the heart-mind \nDuring the meditative explorations of the retreat we will be using the most fundamental teachings of the Buddha regarding the development of the heart-mind (citta): the satipatthana sutta. By remembering\, applying and deepening the faculty of mindfulness in all areas of life\, we orient ourselves towards a state of being\, where we can simply rest as awareness\, instead of constantly striving to achieve some other mental-emotional state based on our personal preferences.. In this way we can simultaneously allow the more boundless qualities of the heart-mind (love\, compassion\, joy and serenity) to shine forth and enrich our lives accordingly. \nThe retreat will be held in silence within the monastic ethical structure of the 8-precepts\, which includes also precepts of restraint\, i.e. not having an evening meal! A schedule of sitting and walking meditation will be combined with active meditation such as cleaning and sharing cooking duties.  \nBesides sitting and walking meditation instructions\, there will be some guidance in slow movement Kum Nye exercises and opportunities for group and/or personal dialogue.
URL:https://backup.dhammapala.ch/veranstaltungen/meditationskurs-mit-ajahn-khemasiri-im-maison-mudita/
LOCATION:Maison Mudita\, Abländschen
CATEGORIES:All events,English courses,Längere & auswärtige Kurse
ORGANIZER;CN="Association Mudita c/o Adriana Orellana%2C adriana@mudita.ch (Anmeldung)%2C Anne Michel (Informationen)":MAILTO:info@mudita.ch
END:VEVENT
BEGIN:VEVENT
DTSTART;TZID=Europe/Zurich:20210625T190000
DTEND;TZID=Europe/Zurich:20210627T163000
DTSTAMP:20260421T134337
CREATED:20201128T080253Z
LAST-MODIFIED:20210623T142711Z
UID:4754-1624647600-1624811400@backup.dhammapala.ch
SUMMARY:Meditationswochenende mit Ajahn Abhinando (Englisch)
DESCRIPTION:Die Wochenenden beginnen jeweils am Freitag Abend um 19:00 Uhr und enden am Sonntag um 16:30 Uhr.\nZur rechtzeitigen Orientierung bitten wir Teilnehmende\, sich bereits zwischen 17:00 und 18:00 Uhr im Kloster einzufinden\, um sich auf eine dreitägige Begegnung mit dem klösterlichen Lebensstil einzustimmen. Es wird erwartet\, dass man die acht ethischen Grundsätze des Klosters als verbindlich ansieht und bereit ist\, sich in der Übung des edlen Schweigens zu erfahren. Die praktischen Instruktionen und Lehrdarlegungen finden in deutscher Sprache statt. \nDamit möglichst viele Menschen von einer Einführung in die buddhistische Lehre und Meditation als auch in die klösterliche Lebensweise profitieren können\, können nur zwei Meditationswochenenden pro Jahr besucht werden. Da die Kurse häufig ausgebucht sind\, bitten wir darum\, sich nur dann anzumelden\, wenn man verbindlich während des gesamten Wochenendes teilnehmen kann. \nDas Kloster wird ausschliesslich von Spenden unterstützt und erhebt deswegen keine festen Kurskosten. Eine Lebensmittelgabe zu Beginn als auch eine Geldspende am Ende des Kurses werden dankbar entgegengenommen. Bitte unbedingt ein komplettes Set Bettwäsche plus Handtuch mitbringen. \nTagesablauf eines Meditationswochenendes \nDer Kurs ist voll gebucht.
URL:https://backup.dhammapala.ch/veranstaltungen/meditationswochenende-mit-ajahn-abhinando-englisch-2/
CATEGORIES:All events,English courses,Wochenendkurse
END:VEVENT
BEGIN:VEVENT
DTSTART;VALUE=DATE:20210507
DTEND;VALUE=DATE:20210512
DTSTAMP:20260421T134337
CREATED:20201123T085334Z
LAST-MODIFIED:20210427T134423Z
UID:4748-1620345600-1620777599@backup.dhammapala.ch
SUMMARY:Abgesagt: Meditationskurs mit Ajahn Abhinando im Maison Mudita
DESCRIPTION:Kurssprache: Englisch mit französischer Übersetzung.
URL:https://backup.dhammapala.ch/veranstaltungen/meditationskurs-mit-ajahn-abhinando-im-maison-mudita-2/
LOCATION:Maison Mudita\, Abländschen
CATEGORIES:All events,English courses,Längere & auswärtige Kurse
ORGANIZER;CN="Association Mudita c/o Adriana Orellana%2C adriana@mudita.ch (Anmeldung)%2C Anne Michel (Informationen)":MAILTO:info@mudita.ch
END:VEVENT
BEGIN:VEVENT
DTSTART;TZID=Europe/Zurich:20201226T190000
DTEND;TZID=Europe/Zurich:20210102T110000
DTSTAMP:20260421T134337
CREATED:20191122T080809Z
LAST-MODIFIED:20200727T195453Z
UID:3901-1609009200-1609585200@backup.dhammapala.ch
SUMMARY:Neujahrskurs mit Ajahn Abhinando - Kurssprache: Englisch
DESCRIPTION:Voraussetzung für die Teilnahme an diesem knapp einwöchigen Kurs ist\, dass die Teilnehmenden problemlos eine Dreiviertelstunde in Stille sitzen können. Daher ist dieser Kurs nur für Teilnehmende mit Meditationserfahrung geeignet. Außerdem wird während der gesamten Dauer strikt das Edle Schweigen eingehalten. Parallel dazu bestehen selbstverständlich Gesprächsmöglichkeiten mit dem Lehrer. \nWeitere Informationen finden Sie auf der englischsprachigen Seite.
URL:https://backup.dhammapala.ch/veranstaltungen/neujahrskurs-mit-ajahn-abhinando-kurssprache-englisch/
CATEGORIES:All events,English courses,Längere & auswärtige Kurse
END:VEVENT
BEGIN:VEVENT
DTSTART;TZID=Europe/Zurich:20200807T190000
DTEND;TZID=Europe/Zurich:20200809T160000
DTSTAMP:20260421T134337
CREATED:20191122T085449Z
LAST-MODIFIED:20200729T065416Z
UID:3885-1596826800-1596988800@backup.dhammapala.ch
SUMMARY:Meditationswochenende mit Ajahn Abhinando - Kurssprache: Englisch
DESCRIPTION:Link to the English course description\n\nDie Wochenenden beginnen jeweils am Freitag Abend um 19:00 Uhr und enden am Sonntag um 16 Uhr.\nZur rechtzeitigen Orientierung bitten wir Teilnehmende\, sich bereits zwischen 17:00 und 18:00 Uhr im Kloster einzufinden\, um sich auf eine dreitägige Begegnung mit dem klösterlichen Lebensstil einzustimmen. Es wird erwartet\, dass man die acht ethischen Grundsätze des Klosters als verbindlich ansieht und bereit ist\, sich in der Übung des edlen Schweigens zu erfahren. Die praktischen Instruktionen und Lehrdarlegungen für diesen Kurs finden in englischer Sprache statt. \nDamit möglichst viele Menschen von einer Einführung in die buddhistische Lehre und Meditation als auch in die klösterliche Lebensweise profitieren können\, können nur zwei Meditationswochenenden pro Jahr besucht werden. Da die Kurse häufig ausgebucht sind\, bitten wir darum\, sich nur dann anzumelden\, wenn man verbindlich während des gesamten Wochenendes teilnehmen kann. \nDas Kloster wird ausschliesslich von Spenden unterstützt und erhebt deswegen keine festen Kurskosten. Eine Lebensmittelgabe zu Beginn als auch eine Geldspende am Ende des Kurses werden dankbar entgegengenommen. Bitte unbedingt ein komplettes Set Bettwäsche plus Handtuch mitbringen. \nTagesablauf eines Meditationswochenendes \nThe course is fully booked and there is a waiting list for this course.
URL:https://backup.dhammapala.ch/veranstaltungen/meditationswochenende-mit-ajahn-abhinando-kurssprache-englisch-2/
CATEGORIES:All events,English courses,Wochenendkurse
END:VEVENT
BEGIN:VEVENT
DTSTART;TZID=Europe/Zurich:20200725T193000
DTEND;TZID=Europe/Zurich:20200726T163000
DTSTAMP:20260421T134337
CREATED:20191122T090227Z
LAST-MODIFIED:20200727T195544Z
UID:3883-1595705400-1595781000@backup.dhammapala.ch
SUMMARY:Meditationswochenende mit Ajahn Abhinando in Lausanne (Englisch)
DESCRIPTION:Meditation und Vortrag am Samstag 19:00  bis 21:30 und Praxistag am Sonntag von 9:00 bis 16:30. \nEnglisch mit Übersetzung ins Französische.
URL:https://backup.dhammapala.ch/veranstaltungen/meditationswochenende-mit-ajahn-abhinando-in-lausanne-englisch/
LOCATION:Association Mudita. L’Arzillier\, Maison du Dialogue\, av. de Rumine 62\, Lausanne\, Switzerland
CATEGORIES:All events,English courses,Längere & auswärtige Kurse
ORGANIZER;CN="Association Mudita c/o Adriana Orellana%2C adriana@mudita.ch (Anmeldung)%2C Anne Michel (Informationen)":MAILTO:info@mudita.ch
END:VEVENT
END:VCALENDAR